Workbook

Sheet Information
A1: PET Resin — USA Trade Data
A2: HTS codes tracked:
A3: 3907.61.0010 | B3: PET resin imports — IV ≥ 0.78 but ≤ 0.88 bottle grade
A4: 3907.61.0050 | B4: PET resin imports — IV > 0.88 high IV
A5: 3907.69.0010 | B5: PET resin imports — IV ≥ 0.70 but < 0.78 packaging grade
A6: 3907.69.0050 | B6: PET resin imports — IV < 0.70 (PCR territory)
A7: 3907.61.0000 | B7: PET resin exports — IV ≥ 0.70
A8: 3907.69.0000 | B8: PET resin exports — IV < 0.70
A10: Data through: 2026-08
A11: Source: U.S. Census Bureau International Trade API

Sheet Imp 3907610010
A1: IMPORTS 3907.61.0010 — IV ≥ 0.78 but ≤ 0.88 bottle grade
A2: Country | B2: YTD 2026 | I2: August 2026 | L2: July 2026 | O2: June 2026 | R2: May 2026 | U2: April 2026 | X2: March 2026 | AA2: February 2026 | AD2: January 2026 | AG2: December 2025 | AJ2: November 2025 | AM2: October 2025 | AP2: September 2025 | AS2: August 2025 | AV2: July 2025 | AY2: June 2025 | BB2: May 2025 | BE2: April 2025 | BH2: March 2025 | BK2: February 2025 | BN2: January 2025 | BQ2: December 2024 | BT2: November 2024 | BW2: October 2024 | BZ2: September 2024 | CC2: August 2024 | CF2: July 2024 | CI2: June 2024 | CL2: May 2024 | CO2: April 2024 | CR2: March 2024 | CU2: February 2024 | CX2: January 2024 | DA2: December 2023 | DD2: November 2023 | DG2: October 2023 | DJ2: September 2023 | DM2: August 2023 | DP2: July 2023 | DS2: June 2023 | DV2: May 2023 | DY2: April 2023 | EB2: March 2023 | EE2: February 2023 | EH2: January 2023 | EK2: December 2022 | EN2: November 2022 | EQ2: October 2022 | ET2: September 2022 | EW2: August 2022 | EZ2: July 2022 | FC2: June 2022 | FF2: May 2022 | FI2: April 2022 | FL2: March 2022 | FO2: February 2022 | FR2: January 2022
B3: Value | C3: Quantity | D3: Quantity | E3: Quantity | F3: Price | G3: Price | I3: Value | J3: Quantity | K3: Price | L3: Value | M3: Quantity | N3: Price | O3: Value | P3: Quantity | Q3: Price | R3: Value | S3: Quantity | T3: Price | U3: Value | V3: Quantity | W3: Price | X3: Value | Y3: Quantity | Z3: Price | AA3: Value | AB3: Quantity | AC3: Price | AD3: Value | AE3: Quantity | AF3: Price | AG3: Value | AH3: Quantity | AI3: Price | AJ3: Value | AK3: Quantity | AL3: Price | AM3: Value | AN3: Quantity | AO3: Price | AP3: Value | AQ3: Quantity | AR3: Price | AS3: Value | AT3: Quantity | AU3: Price | AV3: Value | AW3: Quantity | AX3: Price | AY3: Value | AZ3: Quantity | BA3: Price | BB3: Value | BC3: Quantity | BD3: Price | BE3: Value | BF3: Quantity | BG3: Price | BH3: Value | BI3: Quantity | BJ3: Price | BK3: Value | BL3: Quantity | BM3: Price | BN3: Value | BO3: Quantity | BP3: Price | BQ3: Value | BR3: Quantity | BS3: Price | BT3: Value | BU3: Quantity | BV3: Price | BW3: Value | BX3: Quantity | BY3: Price | BZ3: Value | CA3: Quantity | CB3: Price | CC3: Value | CD3: Quantity | CE3: Price | CF3: Value | CG3: Quantity | CH3: Price | CI3: Value | CJ3: Quantity | CK3: Price | CL3: Value | CM3: Quantity | CN3: Price | CO3: Value | CP3: Quantity | CQ3: Price | CR3: Value | CS3: Quantity | CT3: Price | CU3: Value | CV3: Quantity | CW3: Price | CX3: Value | CY3: Quantity | CZ3: Price | DA3: Value | DB3: Quantity | DC3: Price | DD3: Value | DE3: Quantity | DF3: Price | DG3: Value | DH3: Quantity | DI3: Price | DJ3: Value | DK3: Quantity | DL3: Price | DM3: Value | DN3: Quantity | DO3: Price | DP3: Value | DQ3: Quantity | DR3: Price | DS3: Value | DT3: Quantity | DU3: Price | DV3: Value | DW3: Quantity | DX3: Price | DY3: Value | DZ3: Quantity | EA3: Price | EB3: Value | EC3: Quantity | ED3: Price | EE3: Value | EF3: Quantity | EG3: Price | EH3: Value | EI3: Quantity | EJ3: Price | EK3: Value | EL3: Quantity | EM3: Price | EN3: Value | EO3: Quantity | EP3: Price | EQ3: Value | ER3: Quantity | ES3: Price | ET3: Value | EU3: Quantity | EV3: Price | EW3: Value | EX3: Quantity | EY3: Price | EZ3: Value | FA3: Quantity | FB3: Price | FC3: Value | FD3: Quantity | FE3: Price | FF3: Value | FG3: Quantity | FH3: Price | FI3: Value | FJ3: Quantity | FK3: Price | FL3: Value | FM3: Quantity | FN3: Price | FO3: Value | FP3: Quantity | FQ3: Price | FR3: Value | FS3: Quantity | FT3: Price
B4: US$ | C4: KG | D4: KMT | E4: MM lbs | F4: $/ton | G4: $/lb | I4: US$ | J4: KG | K4: $/lb | L4: US$ | M4: KG | N4: $/lb | O4: US$ | P4: KG | Q4: $/lb | R4: US$ | S4: KG | T4: $/lb | U4: US$ | V4: KG | W4: $/lb | X4: US$ | Y4: KG | Z4: $/lb | AA4: US$ | AB4: KG | AC4: $/lb | AD4: US$ | AE4: KG | AF4: $/lb | AG4: US$ | AH4: KG | AI4: $/lb | AJ4: US$ | AK4: KG | AL4: $/lb | AM4: US$ | AN4: KG | AO4: $/lb | AP4: US$ | AQ4: KG | AR4: $/lb | AS4: US$ | AT4: KG | AU4: $/lb | AV4: US$ | AW4: KG | AX4: $/lb | AY4: US$ | AZ4: KG | BA4: $/lb | BB4: US$ | BC4: KG | BD4: $/lb | BE4: US$ | BF4: KG | BG4: $/lb | BH4: US$ | BI4: KG | BJ4: $/lb | BK4: US$ | BL4: KG | BM4: $/lb | BN4: US$ | BO4: KG | BP4: $/lb | BQ4: US$ | BR4: KG | BS4: $/lb | BT4: US$ | BU4: KG | BV4: $/lb | BW4: US$ | BX4: KG | BY4: $/lb | BZ4: US$ | CA4: KG | CB4: $/lb | CC4: US$ | CD4: KG | CE4: $/lb | CF4: US$ | CG4: KG | CH4: $/lb | CI4: US$ | CJ4: KG | CK4: $/lb | CL4: US$ | CM4: KG | CN4: $/lb | CO4: US$ | CP4: KG | CQ4: $/lb | CR4: US$ | CS4: KG | CT4: $/lb | CU4: US$ | CV4: KG | CW4: $/lb | CX4: US$ | CY4: KG | CZ4: $/lb | DA4: US$ | DB4: KG | DC4: $/lb | DD4: US$ | DE4: KG | DF4: $/lb | DG4: US$ | DH4: KG | DI4: $/lb | DJ4: US$ | DK4: KG | DL4: $/lb | DM4: US$ | DN4: KG | DO4: $/lb | DP4: US$ | DQ4: KG | DR4: $/lb | DS4: US$ | DT4: KG | DU4: $/lb | DV4: US$ | DW4: KG | DX4: $/lb | DY4: US$ | DZ4: KG | EA4: $/lb | EB4: US$ | EC4: KG | ED4: $/lb | EE4: US$ | EF4: KG | EG4: $/lb | EH4: US$ | EI4: KG | EJ4: $/lb | EK4: US$ | EL4: KG | EM4: $/lb | EN4: US$ | EO4: KG | EP4: $/lb | EQ4: US$ | ER4: KG | ES4: $/lb | ET4: US$ | EU4: KG | EV4: $/lb | EW4: US$ | EX4: KG | EY4: $/lb | EZ4: US$ | FA4: KG | FB4: $/lb | FC4: US$ | FD4: KG | FE4: $/lb | FF4: US$ | FG4: KG | FH4: $/lb | FI4: US$ | FJ4: KG | FK4: $/lb | FL4: US$ | FM4: KG | FN4: $/lb | FO4: US$ | FP4: KG | FQ4: $/lb | FR4: US$ | FS4: KG | FT4: $/lb
A5: World Total | B5: =SUM(I5,L5,O5,R5,U5,X5,AA5,AD5) | C5: =SUM(J5,M5,P5,S5,V5,Y5,AB5,AE5) | D5: =C5/1000000 | E5: =C5*2.20462262185/1000000 | F5: =IFERROR(B5/(C5/1000),0) | G5: =IFERROR(B5/(C5*2.20462262185),0) | I5: 78728809 | J5: 64114921 | K5: =IFERROR(I5/(J5*2.20462262185),0) | L5: 106505030 | M5: 83596088 | N5: =IFERROR(L5/(M5*2.20462262185),0) | O5: 91067674 | P5: 72546853 | Q5: =IFERROR(O5/(P5*2.20462262185),0) | R5: 83170141 | S5: 69527410 | T5: =IFERROR(R5/(S5*2.20462262185),0) | U5: 71242022 | V5: 67179723 | W5: =IFERROR(U5/(V5*2.20462262185),0) | X5: 69202422 | Y5: 66487194 | Z5: =IFERROR(X5/(Y5*2.20462262185),0) | AA5: 75063267 | AB5: 71301302 | AC5: =IFERROR(AA5/(AB5*2.20462262185),0) | AD5: 66769154 | AE5: 64280168 | AF5: =IFERROR(AD5/(AE5*2.20462262185),0) | AG5: 54065784 | AH5: 48787840 | AI5: =IFERROR(AG5/(AH5*2.20462262185),0) | AJ5: 41905650 | AK5: 39131132 | AL5: =IFERROR(AJ5/(AK5*2.20462262185),0) | AM5: 56260798 | AN5: 54557026 | AO5: =IFERROR(AM5/(AN5*2.20462262185),0) | AP5: 71617966 | AQ5: 69329117 | AR5: =IFERROR(AP5/(AQ5*2.20462262185),0) | AS5: 76534645 | AT5: 70536323 | AU5: =IFERROR(AS5/(AT5*2.20462262185),0) | AV5: 81761651 | AW5: 74617781 | AX5: =IFERROR(AV5/(AW5*2.20462262185),0) | AY5: 78273090 | AZ5: 71503534 | BA5: =IFERROR(AY5/(AZ5*2.20462262185),0) | BB5: 93072973 | BC5: 84420951 | BD5: =IFERROR(BB5/(BC5*2.20462262185),0) | BE5: 88409696 | BF5: 80665119 | BG5: =IFERROR(BE5/(BF5*2.20462262185),0) | BH5: 106022668 | BI5: 92329091 | BJ5: =IFERROR(BH5/(BI5*2.20462262185),0) | BK5: 85699578 | BL5: 71407270 | BM5: =IFERROR(BK5/(BL5*2.20462262185),0) | BN5: 98171327 | BO5: 83887373 | BP5: =IFERROR(BN5/(BO5*2.20462262185),0) | BQ5: 80879604 | BR5: 67326635 | BS5: =IFERROR(BQ5/(BR5*2.20462262185),0) | BT5: 80072562 | BU5: 65232661 | BV5: =IFERROR(BT5/(BU5*2.20462262185),0) | BW5: 84205637 | BX5: 67098265 | BY5: =IFERROR(BW5/(BX5*2.20462262185),0) | BZ5: 86610587 | CA5: 68453025 | CB5: =IFERROR(BZ5/(CA5*2.20462262185),0) | CC5: 73323285 | CD5: 59213440 | CE5: =IFERROR(CC5/(CD5*2.20462262185),0) | CF5: 83317298 | CG5: 71184644 | CH5: =IFERROR(CF5/(CG5*2.20462262185),0) | CI5: 76526475 | CJ5: 63291300 | CK5: =IFERROR(CI5/(CJ5*2.20462262185),0) | CL5: 72142135 | CM5: 60609026 | CN5: =IFERROR(CL5/(CM5*2.20462262185),0) | CO5: 81490915 | CP5: 69245164 | CQ5: =IFERROR(CO5/(CP5*2.20462262185),0) | CR5: 89426709 | CS5: 73445045 | CT5: =IFERROR(CR5/(CS5*2.20462262185),0) | CU5: 69448197 | CV5: 59457611 | CW5: =IFERROR(CU5/(CV5*2.20462262185),0) | CX5: 88805260 | CY5: 78775765 | CZ5: =IFERROR(CX5/(CY5*2.20462262185),0) | DA5: 83493664 | DB5: 70825121 | DC5: =IFERROR(DA5/(DB5*2.20462262185),0) | DD5: 85990195 | DE5: 69643970 | DF5: =IFERROR(DD5/(DE5*2.20462262185),0) | DG5: 101532213 | DH5: 87467002 | DI5: =IFERROR(DG5/(DH5*2.20462262185),0) | DJ5: 100524884 | DK5: 83090028 | DL5: =IFERROR(DJ5/(DK5*2.20462262185),0) | DM5: 89809227 | DN5: 69128793 | DO5: =IFERROR(DM5/(DN5*2.20462262185),0) | DP5: 79737488 | DQ5: 62882646 | DR5: =IFERROR(DP5/(DQ5*2.20462262185),0) | DS5: 80002231 | DT5: 61353348 | DU5: =IFERROR(DS5/(DT5*2.20462262185),0) | DV5: 77779806 | DW5: 58135601 | DX5: =IFERROR(DV5/(DW5*2.20462262185),0) | DY5: 74427434 | DZ5: 57324981 | EA5: =IFERROR(DY5/(DZ5*2.20462262185),0) | EB5: 72362461 | EC5: 53632790 | ED5: =IFERROR(EB5/(EC5*2.20462262185),0) | EE5: 93978606 | EF5: 68798976 | EG5: =IFERROR(EE5/(EF5*2.20462262185),0) | EH5: 94024737 | EI5: 67803376 | EJ5: =IFERROR(EH5/(EI5*2.20462262185),0) | EK5: 93483013 | EL5: 63379508 | EM5: =IFERROR(EK5/(EL5*2.20462262185),0) | EN5: 108620575 | EO5: 72560661 | EP5: =IFERROR(EN5/(EO5*2.20462262185),0) | EQ5: 125396010 | ER5: 76401220 | ES5: =IFERROR(EQ5/(ER5*2.20462262185),0) | ET5: 126722222 | EU5: 73051031 | EV5: =IFERROR(ET5/(EU5*2.20462262185),0) | EW5: 147498924 | EX5: 86110531 | EY5: =IFERROR(EW5/(EX5*2.20462262185),0) | EZ5: 143872692 | FA5: 87057998 | FB5: =IFERROR(EZ5/(FA5*2.20462262185),0) | FC5: 145078389 | FD5: 93738336 | FE5: =IFERROR(FC5/(FD5*2.20462262185),0) | FF5: 154987249 | FG5: 102310644 | FH5: =IFERROR(FF5/(FG5*2.20462262185),0) | FI5: 139963853 | FJ5: 92025878 | FK5: =IFERROR(FI5/(FJ5*2.20462262185),0) | FL5: 132832251 | FM5: 93907216 | FN5: =IFERROR(FL5/(FM5*2.20462262185),0) | FO5: 108177087 | FP5: 78755251 | FQ5: =IFERROR(FO5/(FP5*2.20462262185),0) | FR5: 112965433 | FS5: 83664390 | FT5: =IFERROR(FR5/(FS5*2.20462262185),0)
A6: Mexico | B6: =SUM(I6,L6,O6,R6,U6,X6,AA6,AD6) | C6: =SUM(J6,M6,P6,S6,V6,Y6,AB6,AE6) | D6: =C6/1000000 | E6: =C6*2.20462262185/1000000 | F6: =IFERROR(B6/(C6/1000),0) | G6: =IFERROR(B6/(C6*2.20462262185),0) | I6: 26831061 | J6: 19528438 | K6: =IFERROR(I6/(J6*2.20462262185),0) | L6: 34258671 | M6: 25030120 | N6: =IFERROR(L6/(M6*2.20462262185),0) | O6: 28639559 | P6: 20715163 | Q6: =IFERROR(O6/(P6*2.20462262185),0) | R6: 32269797 | S6: 22927795 | T6: =IFERROR(R6/(S6*2.20462262185),0) | U6: 22371460 | V6: 16433228 | W6: =IFERROR(U6/(V6*2.20462262185),0) | X6: 21643724 | Y6: 16481482 | Z6: =IFERROR(X6/(Y6*2.20462262185),0) | AA6: 32669365 | AB6: 25225608 | AC6: =IFERROR(AA6/(AB6*2.20462262185),0) | AD6: 23770969 | AE6: 18551345 | AF6: =IFERROR(AD6/(AE6*2.20462262185),0) | AG6: 19368621 | AH6: 14523646 | AI6: =IFERROR(AG6/(AH6*2.20462262185),0) | AJ6: 16022341 | AK6: 12103494 | AL6: =IFERROR(AJ6/(AK6*2.20462262185),0) | AM6: 16951345 | AN6: 12418638 | AO6: =IFERROR(AM6/(AN6*2.20462262185),0) | AP6: 20354741 | AQ6: 15076907 | AR6: =IFERROR(AP6/(AQ6*2.20462262185),0) | AS6: 25898035 | AT6: 19561207 | AU6: =IFERROR(AS6/(AT6*2.20462262185),0) | AV6: 21580637 | AW6: 16227825 | AX6: =IFERROR(AV6/(AW6*2.20462262185),0) | AY6: 19038781 | AZ6: 14036367 | BA6: =IFERROR(AY6/(AZ6*2.20462262185),0) | BB6: 22380212 | BC6: 16751115 | BD6: =IFERROR(BB6/(BC6*2.20462262185),0) | BE6: 15768151 | BF6: 11700168 | BG6: =IFERROR(BE6/(BF6*2.20462262185),0) | BH6: 27587750 | BI6: 19832922 | BJ6: =IFERROR(BH6/(BI6*2.20462262185),0) | BK6: 24174732 | BL6: 18068317 | BM6: =IFERROR(BK6/(BL6*2.20462262185),0) | BN6: 29870935 | BO6: 21892793 | BP6: =IFERROR(BN6/(BO6*2.20462262185),0) | BQ6: 18721545 | BR6: 14122314 | BS6: =IFERROR(BQ6/(BR6*2.20462262185),0) | BT6: 21311420 | BU6: 15628317 | BV6: =IFERROR(BT6/(BU6*2.20462262185),0) | BW6: 22670998 | BX6: 16169982 | BY6: =IFERROR(BW6/(BX6*2.20462262185),0) | BZ6: 23605790 | CA6: 16020453 | CB6: =IFERROR(BZ6/(CA6*2.20462262185),0) | CC6: 16389123 | CD6: 11536154 | CE6: =IFERROR(CC6/(CD6*2.20462262185),0) | CF6: 12345161 | CG6: 8522844 | CH6: =IFERROR(CF6/(CG6*2.20462262185),0) | CI6: 16691086 | CJ6: 11428955 | CK6: =IFERROR(CI6/(CJ6*2.20462262185),0) | CL6: 15014954 | CM6: 10348282 | CN6: =IFERROR(CL6/(CM6*2.20462262185),0) | CO6: 14965949 | CP6: 9677896 | CQ6: =IFERROR(CO6/(CP6*2.20462262185),0) | CR6: 31871348 | CS6: 20206624 | CT6: =IFERROR(CR6/(CS6*2.20462262185),0) | CU6: 20203105 | CV6: 12822664 | CW6: =IFERROR(CU6/(CV6*2.20462262185),0) | CX6: 23976760 | CY6: 14647533 | CZ6: =IFERROR(CX6/(CY6*2.20462262185),0) | DA6: 23391484 | DB6: 14234015 | DC6: =IFERROR(DA6/(DB6*2.20462262185),0) | DD6: 28175096 | DE6: 14846780 | DF6: =IFERROR(DD6/(DE6*2.20462262185),0) | DG6: 26914197 | DH6: 15657856 | DI6: =IFERROR(DG6/(DH6*2.20462262185),0) | DJ6: 30293811 | DK6: 17100655 | DL6: =IFERROR(DJ6/(DK6*2.20462262185),0) | DM6: 33136019 | DN6: 20236946 | DO6: =IFERROR(DM6/(DN6*2.20462262185),0) | DP6: 24282832 | DQ6: 15033688 | DR6: =IFERROR(DP6/(DQ6*2.20462262185),0) | DS6: 26344610 | DT6: 16848305 | DU6: =IFERROR(DS6/(DT6*2.20462262185),0) | DV6: 24030846 | DW6: 15294313 | DX6: =IFERROR(DV6/(DW6*2.20462262185),0) | DY6: 24202532 | DZ6: 14912998 | EA6: =IFERROR(DY6/(DZ6*2.20462262185),0) | EB6: 24179662 | EC6: 15771943 | ED6: =IFERROR(EB6/(EC6*2.20462262185),0) | EE6: 31774489 | EF6: 19951736 | EG6: =IFERROR(EE6/(EF6*2.20462262185),0) | EH6: 23409759 | EI6: 14821884 | EJ6: =IFERROR(EH6/(EI6*2.20462262185),0) | EK6: 30219780 | EL6: 18496287 | EM6: =IFERROR(EK6/(EL6*2.20462262185),0) | EN6: 37742916 | EO6: 23283873 | EP6: =IFERROR(EN6/(EO6*2.20462262185),0) | EQ6: 42820194 | ER6: 21703885 | ES6: =IFERROR(EQ6/(ER6*2.20462262185),0) | ET6: 53675499 | EU6: 25821318 | EV6: =IFERROR(ET6/(EU6*2.20462262185),0) | EW6: 52376377 | EX6: 25099836 | EY6: =IFERROR(EW6/(EX6*2.20462262185),0) | EZ6: 44496544 | FA6: 22926244 | FB6: =IFERROR(EZ6/(FA6*2.20462262185),0) | FC6: 39612403 | FD6: 23539249 | FE6: =IFERROR(FC6/(FD6*2.20462262185),0) | FF6: 41755115 | FG6: 25234970 | FH6: =IFERROR(FF6/(FG6*2.20462262185),0) | FI6: 43303968 | FJ6: 27139845 | FK6: =IFERROR(FI6/(FJ6*2.20462262185),0) | FL6: 45430653 | FM6: 29593849 | FN6: =IFERROR(FL6/(FM6*2.20462262185),0) | FO6: 30834610 | FP6: 21493475 | FQ6: =IFERROR(FO6/(FP6*2.20462262185),0) | FR6: 41118916 | FS6: 28844845 | FT6: =IFERROR(FR6/(FS6*2.20462262185),0)
A7: Taiwan | B7: =SUM(I7,L7,O7,R7,U7,X7,AA7,AD7) | C7: =SUM(J7,M7,P7,S7,V7,Y7,AB7,AE7) | D7: =C7/1000000 | E7: =C7*2.20462262185/1000000 | F7: =IFERROR(B7/(C7/1000),0) | G7: =IFERROR(B7/(C7*2.20462262185),0) | I7: 18122244 | J7: 14415809 | K7: =IFERROR(I7/(J7*2.20462262185),0) | L7: 17255875 | M7: 12979129 | N7: =IFERROR(L7/(M7*2.20462262185),0) | O7: 19673708 | P7: 14779144 | Q7: =IFERROR(O7/(P7*2.20462262185),0) | R7: 12950031 | S7: 11122219 | T7: =IFERROR(R7/(S7*2.20462262185),0) | U7: 13555863 | V7: 13049754 | W7: =IFERROR(U7/(V7*2.20462262185),0) | X7: 15017438 | Y7: 14071144 | Z7: =IFERROR(X7/(Y7*2.20462262185),0) | AA7: 11285895 | AB7: 11332854 | AC7: =IFERROR(AA7/(AB7*2.20462262185),0) | AD7: 17508100 | AE7: 17247700 | AF7: =IFERROR(AD7/(AE7*2.20462262185),0) | AG7: 14563371 | AH7: 13216810 | AI7: =IFERROR(AG7/(AH7*2.20462262185),0) | AJ7: 6785982 | AK7: 6628900 | AL7: =IFERROR(AJ7/(AK7*2.20462262185),0) | AM7: 7203522 | AN7: 6858250 | AO7: =IFERROR(AM7/(AN7*2.20462262185),0) | AP7: 12686852 | AQ7: 13918078 | AR7: =IFERROR(AP7/(AQ7*2.20462262185),0) | AS7: 14403493 | AT7: 14155432 | AU7: =IFERROR(AS7/(AT7*2.20462262185),0) | AV7: 18177278 | AW7: 17738814 | AX7: =IFERROR(AV7/(AW7*2.20462262185),0) | AY7: 13669609 | AZ7: 12159750 | BA7: =IFERROR(AY7/(AZ7*2.20462262185),0) | BB7: 20091396 | BC7: 17823260 | BD7: =IFERROR(BB7/(BC7*2.20462262185),0) | BE7: 21863081 | BF7: 20190571 | BG7: =IFERROR(BE7/(BF7*2.20462262185),0) | BH7: 24090140 | BI7: 21570604 | BJ7: =IFERROR(BH7/(BI7*2.20462262185),0) | BK7: 20600355 | BL7: 17540930 | BM7: =IFERROR(BK7/(BL7*2.20462262185),0) | BN7: 21662406 | BO7: 19274665 | BP7: =IFERROR(BN7/(BO7*2.20462262185),0) | BQ7: 23664020 | BR7: 20320585 | BS7: =IFERROR(BQ7/(BR7*2.20462262185),0) | BT7: 22619154 | BU7: 18245464 | BV7: =IFERROR(BT7/(BU7*2.20462262185),0) | BW7: 19256239 | BX7: 16102425 | BY7: =IFERROR(BW7/(BX7*2.20462262185),0) | BZ7: 20372958 | CA7: 16059476 | CB7: =IFERROR(BZ7/(CA7*2.20462262185),0) | CC7: 18355945 | CD7: 14906162 | CE7: =IFERROR(CC7/(CD7*2.20462262185),0) | CF7: 25636823 | CG7: 20231162 | CH7: =IFERROR(CF7/(CG7*2.20462262185),0) | CI7: 21558251 | CJ7: 18237449 | CK7: =IFERROR(CI7/(CJ7*2.20462262185),0) | CL7: 20596489 | CM7: 17724606 | CN7: =IFERROR(CL7/(CM7*2.20462262185),0) | CO7: 29922334 | CP7: 26374840 | CQ7: =IFERROR(CO7/(CP7*2.20462262185),0) | CR7: 15288118 | CS7: 12821748 | CT7: =IFERROR(CR7/(CS7*2.20462262185),0) | CU7: 15796903 | CV7: 14797793 | CW7: =IFERROR(CU7/(CV7*2.20462262185),0) | CX7: 26574772 | CY7: 25917778 | CZ7: =IFERROR(CX7/(CY7*2.20462262185),0) | DA7: 23678328 | DB7: 21761980 | DC7: =IFERROR(DA7/(DB7*2.20462262185),0) | DD7: 23930011 | DE7: 21876330 | DF7: =IFERROR(DD7/(DE7*2.20462262185),0) | DG7: 29784506 | DH7: 26253700 | DI7: =IFERROR(DG7/(DH7*2.20462262185),0) | DJ7: 27509187 | DK7: 24604925 | DL7: =IFERROR(DJ7/(DK7*2.20462262185),0) | DM7: 26464936 | DN7: 22360847 | DO7: =IFERROR(DM7/(DN7*2.20462262185),0) | DP7: 20807270 | DQ7: 17534200 | DR7: =IFERROR(DP7/(DQ7*2.20462262185),0) | DS7: 22666467 | DT7: 19554150 | DU7: =IFERROR(DS7/(DT7*2.20462262185),0) | DV7: 22274658 | DW7: 18992000 | DX7: =IFERROR(DV7/(DW7*2.20462262185),0) | DY7: 20722542 | DZ7: 18590116 | EA7: =IFERROR(DY7/(DZ7*2.20462262185),0) | EB7: 13298907 | EC7: 10893590 | ED7: =IFERROR(EB7/(EC7*2.20462262185),0) | EE7: 19532966 | EF7: 14994950 | EG7: =IFERROR(EE7/(EF7*2.20462262185),0) | EH7: 20102128 | EI7: 14274300 | EJ7: =IFERROR(EH7/(EI7*2.20462262185),0) | EK7: 15734425 | EL7: 10593800 | EM7: =IFERROR(EK7/(EL7*2.20462262185),0) | EN7: 28406055 | EO7: 19957793 | EP7: =IFERROR(EN7/(EO7*2.20462262185),0) | EQ7: 21487275 | ER7: 14944500 | ES7: =IFERROR(EQ7/(ER7*2.20462262185),0) | ET7: 10094580 | EU7: 6574800 | EV7: =IFERROR(ET7/(EU7*2.20462262185),0) | EW7: 11307297 | EX7: 7486200 | EY7: =IFERROR(EW7/(EX7*2.20462262185),0) | EZ7: 14335958 | FA7: 9753400 | FB7: =IFERROR(EZ7/(FA7*2.20462262185),0) | FC7: 13338252 | FD7: 9319622 | FE7: =IFERROR(FC7/(FD7*2.20462262185),0) | FF7: 15202379 | FG7: 10360800 | FH7: =IFERROR(FF7/(FG7*2.20462262185),0) | FI7: 8729326 | FJ7: 6092097 | FK7: =IFERROR(FI7/(FJ7*2.20462262185),0) | FL7: 14544130 | FM7: 10696023 | FN7: =IFERROR(FL7/(FM7*2.20462262185),0) | FO7: 13339353 | FP7: 9650502 | FQ7: =IFERROR(FO7/(FP7*2.20462262185),0) | FR7: 14171067 | FS7: 10007462 | FT7: =IFERROR(FR7/(FS7*2.20462262185),0)
A8: Korea, South | B8: =SUM(I8,L8,O8,R8,U8,X8,AA8,AD8) | C8: =SUM(J8,M8,P8,S8,V8,Y8,AB8,AE8) | D8: =C8/1000000 | E8: =C8*2.20462262185/1000000 | F8: =IFERROR(B8/(C8/1000),0) | G8: =IFERROR(B8/(C8*2.20462262185),0) | I8: 3281732 | J8: 2189450 | K8: =IFERROR(I8/(J8*2.20462262185),0) | L8: 7316686 | M8: 5011404 | N8: =IFERROR(L8/(M8*2.20462262185),0) | O8: 10208012 | P8: 6329030 | Q8: =IFERROR(O8/(P8*2.20462262185),0) | R8: 6575686 | S8: 4412970 | T8: =IFERROR(R8/(S8*2.20462262185),0) | U8: 10062674 | V8: 9167880 | W8: =IFERROR(U8/(V8*2.20462262185),0) | X8: 7188988 | Y8: 7053694 | Z8: =IFERROR(X8/(Y8*2.20462262185),0) | AA8: 7186748 | AB8: 6508780 | AC8: =IFERROR(AA8/(AB8*2.20462262185),0) | AD8: 6554603 | AE8: 6364917 | AF8: =IFERROR(AD8/(AE8*2.20462262185),0) | AG8: 5463912 | AH8: 4944895 | AI8: =IFERROR(AG8/(AH8*2.20462262185),0) | AJ8: 6331516 | AK8: 5701008 | AL8: =IFERROR(AJ8/(AK8*2.20462262185),0) | AM8: 6445294 | AN8: 6628880 | AO8: =IFERROR(AM8/(AN8*2.20462262185),0) | AP8: 7596542 | AQ8: 6692550 | AR8: =IFERROR(AP8/(AQ8*2.20462262185),0) | AS8: 8292853 | AT8: 6979340 | AU8: =IFERROR(AS8/(AT8*2.20462262185),0) | AV8: 6671451 | AW8: 5009139 | AX8: =IFERROR(AV8/(AW8*2.20462262185),0) | AY8: 6516225 | AZ8: 5451590 | BA8: =IFERROR(AY8/(AZ8*2.20462262185),0) | BB8: 7274688 | BC8: 6168860 | BD8: =IFERROR(BB8/(BC8*2.20462262185),0) | BE8: 10419952 | BF8: 7630147 | BG8: =IFERROR(BE8/(BF8*2.20462262185),0) | BH8: 16744640 | BI8: 13324715 | BJ8: =IFERROR(BH8/(BI8*2.20462262185),0) | BK8: 12638164 | BL8: 10304384 | BM8: =IFERROR(BK8/(BL8*2.20462262185),0) | BN8: 14277839 | BO8: 11624452 | BP8: =IFERROR(BN8/(BO8*2.20462262185),0) | BQ8: 11503551 | BR8: 7651435 | BS8: =IFERROR(BQ8/(BR8*2.20462262185),0) | BT8: 9039387 | BU8: 6564580 | BV8: =IFERROR(BT8/(BU8*2.20462262185),0) | BW8: 8228305 | BX8: 5756605 | BY8: =IFERROR(BW8/(BX8*2.20462262185),0) | BZ8: 6236233 | CA8: 4478550 | CB8: =IFERROR(BZ8/(CA8*2.20462262185),0) | CC8: 9326704 | CD8: 6517654 | CE8: =IFERROR(CC8/(CD8*2.20462262185),0) | CF8: 10662709 | CG8: 7957715 | CH8: =IFERROR(CF8/(CG8*2.20462262185),0) | CI8: 11836281 | CJ8: 9026360 | CK8: =IFERROR(CI8/(CJ8*2.20462262185),0) | CL8: 11754014 | CM8: 8849420 | CN8: =IFERROR(CL8/(CM8*2.20462262185),0) | CO8: 13511433 | CP8: 10249765 | CQ8: =IFERROR(CO8/(CP8*2.20462262185),0) | CR8: 11244983 | CS8: 8489538 | CT8: =IFERROR(CR8/(CS8*2.20462262185),0) | CU8: 7595897 | CV8: 5729773 | CW8: =IFERROR(CU8/(CV8*2.20462262185),0) | CX8: 10241337 | CY8: 8465197 | CZ8: =IFERROR(CX8/(CY8*2.20462262185),0) | DA8: 6520980 | DB8: 4722530 | DC8: =IFERROR(DA8/(DB8*2.20462262185),0) | DD8: 10279760 | DE8: 8667455 | DF8: =IFERROR(DD8/(DE8*2.20462262185),0) | DG8: 13329860 | DH8: 12046744 | DI8: =IFERROR(DG8/(DH8*2.20462262185),0) | DJ8: 7623928 | DK8: 6951890 | DL8: =IFERROR(DJ8/(DK8*2.20462262185),0) | DM8: 7037490 | DN8: 6186974 | DO8: =IFERROR(DM8/(DN8*2.20462262185),0) | DP8: 10810283 | DQ8: 10152456 | DR8: =IFERROR(DP8/(DQ8*2.20462262185),0) | DS8: 7904957 | DT8: 6250870 | DU8: =IFERROR(DS8/(DT8*2.20462262185),0) | DV8: 9530432 | DW8: 6618390 | DX8: =IFERROR(DV8/(DW8*2.20462262185),0) | DY8: 11454736 | DZ8: 8788133 | EA8: =IFERROR(DY8/(DZ8*2.20462262185),0) | EB8: 11524992 | EC8: 8771662 | ED8: =IFERROR(EB8/(EC8*2.20462262185),0) | EE8: 11548902 | EF8: 8484470 | EG8: =IFERROR(EE8/(EF8*2.20462262185),0) | EH8: 9477612 | EI8: 8067650 | EJ8: =IFERROR(EH8/(EI8*2.20462262185),0) | EK8: 8027984 | EL8: 5167270 | EM8: =IFERROR(EK8/(EL8*2.20462262185),0) | EN8: 10401125 | EO8: 6578820 | EP8: =IFERROR(EN8/(EO8*2.20462262185),0) | EQ8: 12172908 | ER8: 7252940 | ES8: =IFERROR(EQ8/(ER8*2.20462262185),0) | ET8: 12984149 | EU8: 6956824 | EV8: =IFERROR(ET8/(EU8*2.20462262185),0) | EW8: 14059290 | EX8: 8248055 | EY8: =IFERROR(EW8/(EX8*2.20462262185),0) | EZ8: 8174002 | FA8: 4659820 | FB8: =IFERROR(EZ8/(FA8*2.20462262185),0) | FC8: 15142027 | FD8: 9098720 | FE8: =IFERROR(FC8/(FD8*2.20462262185),0) | FF8: 15748454 | FG8: 9743330 | FH8: =IFERROR(FF8/(FG8*2.20462262185),0) | FI8: 14113905 | FJ8: 8820290 | FK8: =IFERROR(FI8/(FJ8*2.20462262185),0) | FL8: 10934680 | FM8: 7378952 | FN8: =IFERROR(FL8/(FM8*2.20462262185),0) | FO8: 8739686 | FP8: 5005176 | FQ8: =IFERROR(FO8/(FP8*2.20462262185),0) | FR8: 6585376 | FS8: 4224308 | FT8: =IFERROR(FR8/(FS8*2.20462262185),0)
A9: Vietnam | B9: =SUM(I9,L9,O9,R9,U9,X9,AA9,AD9) | C9: =SUM(J9,M9,P9,S9,V9,Y9,AB9,AE9) | D9: =C9/1000000 | E9: =C9*2.20462262185/1000000 | F9: =IFERROR(B9/(C9/1000),0) | G9: =IFERROR(B9/(C9*2.20462262185),0) | I9: 6792600 | J9: 5913500 | K9: =IFERROR(I9/(J9*2.20462262185),0) | L9: 13477302 | M9: 10989310 | N9: =IFERROR(L9/(M9*2.20462262185),0) | O9: 6722473 | P9: 5648800 | Q9: =IFERROR(O9/(P9*2.20462262185),0) | R9: 4294024 | S9: 3762000 | T9: =IFERROR(R9/(S9*2.20462262185),0) | U9: 3462082 | V9: 3623500 | W9: =IFERROR(U9/(V9*2.20462262185),0) | X9: 3550381 | Y9: 4349500 | Z9: =IFERROR(X9/(Y9*2.20462262185),0) | AA9: 3143930 | AB9: 3670270 | AC9: =IFERROR(AA9/(AB9*2.20462262185),0) | AD9: 2994940 | AE9: 3608000 | AF9: =IFERROR(AD9/(AE9*2.20462262185),0) | AG9: 2046777 | AH9: 2400676 | AI9: =IFERROR(AG9/(AH9*2.20462262185),0) | AJ9: 1429465 | AK9: 1647728 | AL9: =IFERROR(AJ9/(AK9*2.20462262185),0) | AM9: 2667820 | AN9: 3150700 | AO9: =IFERROR(AM9/(AN9*2.20462262185),0) | AP9: 5265651 | AQ9: 5881500 | AR9: =IFERROR(AP9/(AQ9*2.20462262185),0) | AS9: 5396284 | AT9: 5945752 | AU9: =IFERROR(AS9/(AT9*2.20462262185),0) | AV9: 6425408 | AW9: 6973100 | AX9: =IFERROR(AV9/(AW9*2.20462262185),0) | AY9: 7927299 | AZ9: 8320116 | BA9: =IFERROR(AY9/(AZ9*2.20462262185),0) | BB9: 11216890 | BC9: 11235526 | BD9: =IFERROR(BB9/(BC9*2.20462262185),0) | BE9: 11858978 | BF9: 11918200 | BG9: =IFERROR(BE9/(BF9*2.20462262185),0) | BH9: 9187664 | BI9: 9082330 | BJ9: =IFERROR(BH9/(BI9*2.20462262185),0) | BK9: 3113315 | BL9: 3212000 | BM9: =IFERROR(BK9/(BL9*2.20462262185),0) | BN9: 5747578 | BO9: 6006000 | BP9: =IFERROR(BN9/(BO9*2.20462262185),0) | BQ9: 8389398 | BR9: 8250000 | BS9: =IFERROR(BQ9/(BR9*2.20462262185),0) | BT9: 6456518 | BU9: 6171000 | BV9: =IFERROR(BT9/(BU9*2.20462262185),0) | BW9: 10015282 | BX9: 9350000 | BY9: =IFERROR(BW9/(BX9*2.20462262185),0) | BZ9: 10212590 | CA9: 9590500 | CB9: =IFERROR(BZ9/(CA9*2.20462262185),0) | CC9: 5432104 | CD9: 5182000 | CE9: =IFERROR(CC9/(CD9*2.20462262185),0) | CF9: 6477121 | CG9: 6082000 | CH9: =IFERROR(CF9/(CG9*2.20462262185),0) | CI9: 5773211 | CJ9: 5253500 | CK9: =IFERROR(CI9/(CJ9*2.20462262185),0) | CL9: 7502692 | CM9: 7271000 | CN9: =IFERROR(CL9/(CM9*2.20462262185),0) | CO9: 5294806 | CP9: 5288000 | CQ9: =IFERROR(CO9/(CP9*2.20462262185),0) | CR9: 6571891 | CS9: 6544000 | CT9: =IFERROR(CR9/(CS9*2.20462262185),0) | CU9: 9026579 | CV9: 8704000 | CW9: =IFERROR(CU9/(CV9*2.20462262185),0) | CX9: 7647988 | CY9: 7825500 | CZ9: =IFERROR(CX9/(CY9*2.20462262185),0) | DA9: 10886329 | DB9: 10591490 | DC9: =IFERROR(DA9/(DB9*2.20462262185),0) | DD9: 9460793 | DE9: 8813060 | DF9: =IFERROR(DD9/(DE9*2.20462262185),0) | DG9: 11910212 | DH9: 11792050 | DI9: =IFERROR(DG9/(DH9*2.20462262185),0) | DJ9: 17581173 | DK9: 16069560 | DL9: =IFERROR(DJ9/(DK9*2.20462262185),0) | DM9: 13139323 | DN9: 12078000 | DO9: =IFERROR(DM9/(DN9*2.20462262185),0) | DP9: 9855728 | DQ9: 9394000 | DR9: =IFERROR(DP9/(DQ9*2.20462262185),0) | DS9: 10982193 | DT9: 9768000 | DU9: =IFERROR(DS9/(DT9*2.20462262185),0) | DV9: 9559184 | DW9: 8360000 | DX9: =IFERROR(DV9/(DW9*2.20462262185),0) | DY9: 9601170 | DZ9: 8602000 | EA9: =IFERROR(DY9/(DZ9*2.20462262185),0) | EB9: 5454149 | EC9: 4718728 | ED9: =IFERROR(EB9/(EC9*2.20462262185),0) | EE9: 11659020 | EF9: 9592000 | EG9: =IFERROR(EE9/(EF9*2.20462262185),0) | EH9: 15750792 | EI9: 12157200 | EJ9: =IFERROR(EH9/(EI9*2.20462262185),0) | EK9: 10221206 | EL9: 7766000 | EM9: =IFERROR(EK9/(EL9*2.20462262185),0) | EN9: 4852447 | EO9: 3725550 | EP9: =IFERROR(EN9/(EO9*2.20462262185),0) | EQ9: 8659333 | ER9: 6394000 | ES9: =IFERROR(EQ9/(ER9*2.20462262185),0) | ET9: 10670280 | EU9: 7110290 | EV9: =IFERROR(ET9/(EU9*2.20462262185),0) | EW9: 8557030 | EX9: 5543000 | EY9: =IFERROR(EW9/(EX9*2.20462262185),0) | EZ9: 7455362 | FA9: 4993890 | FB9: =IFERROR(EZ9/(FA9*2.20462262185),0) | FC9: 7282850 | FD9: 5266000 | FE9: =IFERROR(FC9/(FD9*2.20462262185),0) | FF9: 7663917 | FG9: 4982500 | FH9: =IFERROR(FF9/(FG9*2.20462262185),0) | FI9: 4891246 | FJ9: 3713800 | FK9: =IFERROR(FI9/(FJ9*2.20462262185),0) | FL9: 12992474 | FM9: 10342800 | FN9: =IFERROR(FL9/(FM9*2.20462262185),0) | FO9: 12294841 | FP9: 9795070 | FQ9: =IFERROR(FO9/(FP9*2.20462262185),0) | FR9: 7838506 | FS9: 6273910 | FT9: =IFERROR(FR9/(FS9*2.20462262185),0)
A10: Thailand | B10: =SUM(I10,L10,O10,R10,U10,X10,AA10,AD10) | C10: =SUM(J10,M10,P10,S10,V10,Y10,AB10,AE10) | D10: =C10/1000000 | E10: =C10*2.20462262185/1000000 | F10: =IFERROR(B10/(C10/1000),0) | G10: =IFERROR(B10/(C10*2.20462262185),0) | I10: 5246754 | J10: 4941841 | K10: =IFERROR(I10/(J10*2.20462262185),0) | L10: 7374975 | M10: 7790887 | N10: =IFERROR(L10/(M10*2.20462262185),0) | O10: 7143977 | P10: 8096888 | Q10: =IFERROR(O10/(P10*2.20462262185),0) | R10: 2638090 | S10: 3573889 | T10: =IFERROR(R10/(S10*2.20462262185),0) | U10: 2775209 | V10: 4146183 | W10: =IFERROR(U10/(V10*2.20462262185),0) | X10: 2362620 | Y10: 2784759 | Z10: =IFERROR(X10/(Y10*2.20462262185),0) | AA10: 4463388 | AB10: 5200203 | AC10: =IFERROR(AA10/(AB10*2.20462262185),0) | AD10: 3693875 | AE10: 4483987 | AF10: =IFERROR(AD10/(AE10*2.20462262185),0) | AG10: 3188920 | AH10: 3325636 | AI10: =IFERROR(AG10/(AH10*2.20462262185),0) | AJ10: 2027645 | AK10: 2173512 | AL10: =IFERROR(AJ10/(AK10*2.20462262185),0) | AM10: 7330786 | AN10: 7618640 | AO10: =IFERROR(AM10/(AN10*2.20462262185),0) | AP10: 8270592 | AQ10: 8599573 | AR10: =IFERROR(AP10/(AQ10*2.20462262185),0) | AS10: 5201097 | AT10: 5384697 | AU10: =IFERROR(AS10/(AT10*2.20462262185),0) | AV10: 8150278 | AW10: 8171271 | AX10: =IFERROR(AV10/(AW10*2.20462262185),0) | AY10: 8886629 | AZ10: 8859441 | BA10: =IFERROR(AY10/(AZ10*2.20462262185),0) | BB10: 10941527 | BC10: 10972966 | BD10: =IFERROR(BB10/(BC10*2.20462262185),0) | BE10: 6822788 | BF10: 6869586 | BG10: =IFERROR(BE10/(BF10*2.20462262185),0) | BH10: 8495336 | BI10: 8046967 | BJ10: =IFERROR(BH10/(BI10*2.20462262185),0) | BK10: 3306282 | BL10: 3280984 | BM10: =IFERROR(BK10/(BL10*2.20462262185),0) | BN10: 6095447 | BO10: 5599183 | BP10: =IFERROR(BN10/(BO10*2.20462262185),0) | BQ10: 3431873 | BR10: 3493520 | BS10: =IFERROR(BQ10/(BR10*2.20462262185),0) | BT10: 2547163 | BU10: 2697495 | BV10: =IFERROR(BT10/(BU10*2.20462262185),0) | BW10: 1825635 | BX10: 1740460 | BY10: =IFERROR(BW10/(BX10*2.20462262185),0) | BZ10: 928626 | CA10: 733959 | CB10: =IFERROR(BZ10/(CA10*2.20462262185),0) | CC10: 2978006 | CD10: 2218609 | CE10: =IFERROR(CC10/(CD10*2.20462262185),0) | CF10: 3136326 | CG10: 3228208 | CH10: =IFERROR(CF10/(CG10*2.20462262185),0) | CI10: 3554708 | CJ10: 3710416 | CK10: =IFERROR(CI10/(CJ10*2.20462262185),0) | CL10: 3880066 | CM10: 3918673 | CN10: =IFERROR(CL10/(CM10*2.20462262185),0) | CO10: 4426592 | CP10: 4554096 | CQ10: =IFERROR(CO10/(CP10*2.20462262185),0) | CR10: 4857716 | CS10: 5143435 | CT10: =IFERROR(CR10/(CS10*2.20462262185),0) | CU10: 2828781 | CV10: 2727759 | CW10: =IFERROR(CU10/(CV10*2.20462262185),0) | CX10: 4477335 | CY10: 4942887 | CZ10: =IFERROR(CX10/(CY10*2.20462262185),0) | DA10: 3167257 | DB10: 3546851 | DC10: =IFERROR(DA10/(DB10*2.20462262185),0) | DD10: 1992789 | DE10: 2543968 | DF10: =IFERROR(DD10/(DE10*2.20462262185),0) | DG10: 2383074 | DH10: 2826195 | DI10: =IFERROR(DG10/(DH10*2.20462262185),0) | DJ10: 2119832 | DK10: 2141941 | DL10: =IFERROR(DJ10/(DK10*2.20462262185),0) | DM10: 379750 | DN10: 445148 | DO10: =IFERROR(DM10/(DN10*2.20462262185),0) | DP10: 1032004 | DQ10: 930336 | DR10: =IFERROR(DP10/(DQ10*2.20462262185),0) | DS10: 1024993 | DT10: 792000 | DU10: =IFERROR(DS10/(DT10*2.20462262185),0) | DV10: 824076 | DW10: 748000 | DX10: =IFERROR(DV10/(DW10*2.20462262185),0) | DY10: 1525084 | DZ10: 1518000 | EA10: =IFERROR(DY10/(DZ10*2.20462262185),0) | EB10: 241109 | EC10: 198000 | ED10: =IFERROR(EB10/(EC10*2.20462262185),0) | EE10: 0 | EF10: 0 | EG10: =IFERROR(EE10/(EF10*2.20462262185),0) | EH10: 320896 | EI10: 219200 | EJ10: =IFERROR(EH10/(EI10*2.20462262185),0) | EK10: 401368 | EL10: 264000 | EM10: =IFERROR(EK10/(EL10*2.20462262185),0) | EN10: 523087 | EO10: 409762 | EP10: =IFERROR(EN10/(EO10*2.20462262185),0) | EQ10: 1088692 | ER10: 772122 | ES10: =IFERROR(EQ10/(ER10*2.20462262185),0) | ET10: 585681 | EU10: 397742 | EV10: =IFERROR(ET10/(EU10*2.20462262185),0) | EW10: 889208 | EX10: 628748 | EY10: =IFERROR(EW10/(EX10*2.20462262185),0) | EZ10: 638977 | FA10: 426222 | FB10: =IFERROR(EZ10/(FA10*2.20462262185),0) | FC10: 0 | FD10: 0 | FE10: =IFERROR(FC10/(FD10*2.20462262185),0) | FF10: 403200 | FG10: 236000 | FH10: =IFERROR(FF10/(FG10*2.20462262185),0)
A11: Oman | B11: =SUM(I11,L11,O11,R11,U11,X11,AA11,AD11) | C11: =SUM(J11,M11,P11,S11,V11,Y11,AB11,AE11) | D11: =C11/1000000 | E11: =C11*2.20462262185/1000000 | F11: =IFERROR(B11/(C11/1000),0) | G11: =IFERROR(B11/(C11*2.20462262185),0) | I11: 2400986 | J11: 2072000 | K11: =IFERROR(I11/(J11*2.20462262185),0) | L11: 8156219 | M11: 6076000 | N11: =IFERROR(L11/(M11*2.20462262185),0) | O11: 7422176 | P11: 5855000 | Q11: =IFERROR(O11/(P11*2.20462262185),0) | R11: 8957281 | S11: 7682400 | T11: =IFERROR(R11/(S11*2.20462262185),0) | U11: 6344478 | V11: 6472000 | W11: =IFERROR(U11/(V11*2.20462262185),0) | X11: 4960314 | Y11: 4895000 | Z11: =IFERROR(X11/(Y11*2.20462262185),0) | AA11: 4990262 | AB11: 5720000 | AC11: =IFERROR(AA11/(AB11*2.20462262185),0) | AD11: 1293431 | AE11: 1430000 | AF11: =IFERROR(AD11/(AE11*2.20462262185),0) | AG11: 0 | AH11: 0 | AI11: =IFERROR(AG11/(AH11*2.20462262185),0) | AJ11: 0 | AK11: 0 | AL11: =IFERROR(AJ11/(AK11*2.20462262185),0) | AM11: 2710067 | AN11: 3036000 | AO11: =IFERROR(AM11/(AN11*2.20462262185),0) | AP11: 4231227 | AQ11: 4554000 | AR11: =IFERROR(AP11/(AQ11*2.20462262185),0) | AS11: 3715839 | AT11: 3910000 | AU11: =IFERROR(AS11/(AT11*2.20462262185),0) | AV11: 2962062 | AW11: 2865000 | AX11: =IFERROR(AV11/(AW11*2.20462262185),0) | BQ11: 0 | BR11: 0 | BS11: =IFERROR(BQ11/(BR11*2.20462262185),0) | BT11: 0 | BU11: 0 | BV11: =IFERROR(BT11/(BU11*2.20462262185),0) | BW11: 4321119 | BX11: 3825000 | BY11: =IFERROR(BW11/(BX11*2.20462262185),0) | BZ11: 5031961 | CA11: 4548000 | CB11: =IFERROR(BZ11/(CA11*2.20462262185),0) | CC11: 9853724 | CD11: 9658000 | CE11: =IFERROR(CC11/(CD11*2.20462262185),0) | CF11: 11379074 | CG11: 11336500 | CH11: =IFERROR(CF11/(CG11*2.20462262185),0) | CI11: 547883 | CJ11: 517500 | CK11: =IFERROR(CI11/(CJ11*2.20462262185),0) | CL11: 568826 | CM11: 540000 | CN11: =IFERROR(CL11/(CM11*2.20462262185),0) | CO11: 104022 | CP11: 90000 | CQ11: =IFERROR(CO11/(CP11*2.20462262185),0) | CR11: 6277492 | CS11: 6556000 | CT11: =IFERROR(CR11/(CS11*2.20462262185),0) | CU11: 4664756 | CV11: 4721000 | CW11: =IFERROR(CU11/(CV11*2.20462262185),0) | CX11: 4240512 | CY11: 4285000 | CZ11: =IFERROR(CX11/(CY11*2.20462262185),0) | DA11: 1479258 | DB11: 1395000 | DC11: =IFERROR(DA11/(DB11*2.20462262185),0) | DD11: 2654066 | DE11: 2520000 | DF11: =IFERROR(DD11/(DE11*2.20462262185),0) | DG11: 486713 | DH11: 360000 | DI11: =IFERROR(DG11/(DH11*2.20462262185),0) | DJ11: 2968358 | DK11: 3014000 | DL11: =IFERROR(DJ11/(DK11*2.20462262185),0) | DM11: 1003860 | DN11: 806750 | DO11: =IFERROR(DM11/(DN11*2.20462262185),0) | DP11: 2901431 | DQ11: 2641500 | DR11: =IFERROR(DP11/(DQ11*2.20462262185),0) | DS11: 1715648 | DT11: 1147500 | DU11: =IFERROR(DS11/(DT11*2.20462262185),0) | DV11: 2666066 | DW11: 1687500 | DX11: =IFERROR(DV11/(DW11*2.20462262185),0) | DY11: 2085083 | DZ11: 2069500 | EA11: =IFERROR(DY11/(DZ11*2.20462262185),0) | EB11: 7722193 | EC11: 5881000 | ED11: =IFERROR(EB11/(EC11*2.20462262185),0) | EE11: 8882210 | EF11: 7534200 | EG11: =IFERROR(EE11/(EF11*2.20462262185),0) | EH11: 17763507 | EI11: 13377500 | EJ11: =IFERROR(EH11/(EI11*2.20462262185),0) | EK11: 21931614 | EL11: 16733500 | EM11: =IFERROR(EK11/(EL11*2.20462262185),0) | EN11: 14356262 | EO11: 10561500 | EP11: =IFERROR(EN11/(EO11*2.20462262185),0) | EQ11: 24471216 | ER11: 15942000 | ES11: =IFERROR(EQ11/(ER11*2.20462262185),0) | ET11: 28185011 | EU11: 19201000 | EV11: =IFERROR(ET11/(EU11*2.20462262185),0) | EW11: 38139014 | EX11: 25796000 | EY11: =IFERROR(EW11/(EX11*2.20462262185),0) | EZ11: 34040220 | FA11: 22944100 | FB11: =IFERROR(EZ11/(FA11*2.20462262185),0) | FC11: 28362407 | FD11: 19102500 | FE11: =IFERROR(FC11/(FD11*2.20462262185),0) | FF11: 38776740 | FG11: 27384700 | FH11: =IFERROR(FF11/(FG11*2.20462262185),0) | FI11: 31272016 | FJ11: 23005100 | FK11: =IFERROR(FI11/(FJ11*2.20462262185),0) | FL11: 21127111 | FM11: 16095500 | FN11: =IFERROR(FL11/(FM11*2.20462262185),0) | FO11: 17640700 | FP11: 14772500 | FQ11: =IFERROR(FO11/(FP11*2.20462262185),0) | FR11: 19837064 | FS11: 17556363 | FT11: =IFERROR(FR11/(FS11*2.20462262185),0)
A12: Egypt | B12: =SUM(I12,L12,O12,R12,U12,X12,AA12,AD12) | C12: =SUM(J12,M12,P12,S12,V12,Y12,AB12,AE12) | D12: =C12/1000000 | E12: =C12*2.20462262185/1000000 | F12: =IFERROR(B12/(C12/1000),0) | G12: =IFERROR(B12/(C12*2.20462262185),0) | I12: 1880625 | J12: 1603000 | K12: =IFERROR(I12/(J12*2.20462262185),0) | L12: 4813746 | M12: 4028200 | N12: =IFERROR(L12/(M12*2.20462262185),0) | O12: 1126208 | P12: 986850 | Q12: =IFERROR(O12/(P12*2.20462262185),0) | R12: 5706497 | S12: 5929600 | T12: =IFERROR(R12/(S12*2.20462262185),0) | U12: 1424898 | V12: 1751900 | W12: =IFERROR(U12/(V12*2.20462262185),0) | X12: 1453780 | Y12: 1841250 | Z12: =IFERROR(X12/(Y12*2.20462262185),0) | AA12: 1060438 | AB12: 1338250 | AC12: =IFERROR(AA12/(AB12*2.20462262185),0) | AD12: 403145 | AE12: 546250 | AF12: =IFERROR(AD12/(AE12*2.20462262185),0) | AG12: 0 | AH12: 0 | AI12: =IFERROR(AG12/(AH12*2.20462262185),0) | AJ12: 0 | AK12: 0 | AL12: =IFERROR(AJ12/(AK12*2.20462262185),0) | AM12: 440534 | AN12: 546250 | AO12: =IFERROR(AM12/(AN12*2.20462262185),0) | AP12: 445106 | AQ12: 54625 | AR12: =IFERROR(AP12/(AQ12*2.20462262185),0) | AS12: 352576 | AT12: 437000 | AU12: =IFERROR(AS12/(AT12*2.20462262185),0) | AV12: 369265 | AW12: 437000 | AX12: =IFERROR(AV12/(AW12*2.20462262185),0) | AY12: 1048314 | AZ12: 1311000 | BA12: =IFERROR(AY12/(AZ12*2.20462262185),0) | BB12: 0 | BC12: 0 | BD12: =IFERROR(BB12/(BC12*2.20462262185),0) | BE12: 0 | BF12: 0 | BG12: =IFERROR(BE12/(BF12*2.20462262185),0) | BH12: 725018 | BI12: 874000 | BJ12: =IFERROR(BH12/(BI12*2.20462262185),0) | BK12: 362509 | BL12: 437000 | BM12: =IFERROR(BK12/(BL12*2.20462262185),0) | BN12: 809619 | BO12: 855000 | BP12: =IFERROR(BN12/(BO12*2.20462262185),0) | BQ12: 442985 | BR12: 352000 | BS12: =IFERROR(BQ12/(BR12*2.20462262185),0) | BT12: 991245 | BU12: 909000 | BV12: =IFERROR(BT12/(BU12*2.20462262185),0) | BW12: 1226289 | BX12: 1099000 | BY12: =IFERROR(BW12/(BX12*2.20462262185),0) | BZ12: 1333844 | CA12: 1060000 | CB12: =IFERROR(BZ12/(CA12*2.20462262185),0) | CC12: 1306179 | CD12: 1040000 | CE12: =IFERROR(CC12/(CD12*2.20462262185),0) | CF12: 1878649 | CG12: 1682900 | CH12: =IFERROR(CF12/(CG12*2.20462262185),0) | CI12: 3848940 | CJ12: 3699000 | CK12: =IFERROR(CI12/(CJ12*2.20462262185),0) | CL12: 1120220 | CM12: 1094000 | CN12: =IFERROR(CL12/(CM12*2.20462262185),0) | CO12: 220000 | CP12: 220000 | CQ12: =IFERROR(CO12/(CP12*2.20462262185),0) | CR12: 525055 | CS12: 518500 | CT12: =IFERROR(CR12/(CS12*2.20462262185),0) | CU12: 0 | CV12: 0 | CW12: =IFERROR(CU12/(CV12*2.20462262185),0) | CX12: 239636 | CY12: 271400 | CZ12: =IFERROR(CX12/(CY12*2.20462262185),0) | DA12: 419327 | DB12: 476000 | DC12: =IFERROR(DA12/(DB12*2.20462262185),0) | DD12: 0 | DE12: 0 | DF12: =IFERROR(DD12/(DE12*2.20462262185),0) | DG12: 1669460 | DH12: 1770000 | DI12: =IFERROR(DG12/(DH12*2.20462262185),0) | DJ12: 2501431 | DK12: 2622000 | DL12: =IFERROR(DJ12/(DK12*2.20462262185),0) | DM12: 1350501 | DN12: 1387450 | DO12: =IFERROR(DM12/(DN12*2.20462262185),0) | DP12: 828980 | DQ12: 874000 | DR12: =IFERROR(DP12/(DQ12*2.20462262185),0) | DS12: 676466 | DT12: 589950 | DU12: =IFERROR(DS12/(DT12*2.20462262185),0) | DV12: 0 | DW12: 0 | DX12: =IFERROR(DV12/(DW12*2.20462262185),0) | DY12: 0 | DZ12: 0 | EA12: =IFERROR(DY12/(DZ12*2.20462262185),0) | EB12: 1044883 | EC12: 1005100 | ED12: =IFERROR(EB12/(EC12*2.20462262185),0) | EE12: 1044883 | EF12: 1005100 | EG12: =IFERROR(EE12/(EF12*2.20462262185),0) | EK12: 0 | EL12: 0 | EM12: =IFERROR(EK12/(EL12*2.20462262185),0) | EN12: 5235093 | EO12: 3889300 | EP12: =IFERROR(EN12/(EO12*2.20462262185),0) | EQ12: 3968312 | ER12: 3015300 | ES12: =IFERROR(EQ12/(ER12*2.20462262185),0) | ET12: 2178810 | EU12: 1507650 | EV12: =IFERROR(ET12/(EU12*2.20462262185),0) | EW12: 4729924 | EX12: 3343050 | EY12: =IFERROR(EW12/(EX12*2.20462262185),0) | EZ12: 10022815 | FA12: 7213170 | FB12: =IFERROR(EZ12/(FA12*2.20462262185),0) | FC12: 22303932 | FD12: 15981270 | FE12: =IFERROR(FC12/(FD12*2.20462262185),0) | FF12: 15768811 | FG12: 12279700 | FH12: =IFERROR(FF12/(FG12*2.20462262185),0) | FI12: 9925829 | FJ12: 8150050 | FK12: =IFERROR(FI12/(FJ12*2.20462262185),0) | FL12: 5715965 | FM12: 4981800 | FN12: =IFERROR(FL12/(FM12*2.20462262185),0) | FO12: 10107713 | FP12: 8270800 | FQ12: =IFERROR(FO12/(FP12*2.20462262185),0) | FR12: 6386544 | FS12: 5112900 | FT12: =IFERROR(FR12/(FS12*2.20462262185),0)
A13: Pakistan | B13: =SUM(I13,L13,O13,R13,U13,X13,AA13,AD13) | C13: =SUM(J13,M13,P13,S13,V13,Y13,AB13,AE13) | D13: =C13/1000000 | E13: =C13*2.20462262185/1000000 | F13: =IFERROR(B13/(C13/1000),0) | G13: =IFERROR(B13/(C13*2.20462262185),0) | I13: 4753462 | J13: 3562000 | K13: =IFERROR(I13/(J13*2.20462262185),0) | L13: 4928362 | M13: 3498000 | N13: =IFERROR(L13/(M13*2.20462262185),0) | O13: 1254520 | P13: 1012000 | Q13: =IFERROR(O13/(P13*2.20462262185),0) | R13: 749364 | S13: 902000 | T13: =IFERROR(R13/(S13*2.20462262185),0) | U13: 1556114 | V13: 1892000 | W13: =IFERROR(U13/(V13*2.20462262185),0) | X13: 1740556 | Y13: 2132500 | Z13: =IFERROR(X13/(Y13*2.20462262185),0) | AA13: 1580479 | AB13: 2047000 | AC13: =IFERROR(AA13/(AB13*2.20462262185),0) | AD13: 1093475 | AE13: 1496000 | AF13: =IFERROR(AD13/(AE13*2.20462262185),0) | AG13: 48298 | AH13: 66000 | AI13: =IFERROR(AG13/(AH13*2.20462262185),0) | AJ13: 117555 | AK13: 132000 | AL13: =IFERROR(AJ13/(AK13*2.20462262185),0) | AM13: 1749380 | AN13: 2112000 | AO13: =IFERROR(AM13/(AN13*2.20462262185),0) | AP13: 2281425 | AQ13: 2750000 | AR13: =IFERROR(AP13/(AQ13*2.20462262185),0) | AS13: 604989 | AT13: 726780 | AU13: =IFERROR(AS13/(AT13*2.20462262185),0) | AV13: 397760 | AW13: 484000 | AX13: =IFERROR(AV13/(AW13*2.20462262185),0) | AY13: 1827483 | AZ13: 2199100 | BA13: =IFERROR(AY13/(AZ13*2.20462262185),0) | BB13: 3639728 | BC13: 4331750 | BD13: =IFERROR(BB13/(BC13*2.20462262185),0) | BE13: 4582636 | BF13: 5522000 | BG13: =IFERROR(BE13/(BF13*2.20462262185),0) | BH13: 2026694 | BI13: 2310000 | BJ13: =IFERROR(BH13/(BI13*2.20462262185),0) | BK13: 712594 | BL13: 770000 | BM13: =IFERROR(BK13/(BL13*2.20462262185),0) | BN13: 692914 | BO13: 746126 | BP13: =IFERROR(BN13/(BO13*2.20462262185),0) | BQ13: 359906 | BR13: 396000 | BS13: =IFERROR(BQ13/(BR13*2.20462262185),0) | BT13: 0 | BU13: 0 | BV13: =IFERROR(BT13/(BU13*2.20462262185),0) | BW13: 891432 | BX13: 880000 | BY13: =IFERROR(BW13/(BX13*2.20462262185),0) | BZ13: 3383555 | CA13: 2904000 | CB13: =IFERROR(BZ13/(CA13*2.20462262185),0) | CC13: 403850 | CD13: 374000 | CE13: =IFERROR(CC13/(CD13*2.20462262185),0) | CF13: 555714 | CG13: 528000 | CH13: =IFERROR(CF13/(CG13*2.20462262185),0) | CI13: 127464 | CJ13: 110000 | CK13: =IFERROR(CI13/(CJ13*2.20462262185),0) | CL13: 0 | CM13: 0 | CN13: =IFERROR(CL13/(CM13*2.20462262185),0) | CO13: 560085 | CP13: 705050 | CQ13: =IFERROR(CO13/(CP13*2.20462262185),0) | CR13: 529368 | CS13: 663400 | CT13: =IFERROR(CR13/(CS13*2.20462262185),0) | CU13: 0 | CV13: 0 | CW13: =IFERROR(CU13/(CV13*2.20462262185),0) | CX13: 216256 | CY13: 219700 | CZ13: =IFERROR(CX13/(CY13*2.20462262185),0) | DA13: 677687 | DB13: 879550 | DC13: =IFERROR(DA13/(DB13*2.20462262185),0) | DD13: 641195 | DE13: 704000 | DF13: =IFERROR(DD13/(DE13*2.20462262185),0) | DG13: 297000 | DH13: 330000 | DI13: =IFERROR(DG13/(DH13*2.20462262185),0) | DJ13: 1268942 | DK13: 1223722 | DL13: =IFERROR(DJ13/(DK13*2.20462262185),0) | DM13: 0 | DN13: 0 | DO13: =IFERROR(DM13/(DN13*2.20462262185),0) | DP13: 0 | DQ13: 0 | DR13: =IFERROR(DP13/(DQ13*2.20462262185),0) | DS13: 0 | DT13: 0 | DU13: =IFERROR(DS13/(DT13*2.20462262185),0) | DV13: 35085 | DW13: 21047 | DX13: =IFERROR(DV13/(DW13*2.20462262185),0) | DY13: 0 | DZ13: 0 | EA13: =IFERROR(DY13/(DZ13*2.20462262185),0) | EB13: 419323 | EC13: 396000 | ED13: =IFERROR(EB13/(EC13*2.20462262185),0) | EE13: 677010 | EF13: 592900 | EG13: =IFERROR(EE13/(EF13*2.20462262185),0) | EK13: 113588 | EL13: 90870 | EM13: =IFERROR(EK13/(EL13*2.20462262185),0) | EN13: 193977 | EO13: 155180 | EP13: =IFERROR(EN13/(EO13*2.20462262185),0) | EQ13: 0 | ER13: 0 | ES13: =IFERROR(EQ13/(ER13*2.20462262185),0) | ET13: 0 | EU13: 0 | EV13: =IFERROR(ET13/(EU13*2.20462262185),0) | EW13: 2101014 | EX13: 1320000 | EY13: =IFERROR(EW13/(EX13*2.20462262185),0) | EZ13: 6447894 | FA13: 4136000 | FB13: =IFERROR(EZ13/(FA13*2.20462262185),0) | FC13: 4234747 | FD13: 2910400 | FE13: =IFERROR(FC13/(FD13*2.20462262185),0) | FF13: 4386144 | FG13: 3022600 | FH13: =IFERROR(FF13/(FG13*2.20462262185),0) | FI13: 4483478 | FJ13: 3410000 | FK13: =IFERROR(FI13/(FJ13*2.20462262185),0) | FL13: 7190693 | FM13: 5814000 | FN13: =IFERROR(FL13/(FM13*2.20462262185),0) | FO13: 3430105 | FP13: 2706000 | FQ13: =IFERROR(FO13/(FP13*2.20462262185),0) | FR13: 5994056 | FS13: 5082000 | FT13: =IFERROR(FR13/(FS13*2.20462262185),0)
A14: Indonesia | B14: =SUM(I14,L14,O14,R14,U14,X14,AA14,AD14) | C14: =SUM(J14,M14,P14,S14,V14,Y14,AB14,AE14) | D14: =C14/1000000 | E14: =C14*2.20462262185/1000000 | F14: =IFERROR(B14/(C14/1000),0) | G14: =IFERROR(B14/(C14*2.20462262185),0) | I14: 1559371 | J14: 1860765 | K14: =IFERROR(I14/(J14*2.20462262185),0) | L14: 828868 | M14: 954708 | N14: =IFERROR(L14/(M14*2.20462262185),0) | O14: 1402449 | P14: 1528520 | Q14: =IFERROR(O14/(P14*2.20462262185),0) | R14: 996463 | S14: 1437822 | T14: =IFERROR(R14/(S14*2.20462262185),0) | U14: 1651799 | V14: 2204581 | W14: =IFERROR(U14/(V14*2.20462262185),0) | X14: 1139683 | Y14: 2001158 | Z14: =IFERROR(X14/(Y14*2.20462262185),0) | AA14: 1142206 | AB14: 1823290 | AC14: =IFERROR(AA14/(AB14*2.20462262185),0) | AD14: 1040047 | AE14: 1409696 | AF14: =IFERROR(AD14/(AE14*2.20462262185),0) | AG14: 389540 | AH14: 445064 | AI14: =IFERROR(AG14/(AH14*2.20462262185),0) | AJ14: 725272 | AK14: 1184426 | AL14: =IFERROR(AJ14/(AK14*2.20462262185),0) | AM14: 684065 | AN14: 938072 | AO14: =IFERROR(AM14/(AN14*2.20462262185),0) | AP14: 597311 | AQ14: 863347 | AR14: =IFERROR(AP14/(AQ14*2.20462262185),0) | AS14: 812407 | AT14: 1127675 | AU14: =IFERROR(AS14/(AT14*2.20462262185),0) | AV14: 95010 | AW14: 142337 | AX14: =IFERROR(AV14/(AW14*2.20462262185),0) | AY14: 1247686 | AZ14: 1418074 | BA14: =IFERROR(AY14/(AZ14*2.20462262185),0) | BB14: 1845602 | BC14: 1987254 | BD14: =IFERROR(BB14/(BC14*2.20462262185),0) | BE14: 1179280 | BF14: 1343223 | BG14: =IFERROR(BE14/(BF14*2.20462262185),0) | BH14: 1787340 | BI14: 1995464 | BJ14: =IFERROR(BH14/(BI14*2.20462262185),0) | BK14: 4182689 | BL14: 3777759 | BM14: =IFERROR(BK14/(BL14*2.20462262185),0) | BN14: 653432 | BO14: 813605 | BP14: =IFERROR(BN14/(BO14*2.20462262185),0) | BQ14: 1476231 | BR14: 1702419 | BS14: =IFERROR(BQ14/(BR14*2.20462262185),0) | BT14: 1111910 | BU14: 1385624 | BV14: =IFERROR(BT14/(BU14*2.20462262185),0) | BW14: 832906 | BX14: 897080 | BY14: =IFERROR(BW14/(BX14*2.20462262185),0) | BZ14: 961657 | CA14: 1316052 | CB14: =IFERROR(BZ14/(CA14*2.20462262185),0) | CC14: 220831 | CD14: 316771 | CE14: =IFERROR(CC14/(CD14*2.20462262185),0) | CF14: 1512739 | CG14: 1867290 | CH14: =IFERROR(CF14/(CG14*2.20462262185),0) | CI14: 1218945 | CJ14: 1385282 | CK14: =IFERROR(CI14/(CJ14*2.20462262185),0) | CL14: 924535 | CM14: 1002047 | CN14: =IFERROR(CL14/(CM14*2.20462262185),0) | CO14: 687098 | CP14: 832597 | CQ14: =IFERROR(CO14/(CP14*2.20462262185),0) | CR14: 700956 | CS14: 877527 | CT14: =IFERROR(CR14/(CS14*2.20462262185),0) | CU14: 528083 | CV14: 639129 | CW14: =IFERROR(CU14/(CV14*2.20462262185),0) | CX14: 548088 | CY14: 922031 | CZ14: =IFERROR(CX14/(CY14*2.20462262185),0) | DA14: 1042664 | DB14: 1620064 | DC14: =IFERROR(DA14/(DB14*2.20462262185),0) | DD14: 297625 | DE14: 463277 | DF14: =IFERROR(DD14/(DE14*2.20462262185),0) | DG14: 750964 | DH14: 1196624 | DI14: =IFERROR(DG14/(DH14*2.20462262185),0) | DJ14: 228309 | DK14: 413407 | DL14: =IFERROR(DJ14/(DK14*2.20462262185),0) | DM14: 0 | DN14: 0 | DO14: =IFERROR(DM14/(DN14*2.20462262185),0) | DP14: 471848 | DQ14: 349600 | DR14: =IFERROR(DP14/(DQ14*2.20462262185),0) | DS14: 623089 | DT14: 457000 | DU14: =IFERROR(DS14/(DT14*2.20462262185),0) | DV14: 641439 | DW14: 524400 | DX14: =IFERROR(DV14/(DW14*2.20462262185),0) | EK14: 635885 | EL14: 524400 | EM14: =IFERROR(EK14/(EL14*2.20462262185),0) | EN14: 0 | EO14: 0 | EP14: =IFERROR(EN14/(EO14*2.20462262185),0) | EQ14: 0 | ER14: 0 | ES14: =IFERROR(EQ14/(ER14*2.20462262185),0) | ET14: 525894 | EU14: 458850 | EV14: =IFERROR(ET14/(EU14*2.20462262185),0) | EW14: 175298 | EX14: 109250 | EY14: =IFERROR(EW14/(EX14*2.20462262185),0) | EZ14: 624292 | FA14: 437000 | FB14: =IFERROR(EZ14/(FA14*2.20462262185),0) | FC14: 721302 | FD14: 437000 | FE14: =IFERROR(FC14/(FD14*2.20462262185),0) | FF14: 0 | FG14: 0 | FH14: =IFERROR(FF14/(FG14*2.20462262185),0) | FI14: 0 | FJ14: 0 | FK14: =IFERROR(FI14/(FJ14*2.20462262185),0) | FL14: 1160068 | FM14: 699200 | FN14: =IFERROR(FL14/(FM14*2.20462262185),0) | FO14: 507726 | FP14: 305900 | FQ14: =IFERROR(FO14/(FP14*2.20462262185),0)
A15: Canada | B15: =SUM(I15,L15,O15,R15,U15,X15,AA15,AD15) | C15: =SUM(J15,M15,P15,S15,V15,Y15,AB15,AE15) | D15: =C15/1000000 | E15: =C15*2.20462262185/1000000 | F15: =IFERROR(B15/(C15/1000),0) | G15: =IFERROR(B15/(C15*2.20462262185),0) | I15: 1627737 | J15: 1366047 | K15: =IFERROR(I15/(J15*2.20462262185),0) | L15: 1412531 | M15: 1109484 | N15: =IFERROR(L15/(M15*2.20462262185),0) | O15: 2092750 | P15: 1587031 | Q15: =IFERROR(O15/(P15*2.20462262185),0) | R15: 1798049 | S15: 1392844 | T15: =IFERROR(R15/(S15*2.20462262185),0) | U15: 1602069 | V15: 1199643 | W15: =IFERROR(U15/(V15*2.20462262185),0) | X15: 2053266 | Y15: 1497207 | Z15: =IFERROR(X15/(Y15*2.20462262185),0) | AA15: 2209061 | AB15: 1904276 | AC15: =IFERROR(AA15/(AB15*2.20462262185),0) | AD15: 2419821 | AE15: 2283431 | AF15: =IFERROR(AD15/(AE15*2.20462262185),0) | AG15: 1783074 | AH15: 1776289 | AI15: =IFERROR(AG15/(AH15*2.20462262185),0) | AJ15: 1856624 | AK15: 1768705 | AL15: =IFERROR(AJ15/(AK15*2.20462262185),0) | AM15: 1274055 | AN15: 1461238 | AO15: =IFERROR(AM15/(AN15*2.20462262185),0) | AP15: 2597064 | AQ15: 2332710 | AR15: =IFERROR(AP15/(AQ15*2.20462262185),0) | AS15: 1218313 | AT15: 1347788 | AU15: =IFERROR(AS15/(AT15*2.20462262185),0) | AV15: 2553933 | AW15: 2176881 | AX15: =IFERROR(AV15/(AW15*2.20462262185),0) | AY15: 1893046 | AZ15: 1804731 | BA15: =IFERROR(AY15/(AZ15*2.20462262185),0) | BB15: 1873341 | BC15: 1594415 | BD15: =IFERROR(BB15/(BC15*2.20462262185),0) | BE15: 1630046 | BF15: 1434875 | BG15: =IFERROR(BE15/(BF15*2.20462262185),0) | BH15: 2008220 | BI15: 1564341 | BJ15: =IFERROR(BH15/(BI15*2.20462262185),0) | BK15: 3184944 | BL15: 2355248 | BM15: =IFERROR(BK15/(BL15*2.20462262185),0) | BN15: 3864269 | BO15: 2592190 | BP15: =IFERROR(BN15/(BO15*2.20462262185),0) | BQ15: 2796933 | BR15: 1820379 | BS15: =IFERROR(BQ15/(BR15*2.20462262185),0) | BT15: 1985757 | BU15: 1358016 | BV15: =IFERROR(BT15/(BU15*2.20462262185),0) | BW15: 2423127 | BX15: 1595980 | BY15: =IFERROR(BW15/(BX15*2.20462262185),0) | BZ15: 2318044 | CA15: 1543515 | CB15: =IFERROR(BZ15/(CA15*2.20462262185),0) | CC15: 2805666 | CD15: 1834126 | CE15: =IFERROR(CC15/(CD15*2.20462262185),0) | CF15: 2124922 | CG15: 1420715 | CH15: =IFERROR(CF15/(CG15*2.20462262185),0) | CI15: 3348658 | CJ15: 2409891 | CK15: =IFERROR(CI15/(CJ15*2.20462262185),0) | CL15: 3891675 | CM15: 2891842 | CN15: =IFERROR(CL15/(CM15*2.20462262185),0) | CO15: 2436039 | CP15: 1946581 | CQ15: =IFERROR(CO15/(CP15*2.20462262185),0) | CR15: 2258553 | CS15: 2023770 | CT15: =IFERROR(CR15/(CS15*2.20462262185),0) | CU15: 2000798 | CV15: 1515924 | CW15: =IFERROR(CU15/(CV15*2.20462262185),0) | CX15: 2175924 | CY15: 1678465 | CZ15: =IFERROR(CX15/(CY15*2.20462262185),0) | DA15: 2438651 | DB15: 1455039 | DC15: =IFERROR(DA15/(DB15*2.20462262185),0) | DD15: 1950525 | DE15: 1215178 | DF15: =IFERROR(DD15/(DE15*2.20462262185),0) | DG15: 2146468 | DH15: 1396377 | DI15: =IFERROR(DG15/(DH15*2.20462262185),0) | DJ15: 1763700 | DK15: 1168578 | DL15: =IFERROR(DJ15/(DK15*2.20462262185),0) | DM15: 2780988 | DN15: 1602001 | DO15: =IFERROR(DM15/(DN15*2.20462262185),0) | DP15: 4608528 | DQ15: 2498460 | DR15: =IFERROR(DP15/(DQ15*2.20462262185),0) | DS15: 3614897 | DT15: 1907214 | DU15: =IFERROR(DS15/(DT15*2.20462262185),0) | DV15: 4262800 | DW15: 2230233 | DX15: =IFERROR(DV15/(DW15*2.20462262185),0) | DY15: 4190706 | DZ15: 2278470 | EA15: =IFERROR(DY15/(DZ15*2.20462262185),0) | EB15: 3984285 | EC15: 2164727 | ED15: =IFERROR(EB15/(EC15*2.20462262185),0) | EE15: 3241768 | EF15: 1995982 | EG15: =IFERROR(EE15/(EF15*2.20462262185),0) | EH15: 5015200 | EI15: 3173884 | EJ15: =IFERROR(EH15/(EI15*2.20462262185),0) | EK15: 3353561 | EL15: 2002340 | EM15: =IFERROR(EK15/(EL15*2.20462262185),0) | EN15: 3338957 | EO15: 1841093 | EP15: =IFERROR(EN15/(EO15*2.20462262185),0) | EQ15: 4066966 | ER15: 2200996 | ES15: =IFERROR(EQ15/(ER15*2.20462262185),0) | ET15: 3752197 | EU15: 2070787 | EV15: =IFERROR(ET15/(EU15*2.20462262185),0) | EW15: 5109927 | EX15: 2230723 | EY15: =IFERROR(EW15/(EX15*2.20462262185),0) | EZ15: 5090791 | FA15: 2057067 | FB15: =IFERROR(EZ15/(FA15*2.20462262185),0) | FC15: 4476790 | FD15: 1817992 | FE15: =IFERROR(FC15/(FD15*2.20462262185),0) | FF15: 5470387 | FG15: 2215319 | FH15: =IFERROR(FF15/(FG15*2.20462262185),0) | FI15: 4168389 | FJ15: 1817267 | FK15: =IFERROR(FI15/(FJ15*2.20462262185),0) | FL15: 4277210 | FM15: 2126349 | FN15: =IFERROR(FL15/(FM15*2.20462262185),0) | FO15: 3324077 | FP15: 1641631 | FQ15: =IFERROR(FO15/(FP15*2.20462262185),0) | FR15: 4333092 | FS15: 2174716 | FT15: =IFERROR(FR15/(FS15*2.20462262185),0)
A16: Malaysia | B16: =SUM(I16,L16,O16,R16,U16,X16,AA16,AD16) | C16: =SUM(J16,M16,P16,S16,V16,Y16,AB16,AE16) | D16: =C16/1000000 | E16: =C16*2.20462262185/1000000 | F16: =IFERROR(B16/(C16/1000),0) | G16: =IFERROR(B16/(C16*2.20462262185),0) | I16: 1753124 | J16: 1298000 | K16: =IFERROR(I16/(J16*2.20462262185),0) | L16: 1935585 | M16: 1496000 | N16: =IFERROR(L16/(M16*2.20462262185),0) | O16: 698140 | P16: 528000 | Q16: =IFERROR(O16/(P16*2.20462262185),0) | R16: 110143 | S16: 132000 | T16: =IFERROR(R16/(S16*2.20462262185),0) | U16: 1817484 | V16: 2112000 | W16: =IFERROR(U16/(V16*2.20462262185),0) | X16: 1040691 | Y16: 1210000 | Z16: =IFERROR(X16/(Y16*2.20462262185),0) | AA16: 1149614 | AB16: 1383000 | AC16: =IFERROR(AA16/(AB16*2.20462262185),0) | AD16: 1531565 | AE16: 1813261 | AF16: =IFERROR(AD16/(AE16*2.20462262185),0) | AG16: 1448570 | AH16: 1644504 | AI16: =IFERROR(AG16/(AH16*2.20462262185),0) | AJ16: 1502935 | AK16: 1672000 | AL16: =IFERROR(AJ16/(AK16*2.20462262185),0) | AM16: 2894962 | AN16: 3102000 | AO16: =IFERROR(AM16/(AN16*2.20462262185),0) | AP16: 677095 | AQ16: 638000 | AR16: =IFERROR(AP16/(AQ16*2.20462262185),0) | AS16: 881180 | AT16: 808705 | AU16: =IFERROR(AS16/(AT16*2.20462262185),0) | AV16: 3025405 | AW16: 3166520 | AX16: =IFERROR(AV16/(AW16*2.20462262185),0) | AY16: 2607297 | AZ16: 2570205 | BA16: =IFERROR(AY16/(AZ16*2.20462262185),0) | BB16: 2334236 | BC16: 2329581 | BD16: =IFERROR(BB16/(BC16*2.20462262185),0) | BE16: 3066479 | BF16: 3192000 | BG16: =IFERROR(BE16/(BF16*2.20462262185),0) | BH16: 2383246 | BI16: 2613390 | BJ16: =IFERROR(BH16/(BI16*2.20462262185),0) | BK16: 1431708 | BL16: 1460000 | BM16: =IFERROR(BK16/(BL16*2.20462262185),0) | BN16: 3547275 | BO16: 3923961 | BP16: =IFERROR(BN16/(BO16*2.20462262185),0) | BQ16: 1737855 | BR16: 1728000 | BS16: =IFERROR(BQ16/(BR16*2.20462262185),0) | BT16: 935410 | BU16: 902000 | BV16: =IFERROR(BT16/(BU16*2.20462262185),0) | BW16: 956715 | BX16: 924000 | BY16: =IFERROR(BW16/(BX16*2.20462262185),0) | BZ16: 1385674 | CA16: 1328000 | CB16: =IFERROR(BZ16/(CA16*2.20462262185),0) | CC16: 1987371 | CD16: 1726300 | CE16: =IFERROR(CC16/(CD16*2.20462262185),0) | CF16: 2793212 | CG16: 2746216 | CH16: =IFERROR(CF16/(CG16*2.20462262185),0) | CI16: 3251962 | CJ16: 3096638 | CK16: =IFERROR(CI16/(CJ16*2.20462262185),0) | CL16: 1467064 | CM16: 1382000 | CN16: =IFERROR(CL16/(CM16*2.20462262185),0) | CO16: 1214836 | CP16: 1218000 | CQ16: =IFERROR(CO16/(CP16*2.20462262185),0) | CR16: 2245327 | CS16: 2245000 | CT16: =IFERROR(CR16/(CS16*2.20462262185),0) | CU16: 1066152 | CV16: 992000 | CW16: =IFERROR(CU16/(CV16*2.20462262185),0) | CX16: 1936233 | CY16: 1942030 | CZ16: =IFERROR(CX16/(CY16*2.20462262185),0) | DA16: 635270 | DB16: 596000 | DC16: =IFERROR(DA16/(DB16*2.20462262185),0) | DD16: 1940115 | DE16: 1931107 | DF16: =IFERROR(DD16/(DE16*2.20462262185),0) | DG16: 4342054 | DH16: 4457174 | DI16: =IFERROR(DG16/(DH16*2.20462262185),0) | DJ16: 3627191 | DK16: 3664190 | DL16: =IFERROR(DJ16/(DK16*2.20462262185),0) | DM16: 1904264 | DN16: 1788000 | DO16: =IFERROR(DM16/(DN16*2.20462262185),0) | DP16: 661988 | DQ16: 615000 | DR16: =IFERROR(DP16/(DQ16*2.20462262185),0) | DS16: 3169303 | DT16: 2924200 | DU16: =IFERROR(DS16/(DT16*2.20462262185),0) | DV16: 532317 | DW16: 486000 | DX16: =IFERROR(DV16/(DW16*2.20462262185),0) | DY16: 31825 | DZ16: 19000 | EA16: =IFERROR(DY16/(DZ16*2.20462262185),0) | EB16: 2607196 | EC16: 2426800 | ED16: =IFERROR(EB16/(EC16*2.20462262185),0) | EE16: 2657506 | EF16: 2628000 | EG16: =IFERROR(EE16/(EF16*2.20462262185),0) | EH16: 980720 | EI16: 946000 | EJ16: =IFERROR(EH16/(EI16*2.20462262185),0) | EK16: 135960 | EL16: 124520 | EM16: =IFERROR(EK16/(EL16*2.20462262185),0) | EN16: 234417 | EO16: 190430 | EP16: =IFERROR(EN16/(EO16*2.20462262185),0) | EQ16: 112932 | ER16: 88000 | ES16: =IFERROR(EQ16/(ER16*2.20462262185),0) | ET16: 1973552 | EU16: 1660296 | EV16: =IFERROR(ET16/(EU16*2.20462262185),0) | EW16: 2198351 | EX16: 1585296 | EY16: =IFERROR(EW16/(EX16*2.20462262185),0) | EZ16: 1107390 | FA16: 748000 | FB16: =IFERROR(EZ16/(FA16*2.20462262185),0) | FC16: 3492409 | FD16: 2308000 | FE16: =IFERROR(FC16/(FD16*2.20462262185),0) | FF16: 1130035 | FG16: 768000 | FH16: =IFERROR(FF16/(FG16*2.20462262185),0) | FI16: 595684 | FJ16: 422000 | FK16: =IFERROR(FI16/(FJ16*2.20462262185),0) | FL16: 1088997 | FM16: 758000 | FN16: =IFERROR(FL16/(FM16*2.20462262185),0) | FO16: 2377457 | FP16: 1708530 | FQ16: =IFERROR(FO16/(FP16*2.20462262185),0) | FR16: 1114656 | FS16: 606000 | FT16: =IFERROR(FR16/(FS16*2.20462262185),0)
