Workbook

Sheet Information
A1: PET Resin — USA Trade Data
A2: HTS codes tracked:
A3: 3907.61.0010 | B3: PET resin imports — IV ≥ 0.78 but ≤ 0.88 bottle grade
A4: 3907.61.0050 | B4: PET resin imports — IV > 0.88 high IV
A5: 3907.69.0010 | B5: PET resin imports — IV ≥ 0.70 but < 0.78 packaging grade
A6: 3907.69.0050 | B6: PET resin imports — IV < 0.70 (PCR territory)
A7: 3907.61.0000 | B7: PET resin exports — IV ≥ 0.70
A8: 3907.69.0000 | B8: PET resin exports — IV < 0.70
A10: Data through: 2026-08
A11: Source: U.S. Census Bureau International Trade API

Sheet Imp 3907610010
A1: IMPORTS 3907.61.0010 — IV ≥ 0.78 but ≤ 0.88 bottle grade
A2: Country | B2: YTD 2026 | I2: August 2026 | L2: July 2026 | O2: June 2026 | R2: May 2026 | U2: April 2026 | X2: March 2026 | AA2: February 2026 | AD2: January 2026 | AG2: December 2025 | AJ2: November 2025 | AM2: October 2025 | AP2: September 2025 | AS2: August 2025 | AV2: July 2025 | AY2: June 2025 | BB2: May 2025 | BE2: April 2025 | BH2: March 2025 | BK2: February 2025 | BN2: January 2025 | BQ2: December 2024 | BT2: November 2024 | BW2: October 2024 | BZ2: September 2024 | CC2: August 2024 | CF2: July 2024 | CI2: June 2024 | CL2: May 2024 | CO2: April 2024 | CR2: March 2024 | CU2: February 2024 | CX2: January 2024 | DA2: December 2023 | DD2: November 2023 | DG2: October 2023 | DJ2: September 2023 | DM2: August 2023 | DP2: July 2023 | DS2: June 2023 | DV2: May 2023 | DY2: April 2023 | EB2: March 2023 | EE2: February 2023 | EH2: January 2023 | EK2: December 2022 | EN2: November 2022 | EQ2: October 2022 | ET2: September 2022 | EW2: August 2022 | EZ2: July 2022 | FC2: June 2022 | FF2: May 2022 | FI2: April 2022 | FL2: March 2022 | FO2: February 2022 | FR2: January 2022
B3: Value | C3: Quantity | D3: Quantity | E3: Quantity | F3: Price | G3: Price | I3: Value | J3: Quantity | K3: Price | L3: Value | M3: Quantity | N3: Price | O3: Value | P3: Quantity | Q3: Price | R3: Value | S3: Quantity | T3: Price | U3: Value | V3: Quantity | W3: Price | X3: Value | Y3: Quantity | Z3: Price | AA3: Value | AB3: Quantity | AC3: Price | AD3: Value | AE3: Quantity | AF3: Price | AG3: Value | AH3: Quantity | AI3: Price | AJ3: Value | AK3: Quantity | AL3: Price | AM3: Value | AN3: Quantity | AO3: Price | AP3: Value | AQ3: Quantity | AR3: Price | AS3: Value | AT3: Quantity | AU3: Price | AV3: Value | AW3: Quantity | AX3: Price | AY3: Value | AZ3: Quantity | BA3: Price | BB3: Value | BC3: Quantity | BD3: Price | BE3: Value | BF3: Quantity | BG3: Price | BH3: Value | BI3: Quantity | BJ3: Price | BK3: Value | BL3: Quantity | BM3: Price | BN3: Value | BO3: Quantity | BP3: Price | BQ3: Value | BR3: Quantity | BS3: Price | BT3: Value | BU3: Quantity | BV3: Price | BW3: Value | BX3: Quantity | BY3: Price | BZ3: Value | CA3: Quantity | CB3: Price | CC3: Value | CD3: Quantity | CE3: Price | CF3: Value | CG3: Quantity | CH3: Price | CI3: Value | CJ3: Quantity | CK3: Price | CL3: Value | CM3: Quantity | CN3: Price | CO3: Value | CP3: Quantity | CQ3: Price | CR3: Value | CS3: Quantity | CT3: Price | CU3: Value | CV3: Quantity | CW3: Price | CX3: Value | CY3: Quantity | CZ3: Price | DA3: Value | DB3: Quantity | DC3: Price | DD3: Value | DE3: Quantity | DF3: Price | DG3: Value | DH3: Quantity | DI3: Price | DJ3: Value | DK3: Quantity | DL3: Price | DM3: Value | DN3: Quantity | DO3: Price | DP3: Value | DQ3: Quantity | DR3: Price | DS3: Value | DT3: Quantity | DU3: Price | DV3: Value | DW3: Quantity | DX3: Price | DY3: Value | DZ3: Quantity | EA3: Price | EB3: Value | EC3: Quantity | ED3: Price | EE3: Value | EF3: Quantity | EG3: Price | EH3: Value | EI3: Quantity | EJ3: Price | EK3: Value | EL3: Quantity | EM3: Price | EN3: Value | EO3: Quantity | EP3: Price | EQ3: Value | ER3: Quantity | ES3: Price | ET3: Value | EU3: Quantity | EV3: Price | EW3: Value | EX3: Quantity | EY3: Price | EZ3: Value | FA3: Quantity | FB3: Price | FC3: Value | FD3: Quantity | FE3: Price | FF3: Value | FG3: Quantity | FH3: Price | FI3: Value | FJ3: Quantity | FK3: Price | FL3: Value | FM3: Quantity | FN3: Price | FO3: Value | FP3: Quantity | FQ3: Price | FR3: Value | FS3: Quantity | FT3: Price
B4: US$ | C4: KG | D4: KMT | E4: MM lbs | F4: $/ton | G4: $/lb | I4: US$ | J4: KG | K4: $/lb | L4: US$ | M4: KG | N4: $/lb | O4: US$ | P4: KG | Q4: $/lb | R4: US$ | S4: KG | T4: $/lb | U4: US$ | V4: KG | W4: $/lb | X4: US$ | Y4: KG | Z4: $/lb | AA4: US$ | AB4: KG | AC4: $/lb | AD4: US$ | AE4: KG | AF4: $/lb | AG4: US$ | AH4: KG | AI4: $/lb | AJ4: US$ | AK4: KG | AL4: $/lb | AM4: US$ | AN4: KG | AO4: $/lb | AP4: US$ | AQ4: KG | AR4: $/lb | AS4: US$ | AT4: KG | AU4: $/lb | AV4: US$ | AW4: KG | AX4: $/lb | AY4: US$ | AZ4: KG | BA4: $/lb | BB4: US$ | BC4: KG | BD4: $/lb | BE4: US$ | BF4: KG | BG4: $/lb | BH4: US$ | BI4: KG | BJ4: $/lb | BK4: US$ | BL4: KG | BM4: $/lb | BN4: US$ | BO4: KG | BP4: $/lb | BQ4: US$ | BR4: KG | BS4: $/lb | BT4: US$ | BU4: KG | BV4: $/lb | BW4: US$ | BX4: KG | BY4: $/lb | BZ4: US$ | CA4: KG | CB4: $/lb | CC4: US$ | CD4: KG | CE4: $/lb | CF4: US$ | CG4: KG | CH4: $/lb | CI4: US$ | CJ4: KG | CK4: $/lb | CL4: US$ | CM4: KG | CN4: $/lb | CO4: US$ | CP4: KG | CQ4: $/lb | CR4: US$ | CS4: KG | CT4: $/lb | CU4: US$ | CV4: KG | CW4: $/lb | CX4: US$ | CY4: KG | CZ4: $/lb | DA4: US$ | DB4: KG | DC4: $/lb | DD4: US$ | DE4: KG | DF4: $/lb | DG4: US$ | DH4: KG | DI4: $/lb | DJ4: US$ | DK4: KG | DL4: $/lb | DM4: US$ | DN4: KG | DO4: $/lb | DP4: US$ | DQ4: KG | DR4: $/lb | DS4: US$ | DT4: KG | DU4: $/lb | DV4: US$ | DW4: KG | DX4: $/lb | DY4: US$ | DZ4: KG | EA4: $/lb | EB4: US$ | EC4: KG | ED4: $/lb | EE4: US$ | EF4: KG | EG4: $/lb | EH4: US$ | EI4: KG | EJ4: $/lb | EK4: US$ | EL4: KG | EM4: $/lb | EN4: US$ | EO4: KG | EP4: $/lb | EQ4: US$ | ER4: KG | ES4: $/lb | ET4: US$ | EU4: KG | EV4: $/lb | EW4: US$ | EX4: KG | EY4: $/lb | EZ4: US$ | FA4: KG | FB4: $/lb | FC4: US$ | FD4: KG | FE4: $/lb | FF4: US$ | FG4: KG | FH4: $/lb | FI4: US$ | FJ4: KG | FK4: $/lb | FL4: US$ | FM4: KG | FN4: $/lb | FO4: US$ | FP4: KG | FQ4: $/lb | FR4: US$ | FS4: KG | FT4: $/lb
A5: World Total | B5: =SUM(I5,L5,O5,R5,U5,X5,AA5,AD5) | C5: =SUM(J5,M5,P5,S5,V5,Y5,AB5,AE5) | D5: =C5/1000000 | E5: =C5*2.20462262185/1000000 | F5: =IFERROR(B5/(C5/1000),0) | G5: =IFERROR(B5/(C5*2.20462262185),0) | I5: 78728809 | J5: 64114921 | K5: =IFERROR(I5/(J5*2.20462262185),0) | L5: 106505030 | M5: 83596088 | N5: =IFERROR(L5/(M5*2.20462262185),0) | O5: 91067674 | P5: 72546853 | Q5: =IFERROR(O5/(P5*2.20462262185),0) | R5: 83170141 | S5: 69527410 | T5: =IFERROR(R5/(S5*2.20462262185),0) | U5: 71242022 | V5: 67179723 | W5: =IFERROR(U5/(V5*2.20462262185),0) | X5: 69202422 | Y5: 66487194 | Z5: =IFERROR(X5/(Y5*2.20462262185),0) | AA5: 75063267 | AB5: 71301302 | AC5: =IFERROR(AA5/(AB5*2.20462262185),0) | AD5: 66769154 | AE5: 64280168 | AF5: =IFERROR(AD5/(AE5*2.20462262185),0) | AG5: 54065784 | AH5: 48787840 | AI5: =IFERROR(AG5/(AH5*2.20462262185),0) | AJ5: 41905650 | AK5: 39131132 | AL5: =IFERROR(AJ5/(AK5*2.20462262185),0) | AM5: 56260798 | AN5: 54557026 | AO5: =IFERROR(AM5/(AN5*2.20462262185),0) | AP5: 71617966 | AQ5: 69329117 | AR5: =IFERROR(AP5/(AQ5*2.20462262185),0) | AS5: 76534645 | AT5: 70536323 | AU5: =IFERROR(AS5/(AT5*2.20462262185),0) | AV5: 81761651 | AW5: 74617781 | AX5: =IFERROR(AV5/(AW5*2.20462262185),0) | AY5: 78273090 | AZ5: 71503534 | BA5: =IFERROR(AY5/(AZ5*2.20462262185),0) | BB5: 93072973 | BC5: 84420951 | BD5: =IFERROR(BB5/(BC5*2.20462262185),0) | BE5: 88409696 | BF5: 80665119 | BG5: =IFERROR(BE5/(BF5*2.20462262185),0) | BH5: 106022668 | BI5: 92329091 | BJ5: =IFERROR(BH5/(BI5*2.20462262185),0) | BK5: 85699578 | BL5: 71407270 | BM5: =IFERROR(BK5/(BL5*2.20462262185),0) | BN5: 98171327 | BO5: 83887373 | BP5: =IFERROR(BN5/(BO5*2.20462262185),0) | BQ5: 80879604 | BR5: 67326635 | BS5: =IFERROR(BQ5/(BR5*2.20462262185),0) | BT5: 80072562 | BU5: 65232661 | BV5: =IFERROR(BT5/(BU5*2.20462262185),0) | BW5: 84205637 | BX5: 67098265 | BY5: =IFERROR(BW5/(BX5*2.20462262185),0) | BZ5: 86610587 | CA5: 68453025 | CB5: =IFERROR(BZ5/(CA5*2.20462262185),0) | CC5: 73323285 | CD5: 59213440 | CE5: =IFERROR(CC5/(CD5*2.20462262185),0) | CF5: 83317298 | CG5: 71184644 | CH5: =IFERROR(CF5/(CG5*2.20462262185),0) | CI5: 76526475 | CJ5: 63291300 | CK5: =IFERROR(CI5/(CJ5*2.20462262185),0) | CL5: 72142135 | CM5: 60609026 | CN5: =IFERROR(CL5/(CM5*2.20462262185),0) | CO5: 81490915 | CP5: 69245164 | CQ5: =IFERROR(CO5/(CP5*2.20462262185),0) | CR5: 89426709 | CS5: 73445045 | CT5: =IFERROR(CR5/(CS5*2.20462262185),0) | CU5: 69448197 | CV5: 59457611 | CW5: =IFERROR(CU5/(CV5*2.20462262185),0) | CX5: 88805260 | CY5: 78775765 | CZ5: =IFERROR(CX5/(CY5*2.20462262185),0) | DA5: 83493664 | DB5: 70825121 | DC5: =IFERROR(DA5/(DB5*2.20462262185),0) | DD5: 85990195 | DE5: 69643970 | DF5: =IFERROR(DD5/(DE5*2.20462262185),0) | DG5: 101532213 | DH5: 87467002 | DI5: =IFERROR(DG5/(DH5*2.20462262185),0) | DJ5: 100524884 | DK5: 83090028 | DL5: =IFERROR(DJ5/(DK5*2.20462262185),0) | DM5: 89809227 | DN5: 69128793 | DO5: =IFERROR(DM5/(DN5*2.20462262185),0) | DP5: 79737488 | DQ5: 62882646 | DR5: =IFERROR(DP5/(DQ5*2.20462262185),0) | DS5: 80002231 | DT5: 61353348 | DU5: =IFERROR(DS5/(DT5*2.20462262185),0) | DV5: 77779806 | DW5: 58135601 | DX5: =IFERROR(DV5/(DW5*2.20462262185),0) | DY5: 74427434 | DZ5: 57324981 | EA5: =IFERROR(DY5/(DZ5*2.20462262185),0) | EB5: 72362461 | EC5: 53632790 | ED5: =IFERROR(EB5/(EC5*2.20462262185),0) | EE5: 93978606 | EF5: 68798976 | EG5: =IFERROR(EE5/(EF5*2.20462262185),0) | EH5: 94024737 | EI5: 67803376 | EJ5: =IFERROR(EH5/(EI5*2.20462262185),0) | EK5: 93483013 | EL5: 63379508 | EM5: =IFERROR(EK5/(EL5*2.20462262185),0) | EN5: 108620575 | EO5: 72560661 | EP5: =IFERROR(EN5/(EO5*2.20462262185),0) | EQ5: 125396010 | ER5: 76401220 | ES5: =IFERROR(EQ5/(ER5*2.20462262185),0) | ET5: 126722222 | EU5: 73051031 | EV5: =IFERROR(ET5/(EU5*2.20462262185),0) | EW5: 147498924 | EX5: 86110531 | EY5: =IFERROR(EW5/(EX5*2.20462262185),0) | EZ5: 143872692 | FA5: 87057998 | FB5: =IFERROR(EZ5/(FA5*2.20462262185),0) | FC5: 145078389 | FD5: 93738336 | FE5: =IFERROR(FC5/(FD5*2.20462262185),0) | FF5: 154987249 | FG5: 102310644 | FH5: =IFERROR(FF5/(FG5*2.20462262185),0) | FI5: 139963853 | FJ5: 92025878 | FK5: =IFERROR(FI5/(FJ5*2.20462262185),0) | FL5: 132832251 | FM5: 93907216 | FN5: =IFERROR(FL5/(FM5*2.20462262185),0) | FO5: 108177087 | FP5: 78755251 | FQ5: =IFERROR(FO5/(FP5*2.20462262185),0) | FR5: 112965433 | FS5: 83664390 | FT5: =IFERROR(FR5/(FS5*2.20462262185),0)
A6: Mexico | B6: =SUM(I6,L6,O6,R6,U6,X6,AA6,AD6) | C6: =SUM(J6,M6,P6,S6,V6,Y6,AB6,AE6) | D6: =C6/1000000 | E6: =C6*2.20462262185/1000000 | F6: =IFERROR(B6/(C6/1000),0) | G6: =IFERROR(B6/(C6*2.20462262185),0) | I6: 26831061 | J6: 19528438 | K6: =IFERROR(I6/(J6*2.20462262185),0) | L6: 34258671 | M6: 25030120 | N6: =IFERROR(L6/(M6*2.20462262185),0) | O6: 28639559 | P6: 20715163 | Q6: =IFERROR(O6/(P6*2.20462262185),0) | R6: 32269797 | S6: 22927795 | T6: =IFERROR(R6/(S6*2.20462262185),0) | U6: 22371460 | V6: 16433228 | W6: =IFERROR(U6/(V6*2.20462262185),0) | X6: 21643724 | Y6: 16481482 | Z6: =IFERROR(X6/(Y6*2.20462262185),0) | AA6: 32669365 | AB6: 25225608 | AC6: =IFERROR(AA6/(AB6*2.20462262185),0) | AD6: 23770969 | AE6: 18551345 | AF6: =IFERROR(AD6/(AE6*2.20462262185),0) | AG6: 19368621 | AH6: 14523646 | AI6: =IFERROR(AG6/(AH6*2.20462262185),0) | AJ6: 16022341 | AK6: 12103494 | AL6: =IFERROR(AJ6/(AK6*2.20462262185),0) | AM6: 16951345 | AN6: 12418638 | AO6: =IFERROR(AM6/(AN6*2.20462262185),0) | AP6: 20354741 | AQ6: 15076907 | AR6: =IFERROR(AP6/(AQ6*2.20462262185),0) | AS6: 25898035 | AT6: 19561207 | AU6: =IFERROR(AS6/(AT6*2.20462262185),0) | AV6: 21580637 | AW6: 16227825 | AX6: =IFERROR(AV6/(AW6*2.20462262185),0) | AY6: 19038781 | AZ6: 14036367 | BA6: =IFERROR(AY6/(AZ6*2.20462262185),0) | BB6: 22380212 | BC6: 16751115 | BD6: =IFERROR(BB6/(BC6*2.20462262185),0) | BE6: 15768151 | BF6: 11700168 | BG6: =IFERROR(BE6/(BF6*2.20462262185),0) | BH6: 27587750 | BI6: 19832922 | BJ6: =IFERROR(BH6/(BI6*2.20462262185),0) | BK6: 24174732 | BL6: 18068317 | BM6: =IFERROR(BK6/(BL6*2.20462262185),0) | BN6: 29870935 | BO6: 21892793 | BP6: =IFERROR(BN6/(BO6*2.20462262185),0) | BQ6: 18721545 | BR6: 14122314 | BS6: =IFERROR(BQ6/(BR6*2.20462262185),0) | BT6: 21311420 | BU6: 15628317 | BV6: =IFERROR(BT6/(BU6*2.20462262185),0) | BW6: 22670998 | BX6: 16169982 | BY6: =IFERROR(BW6/(BX6*2.20462262185),0) | BZ6: 23605790 | CA6: 16020453 | CB6: =IFERROR(BZ6/(CA6*2.20462262185),0) | CC6: 16389123 | CD6: 11536154 | CE6: =IFERROR(CC6/(CD6*2.20462262185),0) | CF6: 12345161 | CG6: 8522844 | CH6: =IFERROR(CF6/(CG6*2.20462262185),0) | CI6: 16691086 | CJ6: 11428955 | CK6: =IFERROR(CI6/(CJ6*2.20462262185),0) | CL6: 15014954 | CM6: 10348282 | CN6: =IFERROR(CL6/(CM6*2.20462262185),0) | CO6: 14965949 | CP6: 9677896 | CQ6: =IFERROR(CO6/(CP6*2.20462262185),0) | CR6: 31871348 | CS6: 20206624 | CT6: =IFERROR(CR6/(CS6*2.20462262185),0) | CU6: 20203105 | CV6: 12822664 | CW6: =IFERROR(CU6/(CV6*2.20462262185),0) | CX6: 23976760 | CY6: 14647533 | CZ6: =IFERROR(CX6/(CY6*2.20462262185),0) | DA6: 23391484 | DB6: 14234015 | DC6: =IFERROR(DA6/(DB6*2.20462262185),0) | DD6: 28175096 | DE6: 14846780 | DF6: =IFERROR(DD6/(DE6*2.20462262185),0) | DG6: 26914197 | DH6: 15657856 | DI6: =IFERROR(DG6/(DH6*2.20462262185),0) | DJ6: 30293811 | DK6: 17100655 | DL6: =IFERROR(DJ6/(DK6*2.20462262185),0) | DM6: 33136019 | DN6: 20236946 | DO6: =IFERROR(DM6/(DN6*2.20462262185),0) | DP6: 24282832 | DQ6: 15033688 | DR6: =IFERROR(DP6/(DQ6*2.20462262185),0) | DS6: 26344610 | DT6: 16848305 | DU6: =IFERROR(DS6/(DT6*2.20462262185),0) | DV6: 24030846 | DW6: 15294313 | DX6: =IFERROR(DV6/(DW6*2.20462262185),0) | DY6: 24202532 | DZ6: 14912998 | EA6: =IFERROR(DY6/(DZ6*2.20462262185),0) | EB6: 24179662 | EC6: 15771943 | ED6: =IFERROR(EB6/(EC6*2.20462262185),0) | EE6: 31774489 | EF6: 19951736 | EG6: =IFERROR(EE6/(EF6*2.20462262185),0) | EH6: 23409759 | EI6: 14821884 | EJ6: =IFERROR(EH6/(EI6*2.20462262185),0) | EK6: 30219780 | EL6: 18496287 | EM6: =IFERROR(EK6/(EL6*2.20462262185),0) | EN6: 37742916 | EO6: 23283873 | EP6: =IFERROR(EN6/(EO6*2.20462262185),0) | EQ6: 42820194 | ER6: 21703885 | ES6: =IFERROR(EQ6/(ER6*2.20462262185),0) | ET6: 53675499 | EU6: 25821318 | EV6: =IFERROR(ET6/(EU6*2.20462262185),0) | EW6: 52376377 | EX6: 25099836 | EY6: =IFERROR(EW6/(EX6*2.20462262185),0) | EZ6: 44496544 | FA6: 22926244 | FB6: =IFERROR(EZ6/(FA6*2.20462262185),0) | FC6: 39612403 | FD6: 23539249 | FE6: =IFERROR(FC6/(FD6*2.20462262185),0) | FF6: 41755115 | FG6: 25234970 | FH6: =IFERROR(FF6/(FG6*2.20462262185),0) | FI6: 43303968 | FJ6: 27139845 | FK6: =IFERROR(FI6/(FJ6*2.20462262185),0) | FL6: 45430653 | FM6: 29593849 | FN6: =IFERROR(FL6/(FM6*2.20462262185),0) | FO6: 30834610 | FP6: 21493475 | FQ6: =IFERROR(FO6/(FP6*2.20462262185),0) | FR6: 41118916 | FS6: 28844845 | FT6: =IFERROR(FR6/(FS6*2.20462262185),0)
A7: Taiwan | B7: =SUM(I7,L7,O7,R7,U7,X7,AA7,AD7) | C7: =SUM(J7,M7,P7,S7,V7,Y7,AB7,AE7) | D7: =C7/1000000 | E7: =C7*2.20462262185/1000000 | F7: =IFERROR(B7/(C7/1000),0) | G7: =IFERROR(B7/(C7*2.20462262185),0) | I7: 18122244 | J7: 14415809 | K7: =IFERROR(I7/(J7*2.20462262185),0) | L7: 17255875 | M7: 12979129 | N7: =IFERROR(L7/(M7*2.20462262185),0) | O7: 19673708 | P7: 14779144 | Q7: =IFERROR(O7/(P7*2.20462262185),0) | R7: 12950031 | S7: 11122219 | T7: =IFERROR(R7/(S7*2.20462262185),0) | U7: 13555863 | V7: 13049754 | W7: =IFERROR(U7/(V7*2.20462262185),0) | X7: 15017438 | Y7: 14071144 | Z7: =IFERROR(X7/(Y7*2.20462262185),0) | AA7: 11285895 | AB7: 11332854 | AC7: =IFERROR(AA7/(AB7*2.20462262185),0) | AD7: 17508100 | AE7: 17247700 | AF7: =IFERROR(AD7/(AE7*2.20462262185),0) | AG7: 14563371 | AH7: 13216810 | AI7: =IFERROR(AG7/(AH7*2.20462262185),0) | AJ7: 6785982 | AK7: 6628900 | AL7: =IFERROR(AJ7/(AK7*2.20462262185),0) | AM7: 7203522 | AN7: 6858250 | AO7: =IFERROR(AM7/(AN7*2.20462262185),0) | AP7: 12686852 | AQ7: 13918078 | AR7: =IFERROR(AP7/(AQ7*2.20462262185),0) | AS7: 14403493 | AT7: 14155432 | AU7: =IFERROR(AS7/(AT7*2.20462262185),0) | AV7: 18177278 | AW7: 17738814 | AX7: =IFERROR(AV7/(AW7*2.20462262185),0) | AY7: 13669609 | AZ7: 12159750 | BA7: =IFERROR(AY7/(AZ7*2.20462262185),0) | BB7: 20091396 | BC7: 17823260 | BD7: =IFERROR(BB7/(BC7*2.20462262185),0) | BE7: 21863081 | BF7: 20190571 | BG7: =IFERROR(BE7/(BF7*2.20462262185),0) | BH7: 24090140 | BI7: 21570604 | BJ7: =IFERROR(BH7/(BI7*2.20462262185),0) | BK7: 20600355 | BL7: 17540930 | BM7: =IFERROR(BK7/(BL7*2.20462262185),0) | BN7: 21662406 | BO7: 19274665 | BP7: =IFERROR(BN7/(BO7*2.20462262185),0) | BQ7: 23664020 | BR7: 20320585 | BS7: =IFERROR(BQ7/(BR7*2.20462262185),0) | BT7: 22619154 | BU7: 18245464 | BV7: =IFERROR(BT7/(BU7*2.20462262185),0) | BW7: 19256239 | BX7: 16102425 | BY7: =IFERROR(BW7/(BX7*2.20462262185),0) | BZ7: 20372958 | CA7: 16059476 | CB7: =IFERROR(BZ7/(CA7*2.20462262185),0) | CC7: 18355945 | CD7: 14906162 | CE7: =IFERROR(CC7/(CD7*2.20462262185),0) | CF7: 25636823 | CG7: 20231162 | CH7: =IFERROR(CF7/(CG7*2.20462262185),0) | CI7: 21558251 | CJ7: 18237449 | CK7: =IFERROR(CI7/(CJ7*2.20462262185),0) | CL7: 20596489 | CM7: 17724606 | CN7: =IFERROR(CL7/(CM7*2.20462262185),0) | CO7: 29922334 | CP7: 26374840 | CQ7: =IFERROR(CO7/(CP7*2.20462262185),0) | CR7: 15288118 | CS7: 12821748 | CT7: =IFERROR(CR7/(CS7*2.20462262185),0) | CU7: 15796903 | CV7: 14797793 | CW7: =IFERROR(CU7/(CV7*2.20462262185),0) | CX7: 26574772 | CY7: 25917778 | CZ7: =IFERROR(CX7/(CY7*2.20462262185),0) | DA7: 23678328 | DB7: 21761980 | DC7: =IFERROR(DA7/(DB7*2.20462262185),0) | DD7: 23930011 | DE7: 21876330 | DF7: =IFERROR(DD7/(DE7*2.20462262185),0) | DG7: 29784506 | DH7: 26253700 | DI7: =IFERROR(DG7/(DH7*2.20462262185),0) | DJ7: 27509187 | DK7: 24604925 | DL7: =IFERROR(DJ7/(DK7*2.20462262185),0) | DM7: 26464936 | DN7: 22360847 | DO7: =IFERROR(DM7/(DN7*2.20462262185),0) | DP7: 20807270 | DQ7: 17534200 | DR7: =IFERROR(DP7/(DQ7*2.20462262185),0) | DS7: 22666467 | DT7: 19554150 | DU7: =IFERROR(DS7/(DT7*2.20462262185),0) | DV7: 22274658 | DW7: 18992000 | DX7: =IFERROR(DV7/(DW7*2.20462262185),0) | DY7: 20722542 | DZ7: 18590116 | EA7: =IFERROR(DY7/(DZ7*2.20462262185),0) | EB7: 13298907 | EC7: 10893590 | ED7: =IFERROR(EB7/(EC7*2.20462262185),0) | EE7: 19532966 | EF7: 14994950 | EG7: =IFERROR(EE7/(EF7*2.20462262185),0) | EH7: 20102128 | EI7: 14274300 | EJ7: =IFERROR(EH7/(EI7*2.20462262185),0) | EK7: 15734425 | EL7: 10593800 | EM7: =IFERROR(EK7/(EL7*2.20462262185),0) | EN7: 28406055 | EO7: 19957793 | EP7: =IFERROR(EN7/(EO7*2.20462262185),0) | EQ7: 21487275 | ER7: 14944500 | ES7: =IFERROR(EQ7/(ER7*2.20462262185),0) | ET7: 10094580 | EU7: 6574800 | EV7: =IFERROR(ET7/(EU7*2.20462262185),0) | EW7: 11307297 | EX7: 7486200 | EY7: =IFERROR(EW7/(EX7*2.20462262185),0) | EZ7: 14335958 | FA7: 9753400 | FB7: =IFERROR(EZ7/(FA7*2.20462262185),0) | FC7: 13338252 | FD7: 9319622 | FE7: =IFERROR(FC7/(FD7*2.20462262185),0) | FF7: 15202379 | FG7: 10360800 | FH7: =IFERROR(FF7/(FG7*2.20462262185),0) | FI7: 8729326 | FJ7: 6092097 | FK7: =IFERROR(FI7/(FJ7*2.20462262185),0) | FL7: 14544130 | FM7: 10696023 | FN7: =IFERROR(FL7/(FM7*2.20462262185),0) | FO7: 13339353 | FP7: 9650502 | FQ7: =IFERROR(FO7/(FP7*2.20462262185),0) | FR7: 14171067 | FS7: 10007462 | FT7: =IFERROR(FR7/(FS7*2.20462262185),0)
A8: Korea, South | B8: =SUM(I8,L8,O8,R8,U8,X8,AA8,AD8) | C8: =SUM(J8,M8,P8,S8,V8,Y8,AB8,AE8) | D8: =C8/1000000 | E8: =C8*2.20462262185/1000000 | F8: =IFERROR(B8/(C8/1000),0) | G8: =IFERROR(B8/(C8*2.20462262185),0) | I8: 3281732 | J8: 2189450 | K8: =IFERROR(I8/(J8*2.20462262185),0) | L8: 7316686 | M8: 5011404 | N8: =IFERROR(L8/(M8*2.20462262185),0) | O8: 10208012 | P8: 6329030 | Q8: =IFERROR(O8/(P8*2.20462262185),0) | R8: 6575686 | S8: 4412970 | T8: =IFERROR(R8/(S8*2.20462262185),0) | U8: 10062674 | V8: 9167880 | W8: =IFERROR(U8/(V8*2.20462262185),0) | X8: 7188988 | Y8: 7053694 | Z8: =IFERROR(X8/(Y8*2.20462262185),0) | AA8: 7186748 | AB8: 6508780 | AC8: =IFERROR(AA8/(AB8*2.20462262185),0) | AD8: 6554603 | AE8: 6364917 | AF8: =IFERROR(AD8/(AE8*2.20462262185),0) | AG8: 5463912 | AH8: 4944895 | AI8: =IFERROR(AG8/(AH8*2.20462262185),0) | AJ8: 6331516 | AK8: 5701008 | AL8: =IFERROR(AJ8/(AK8*2.20462262185),0) | AM8: 6445294 | AN8: 6628880 | AO8: =IFERROR(AM8/(AN8*2.20462262185),0) | AP8: 7596542 | AQ8: 6692550 | AR8: =IFERROR(AP8/(AQ8*2.20462262185),0) | AS8: 8292853 | AT8: 6979340 | AU8: =IFERROR(AS8/(AT8*2.20462262185),0) | AV8: 6671451 | AW8: 5009139 | AX8: =IFERROR(AV8/(AW8*2.20462262185),0) | AY8: 6516225 | AZ8: 5451590 | BA8: =IFERROR(AY8/(AZ8*2.20462262185),0) | BB8: 7274688 | BC8: 6168860 | BD8: =IFERROR(BB8/(BC8*2.20462262185),0) | BE8: 10419952 | BF8: 7630147 | BG8: =IFERROR(BE8/(BF8*2.20462262185),0) | BH8: 16744640 | BI8: 13324715 | BJ8: =IFERROR(BH8/(BI8*2.20462262185),0) | BK8: 12638164 | BL8: 10304384 | BM8: =IFERROR(BK8/(BL8*2.20462262185),0) | BN8: 14277839 | BO8: 11624452 | BP8: =IFERROR(BN8/(BO8*2.20462262185),0) | BQ8: 11503551 | BR8: 7651435 | BS8: =IFERROR(BQ8/(BR8*2.20462262185),0) | BT8: 9039387 | BU8: 6564580 | BV8: =IFERROR(BT8/(BU8*2.20462262185),0) | BW8: 8228305 | BX8: 5756605 | BY8: =IFERROR(BW8/(BX8*2.20462262185),0) | BZ8: 6236233 | CA8: 4478550 | CB8: =IFERROR(BZ8/(CA8*2.20462262185),0) | CC8: 9326704 | CD8: 6517654 | CE8: =IFERROR(CC8/(CD8*2.20462262185),0) | CF8: 10662709 | CG8: 7957715 | CH8: =IFERROR(CF8/(CG8*2.20462262185),0) | CI8: 11836281 | CJ8: 9026360 | CK8: =IFERROR(CI8/(CJ8*2.20462262185),0) | CL8: 11754014 | CM8: 8849420 | CN8: =IFERROR(CL8/(CM8*2.20462262185),0) | CO8: 13511433 | CP8: 10249765 | CQ8: =IFERROR(CO8/(CP8*2.20462262185),0) | CR8: 11244983 | CS8: 8489538 | CT8: =IFERROR(CR8/(CS8*2.20462262185),0) | CU8: 7595897 | CV8: 5729773 | CW8: =IFERROR(CU8/(CV8*2.20462262185),0) | CX8: 10241337 | CY8: 8465197 | CZ8: =IFERROR(CX8/(CY8*2.20462262185),0) | DA8: 6520980 | DB8: 4722530 | DC8: =IFERROR(DA8/(DB8*2.20462262185),0) | DD8: 10279760 | DE8: 8667455 | DF8: =IFERROR(DD8/(DE8*2.20462262185),0) | DG8: 13329860 | DH8: 12046744 | DI8: =IFERROR(DG8/(DH8*2.20462262185),0) | DJ8: 7623928 | DK8: 6951890 | DL8: =IFERROR(DJ8/(DK8*2.20462262185),0) | DM8: 7037490 | DN8: 6186974 | DO8: =IFERROR(DM8/(DN8*2.20462262185),0) | DP8: 10810283 | DQ8: 10152456 | DR8: =IFERROR(DP8/(DQ8*2.20462262185),0) | DS8: 7904957 | DT8: 6250870 | DU8: =IFERROR(DS8/(DT8*2.20462262185),0) | DV8: 9530432 | DW8: 6618390 | DX8: =IFERROR(DV8/(DW8*2.20462262185),0) | DY8: 11454736 | DZ8: 8788133 | EA8: =IFERROR(DY8/(DZ8*2.20462262185),0) | EB8: 11524992 | EC8: 8771662 | ED8: =IFERROR(EB8/(EC8*2.20462262185),0) | EE8: 11548902 | EF8: 8484470 | EG8: =IFERROR(EE8/(EF8*2.20462262185),0) | EH8: 9477612 | EI8: 8067650 | EJ8: =IFERROR(EH8/(EI8*2.20462262185),0) | EK8: 8027984 | EL8: 5167270 | EM8: =IFERROR(EK8/(EL8*2.20462262185),0) | EN8: 10401125 | EO8: 6578820 | EP8: =IFERROR(EN8/(EO8*2.20462262185),0) | EQ8: 12172908 | ER8: 7252940 | ES8: =IFERROR(EQ8/(ER8*2.20462262185),0) | ET8: 12984149 | EU8: 6956824 | EV8: =IFERROR(ET8/(EU8*2.20462262185),0) | EW8: 14059290 | EX8: 8248055 | EY8: =IFERROR(EW8/(EX8*2.20462262185),0) | EZ8: 8174002 | FA8: 4659820 | FB8: =IFERROR(EZ8/(FA8*2.20462262185),0) | FC8: 15142027 | FD8: 9098720 | FE8: =IFERROR(FC8/(FD8*2.20462262185),0) | FF8: 15748454 | FG8: 9743330 | FH8: =IFERROR(FF8/(FG8*2.20462262185),0) | FI8: 14113905 | FJ8: 8820290 | FK8: =IFERROR(FI8/(FJ8*2.20462262185),0) | FL8: 10934680 | FM8: 7378952 | FN8: =IFERROR(FL8/(FM8*2.20462262185),0) | FO8: 8739686 | FP8: 5005176 | FQ8: =IFERROR(FO8/(FP8*2.20462262185),0) | FR8: 6585376 | FS8: 4224308 | FT8: =IFERROR(FR8/(FS8*2.20462262185),0)
A9: Vietnam | B9: =SUM(I9,L9,O9,R9,U9,X9,AA9,AD9) | C9: =SUM(J9,M9,P9,S9,V9,Y9,AB9,AE9) | D9: =C9/1000000 | E9: =C9*2.20462262185/1000000 | F9: =IFERROR(B9/(C9/1000),0) | G9: =IFERROR(B9/(C9*2.20462262185),0) | I9: 6792600 | J9: 5913500 | K9: =IFERROR(I9/(J9*2.20462262185),0) | L9: 13477302 | M9: 10989310 | N9: =IFERROR(L9/(M9*2.20462262185),0) | O9: 6722473 | P9: 5648800 | Q9: =IFERROR(O9/(P9*2.20462262185),0) | R9: 4294024 | S9: 3762000 | T9: =IFERROR(R9/(S9*2.20462262185),0) | U9: 3462082 | V9: 3623500 | W9: =IFERROR(U9/(V9*2.20462262185),0) | X9: 3550381 | Y9: 4349500 | Z9: =IFERROR(X9/(Y9*2.20462262185),0) | AA9: 3143930 | AB9: 3670270 | AC9: =IFERROR(AA9/(AB9*2.20462262185),0) | AD9: 2994940 | AE9: 3608000 | AF9: =IFERROR(AD9/(AE9*2.20462262185),0) | AG9: 2046777 | AH9: 2400676 | AI9: =IFERROR(AG9/(AH9*2.20462262185),0) | AJ9: 1429465 | AK9: 1647728 | AL9: =IFERROR(AJ9/(AK9*2.20462262185),0) | AM9: 2667820 | AN9: 3150700 | AO9: =IFERROR(AM9/(AN9*2.20462262185),0) | AP9: 5265651 | AQ9: 5881500 | AR9: =IFERROR(AP9/(AQ9*2.20462262185),0) | AS9: 5396284 | AT9: 5945752 | AU9: =IFERROR(AS9/(AT9*2.20462262185),0) | AV9: 6425408 | AW9: 6973100 | AX9: =IFERROR(AV9/(AW9*2.20462262185),0) | AY9: 7927299 | AZ9: 8320116 | BA9: =IFERROR(AY9/(AZ9*2.20462262185),0) | BB9: 11216890 | BC9: 11235526 | BD9: =IFERROR(BB9/(BC9*2.20462262185),0) | BE9: 11858978 | BF9: 11918200 | BG9: =IFERROR(BE9/(BF9*2.20462262185),0) | BH9: 9187664 | BI9: 9082330 | BJ9: =IFERROR(BH9/(BI9*2.20462262185),0) | BK9: 3113315 | BL9: 3212000 | BM9: =IFERROR(BK9/(BL9*2.20462262185),0) | BN9: 5747578 | BO9: 6006000 | BP9: =IFERROR(BN9/(BO9*2.20462262185),0) | BQ9: 8389398 | BR9: 8250000 | BS9: =IFERROR(BQ9/(BR9*2.20462262185),0) | BT9: 6456518 | BU9: 6171000 | BV9: =IFERROR(BT9/(BU9*2.20462262185),0) | BW9: 10015282 | BX9: 9350000 | BY9: =IFERROR(BW9/(BX9*2.20462262185),0) | BZ9: 10212590 | CA9: 9590500 | CB9: =IFERROR(BZ9/(CA9*2.20462262185),0) | CC9: 5432104 | CD9: 5182000 | CE9: =IFERROR(CC9/(CD9*2.20462262185),0) | CF9: 6477121 | CG9: 6082000 | CH9: =IFERROR(CF9/(CG9*2.20462262185),0) | CI9: 5773211 | CJ9: 5253500 | CK9: =IFERROR(CI9/(CJ9*2.20462262185),0) | CL9: 7502692 | CM9: 7271000 | CN9: =IFERROR(CL9/(CM9*2.20462262185),0) | CO9: 5294806 | CP9: 5288000 | CQ9: =IFERROR(CO9/(CP9*2.20462262185),0) | CR9: 6571891 | CS9: 6544000 | CT9: =IFERROR(CR9/(CS9*2.20462262185),0) | CU9: 9026579 | CV9: 8704000 | CW9: =IFERROR(CU9/(CV9*2.20462262185),0) | CX9: 7647988 | CY9: 7825500 | CZ9: =IFERROR(CX9/(CY9*2.20462262185),0) | DA9: 10886329 | DB9: 10591490 | DC9: =IFERROR(DA9/(DB9*2.20462262185),0) | DD9: 9460793 | DE9: 8813060 | DF9: =IFERROR(DD9/(DE9*2.20462262185),0) | DG9: 11910212 | DH9: 11792050 | DI9: =IFERROR(DG9/(DH9*2.20462262185),0) | DJ9: 17581173 | DK9: 16069560 | DL9: =IFERROR(DJ9/(DK9*2.20462262185),0) | DM9: 13139323 | DN9: 12078000 | DO9: =IFERROR(DM9/(DN9*2.20462262185),0) | DP9: 9855728 | DQ9: 9394000 | DR9: =IFERROR(DP9/(DQ9*2.20462262185),0) | DS9: 10982193 | DT9: 9768000 | DU9: =IFERROR(DS9/(DT9*2.20462262185),0) | DV9: 9559184 | DW9: 8360000 | DX9: =IFERROR(DV9/(DW9*2.20462262185),0) | DY9: 9601170 | DZ9: 8602000 | EA9: =IFERROR(DY9/(DZ9*2.20462262185),0) | EB9: 5454149 | EC9: 4718728 | ED9: =IFERROR(EB9/(EC9*2.20462262185),0) | EE9: 11659020 | EF9: 9592000 | EG9: =IFERROR(EE9/(EF9*2.20462262185),0) | EH9: 15750792 | EI9: 12157200 | EJ9: =IFERROR(EH9/(EI9*2.20462262185),0) | EK9: 10221206 | EL9: 7766000 | EM9: =IFERROR(EK9/(EL9*2.20462262185),0) | EN9: 4852447 | EO9: 3725550 | EP9: =IFERROR(EN9/(EO9*2.20462262185),0) | EQ9: 8659333 | ER9: 6394000 | ES9: =IFERROR(EQ9/(ER9*2.20462262185),0) | ET9: 10670280 | EU9: 7110290 | EV9: =IFERROR(ET9/(EU9*2.20462262185),0) | EW9: 8557030 | EX9: 5543000 | EY9: =IFERROR(EW9/(EX9*2.20462262185),0) | EZ9: 7455362 | FA9: 4993890 | FB9: =IFERROR(EZ9/(FA9*2.20462262185),0) | FC9: 7282850 | FD9: 5266000 | FE9: =IFERROR(FC9/(FD9*2.20462262185),0) | FF9: 7663917 | FG9: 4982500 | FH9: =IFERROR(FF9/(FG9*2.20462262185),0) | FI9: 4891246 | FJ9: 3713800 | FK9: =IFERROR(FI9/(FJ9*2.20462262185),0) | FL9: 12992474 | FM9: 10342800 | FN9: =IFERROR(FL9/(FM9*2.20462262185),0) | FO9: 12294841 | FP9: 9795070 | FQ9: =IFERROR(FO9/(FP9*2.20462262185),0) | FR9: 7838506 | FS9: 6273910 | FT9: =IFERROR(FR9/(FS9*2.20462262185),0)
A10: Thailand | B10: =SUM(I10,L10,O10,R10,U10,X10,AA10,AD10) | C10: =SUM(J10,M10,P10,S10,V10,Y10,AB10,AE10) | D10: =C10/1000000 | E10: =C10*2.20462262185/1000000 | F10: =IFERROR(B10/(C10/1000),0) | G10: =IFERROR(B10/(C10*2.20462262185),0) | I10: 5246754 | J10: 4941841 | K10: =IFERROR(I10/(J10*2.20462262185),0) | L10: 7374975 | M10: 7790887 | N10: =IFERROR(L10/(M10*2.20462262185),0) | O10: 7143977 | P10: 8096888 | Q10: =IFERROR(O10/(P10*2.20462262185),0) | R10: 2638090 | S10: 3573889 | T10: =IFERROR(R10/(S10*2.20462262185),0) | U10: 2775209 | V10: 4146183 | W10: =IFERROR(U10/(V10*2.20462262185),0) | X10: 2362620 | Y10: 2784759 | Z10: =IFERROR(X10/(Y10*2.20462262185),0) | AA10: 4463388 | AB10: 5200203 | AC10: =IFERROR(AA10/(AB10*2.20462262185),0) | AD10: 3693875 | AE10: 4483987 | AF10: =IFERROR(AD10/(AE10*2.20462262185),0) | AG10: 3188920 | AH10: 3325636 | AI10: =IFERROR(AG10/(AH10*2.20462262185),0) | AJ10: 2027645 | AK10: 2173512 | AL10: =IFERROR(AJ10/(AK10*2.20462262185),0) | AM10: 7330786 | AN10: 7618640 | AO10: =IFERROR(AM10/(AN10*2.20462262185),0) | AP10: 8270592 | AQ10: 8599573 | AR10: =IFERROR(AP10/(AQ10*2.20462262185),0) | AS10: 5201097 | AT10: 5384697 | AU10: =IFERROR(AS10/(AT10*2.20462262185),0) | AV10: 8150278 | AW10: 8171271 | AX10: =IFERROR(AV10/(AW10*2.20462262185),0) | AY10: 8886629 | AZ10: 8859441 | BA10: =IFERROR(AY10/(AZ10*2.20462262185),0) | BB10: 10941527 | BC10: 10972966 | BD10: =IFERROR(BB10/(BC10*2.20462262185),0) | BE10: 6822788 | BF10: 6869586 | BG10: =IFERROR(BE10/(BF10*2.20462262185),0) | BH10: 8495336 | BI10: 8046967 | BJ10: =IFERROR(BH10/(BI10*2.20462262185),0) | BK10: 3306282 | BL10: 3280984 | BM10: =IFERROR(BK10/(BL10*2.20462262185),0) | BN10: 6095447 | BO10: 5599183 | BP10: =IFERROR(BN10/(BO10*2.20462262185),0) | BQ10: 3431873 | BR10: 3493520 | BS10: =IFERROR(BQ10/(BR10*2.20462262185),0) | BT10: 2547163 | BU10: 2697495 | BV10: =IFERROR(BT10/(BU10*2.20462262185),0) | BW10: 1825635 | BX10: 1740460 | BY10: =IFERROR(BW10/(BX10*2.20462262185),0) | BZ10: 928626 | CA10: 733959 | CB10: =IFERROR(BZ10/(CA10*2.20462262185),0) | CC10: 2978006 | CD10: 2218609 | CE10: =IFERROR(CC10/(CD10*2.20462262185),0) | CF10: 3136326 | CG10: 3228208 | CH10: =IFERROR(CF10/(CG10*2.20462262185),0) | CI10: 3554708 | CJ10: 3710416 | CK10: =IFERROR(CI10/(CJ10*2.20462262185),0) | CL10: 3880066 | CM10: 3918673 | CN10: =IFERROR(CL10/(CM10*2.20462262185),0) | CO10: 4426592 | CP10: 4554096 | CQ10: =IFERROR(CO10/(CP10*2.20462262185),0) | CR10: 4857716 | CS10: 5143435 | CT10: =IFERROR(CR10/(CS10*2.20462262185),0) | CU10: 2828781 | CV10: 2727759 | CW10: =IFERROR(CU10/(CV10*2.20462262185),0) | CX10: 4477335 | CY10: 4942887 | CZ10: =IFERROR(CX10/(CY10*2.20462262185),0) | DA10: 3167257 | DB10: 3546851 | DC10: =IFERROR(DA10/(DB10*2.20462262185),0) | DD10: 1992789 | DE10: 2543968 | DF10: =IFERROR(DD10/(DE10*2.20462262185),0) | DG10: 2383074 | DH10: 2826195 | DI10: =IFERROR(DG10/(DH10*2.20462262185),0) | DJ10: 2119832 | DK10: 2141941 | DL10: =IFERROR(DJ10/(DK10*2.20462262185),0) | DM10: 379750 | DN10: 445148 | DO10: =IFERROR(DM10/(DN10*2.20462262185),0) | DP10: 1032004 | DQ10: 930336 | DR10: =IFERROR(DP10/(DQ10*2.20462262185),0) | DS10: 1024993 | DT10: 792000 | DU10: =IFERROR(DS10/(DT10*2.20462262185),0) | DV10: 824076 | DW10: 748000 | DX10: =IFERROR(DV10/(DW10*2.20462262185),0) | DY10: 1525084 | DZ10: 1518000 | EA10: =IFERROR(DY10/(DZ10*2.20462262185),0) | EB10: 241109 | EC10: 198000 | ED10: =IFERROR(EB10/(EC10*2.20462262185),0) | EE10: 0 | EF10: 0 | EG10: =IFERROR(EE10/(EF10*2.20462262185),0) | EH10: 320896 | EI10: 219200 | EJ10: =IFERROR(EH10/(EI10*2.20462262185),0) | EK10: 401368 | EL10: 264000 | EM10: =IFERROR(EK10/(EL10*2.20462262185),0) | EN10: 523087 | EO10: 409762 | EP10: =IFERROR(EN10/(EO10*2.20462262185),0) | EQ10: 1088692 | ER10: 772122 | ES10: =IFERROR(EQ10/(ER10*2.20462262185),0) | ET10: 585681 | EU10: 397742 | EV10: =IFERROR(ET10/(EU10*2.20462262185),0) | EW10: 889208 | EX10: 628748 | EY10: =IFERROR(EW10/(EX10*2.20462262185),0) | EZ10: 638977 | FA10: 426222 | FB10: =IFERROR(EZ10/(FA10*2.20462262185),0) | FC10: 0 | FD10: 0 | FE10: =IFERROR(FC10/(FD10*2.20462262185),0) | FF10: 403200 | FG10: 236000 | FH10: =IFERROR(FF10/(FG10*2.20462262185),0)
A11: Oman | B11: =SUM(I11,L11,O11,R11,U11,X11,AA11,AD11) | C11: =SUM(J11,M11,P11,S11,V11,Y11,AB11,AE11) | D11: =C11/1000000 | E11: =C11*2.20462262185/1000000 | F11: =IFERROR(B11/(C11/1000),0) | G11: =IFERROR(B11/(C11*2.20462262185),0) | I11: 2400986 | J11: 2072000 | K11: =IFERROR(I11/(J11*2.20462262185),0) | L11: 8156219 | M11: 6076000 | N11: =IFERROR(L11/(M11*2.20462262185),0) | O11: 7422176 | P11: 5855000 | Q11: =IFERROR(O11/(P11*2.20462262185),0) | R11: 8957281 | S11: 7682400 | T11: =IFERROR(R11/(S11*2.20462262185),0) | U11: 6344478 | V11: 6472000 | W11: =IFERROR(U11/(V11*2.20462262185),0) | X11: 4960314 | Y11: 4895000 | Z11: =IFERROR(X11/(Y11*2.20462262185),0) | AA11: 4990262 | AB11: 5720000 | AC11: =IFERROR(AA11/(AB11*2.20462262185),0) | AD11: 1293431 | AE11: 1430000 | AF11: =IFERROR(AD11/(AE11*2.20462262185),0) | AG11: 0 | AH11: 0 | AI11: =IFERROR(AG11/(AH11*2.20462262185),0) | AJ11: 0 | AK11: 0 | AL11: =IFERROR(AJ11/(AK11*2.20462262185),0) | AM11: 2710067 | AN11: 3036000 | AO11: =IFERROR(AM11/(AN11*2.20462262185),0) | AP11: 4231227 | AQ11: 4554000 | AR11: =IFERROR(AP11/(AQ11*2.20462262185),0) | AS11: 3715839 | AT11: 3910000 | AU11: =IFERROR(AS11/(AT11*2.20462262185),0) | AV11: 2962062 | AW11: 2865000 | AX11: =IFERROR(AV11/(AW11*2.20462262185),0) | BQ11: 0 | BR11: 0 | BS11: =IFERROR(BQ11/(BR11*2.20462262185),0) | BT11: 0 | BU11: 0 | BV11: =IFERROR(BT11/(BU11*2.20462262185),0) | BW11: 4321119 | BX11: 3825000 | BY11: =IFERROR(BW11/(BX11*2.20462262185),0) | BZ11: 5031961 | CA11: 4548000 | CB11: =IFERROR(BZ11/(CA11*2.20462262185),0) | CC11: 9853724 | CD11: 9658000 | CE11: =IFERROR(CC11/(CD11*2.20462262185),0) | CF11: 11379074 | CG11: 11336500 | CH11: =IFERROR(CF11/(CG11*2.20462262185),0) | CI11: 547883 | CJ11: 517500 | CK11: =IFERROR(CI11/(CJ11*2.20462262185),0) | CL11: 568826 | CM11: 540000 | CN11: =IFERROR(CL11/(CM11*2.20462262185),0) | CO11: 104022 | CP11: 90000 | CQ11: =IFERROR(CO11/(CP11*2.20462262185),0) | CR11: 6277492 | CS11: 6556000 | CT11: =IFERROR(CR11/(CS11*2.20462262185),0) | CU11: 4664756 | CV11: 4721000 | CW11: =IFERROR(CU11/(CV11*2.20462262185),0) | CX11: 4240512 | CY11: 4285000 | CZ11: =IFERROR(CX11/(CY11*2.20462262185),0) | DA11: 1479258 | DB11: 1395000 | DC11: =IFERROR(DA11/(DB11*2.20462262185),0) | DD11: 2654066 | DE11: 2520000 | DF11: =IFERROR(DD11/(DE11*2.20462262185),0) | DG11: 486713 | DH11: 360000 | DI11: =IFERROR(DG11/(DH11*2.20462262185),0) | DJ11: 2968358 | DK11: 3014000 | DL11: =IFERROR(DJ11/(DK11*2.20462262185),0) | DM11: 1003860 | DN11: 806750 | DO11: =IFERROR(DM11/(DN11*2.20462262185),0) | DP11: 2901431 | DQ11: 2641500 | DR11: =IFERROR(DP11/(DQ11*2.20462262185),0) | DS11: 1715648 | DT11: 1147500 | DU11: =IFERROR(DS11/(DT11*2.20462262185),0) | DV11: 2666066 | DW11: 1687500 | DX11: =IFERROR(DV11/(DW11*2.20462262185),0) | DY11: 2085083 | DZ11: 2069500 | EA11: =IFERROR(DY11/(DZ11*2.20462262185),0) | EB11: 7722193 | EC11: 5881000 | ED11: =IFERROR(EB11/(EC11*2.20462262185),0) | EE11: 8882210 | EF11: 7534200 | EG11: =IFERROR(EE11/(EF11*2.20462262185),0) | EH11: 17763507 | EI11: 13377500 | EJ11: =IFERROR(EH11/(EI11*2.20462262185),0) | EK11: 21931614 | EL11: 16733500 | EM11: =IFERROR(EK11/(EL11*2.20462262185),0) | EN11: 14356262 | EO11: 10561500 | EP11: =IFERROR(EN11/(EO11*2.20462262185),0) | EQ11: 24471216 | ER11: 15942000 | ES11: =IFERROR(EQ11/(ER11*2.20462262185),0) | ET11: 28185011 | EU11: 19201000 | EV11: =IFERROR(ET11/(EU11*2.20462262185),0) | EW11: 38139014 | EX11: 25796000 | EY11: =IFERROR(EW11/(EX11*2.20462262185),0) | EZ11: 34040220 | FA11: 22944100 | FB11: =IFERROR(EZ11/(FA11*2.20462262185),0) | FC11: 28362407 | FD11: 19102500 | FE11: =IFERROR(FC11/(FD11*2.20462262185),0) | FF11: 38776740 | FG11: 27384700 | FH11: =IFERROR(FF11/(FG11*2.20462262185),0) | FI11: 31272016 | FJ11: 23005100 | FK11: =IFERROR(FI11/(FJ11*2.20462262185),0) | FL11: 21127111 | FM11: 16095500 | FN11: =IFERROR(FL11/(FM11*2.20462262185),0) | FO11: 17640700 | FP11: 14772500 | FQ11: =IFERROR(FO11/(FP11*2.20462262185),0) | FR11: 19837064 | FS11: 17556363 | FT11: =IFERROR(FR11/(FS11*2.20462262185),0)
A12: Egypt | B12: =SUM(I12,L12,O12,R12,U12,X12,AA12,AD12) | C12: =SUM(J12,M12,P12,S12,V12,Y12,AB12,AE12) | D12: =C12/1000000 | E12: =C12*2.20462262185/1000000 | F12: =IFERROR(B12/(C12/1000),0) | G12: =IFERROR(B12/(C12*2.20462262185),0) | I12: 1880625 | J12: 1603000 | K12: =IFERROR(I12/(J12*2.20462262185),0) | L12: 4813746 | M12: 4028200 | N12: =IFERROR(L12/(M12*2.20462262185),0) | O12: 1126208 | P12: 986850 | Q12: =IFERROR(O12/(P12*2.20462262185),0) | R12: 5706497 | S12: 5929600 | T12: =IFERROR(R12/(S12*2.20462262185),0) | U12: 1424898 | V12: 1751900 | W12: =IFERROR(U12/(V12*2.20462262185),0) | X12: 1453780 | Y12: 1841250 | Z12: =IFERROR(X12/(Y12*2.20462262185),0) | AA12: 1060438 | AB12: 1338250 | AC12: =IFERROR(AA12/(AB12*2.20462262185),0) | AD12: 403145 | AE12: 546250 | AF12: =IFERROR(AD12/(AE12*2.20462262185),0) | AG12: 0 | AH12: 0 | AI12: =IFERROR(AG12/(AH12*2.20462262185),0) | AJ12: 0 | AK12: 0 | AL12: =IFERROR(AJ12/(AK12*2.20462262185),0) | AM12: 440534 | AN12: 546250 | AO12: =IFERROR(AM12/(AN12*2.20462262185),0) | AP12: 445106 | AQ12: 54625 | AR12: =IFERROR(AP12/(AQ12*2.20462262185),0) | AS12: 352576 | AT12: 437000 | AU12: =IFERROR(AS12/(AT12*2.20462262185),0) | AV12: 369265 | AW12: 437000 | AX12: =IFERROR(AV12/(AW12*2.20462262185),0) | AY12: 1048314 | AZ12: 1311000 | BA12: =IFERROR(AY12/(AZ12*2.20462262185),0) | BB12: 0 | BC12: 0 | BD12: =IFERROR(BB12/(BC12*2.20462262185),0) | BE12: 0 | BF12: 0 | BG12: =IFERROR(BE12/(BF12*2.20462262185),0) | BH12: 725018 | BI12: 874000 | BJ12: =IFERROR(BH12/(BI12*2.20462262185),0) | BK12: 362509 | BL12: 437000 | BM12: =IFERROR(BK12/(BL12*2.20462262185),0) | BN12: 809619 | BO12: 855000 | BP12: =IFERROR(BN12/(BO12*2.20462262185),0) | BQ12: 442985 | BR12: 352000 | BS12: =IFERROR(BQ12/(BR12*2.20462262185),0) | BT12: 991245 | BU12: 909000 | BV12: =IFERROR(BT12/(BU12*2.20462262185),0) | BW12: 1226289 | BX12: 1099000 | BY12: =IFERROR(BW12/(BX12*2.20462262185),0) | BZ12: 1333844 | CA12: 1060000 | CB12: =IFERROR(BZ12/(CA12*2.20462262185),0) | CC12: 1306179 | CD12: 1040000 | CE12: =IFERROR(CC12/(CD12*2.20462262185),0) | CF12: 1878649 | CG12: 1682900 | CH12: =IFERROR(CF12/(CG12*2.20462262185),0) | CI12: 3848940 | CJ12: 3699000 | CK12: =IFERROR(CI12/(CJ12*2.20462262185),0) | CL12: 1120220 | CM12: 1094000 | CN12: =IFERROR(CL12/(CM12*2.20462262185),0) | CO12: 220000 | CP12: 220000 | CQ12: =IFERROR(CO12/(CP12*2.20462262185),0) | CR12: 525055 | CS12: 518500 | CT12: =IFERROR(CR12/(CS12*2.20462262185),0) | CU12: 0 | CV12: 0 | CW12: =IFERROR(CU12/(CV12*2.20462262185),0) | CX12: 239636 | CY12: 271400 | CZ12: =IFERROR(CX12/(CY12*2.20462262185),0) | DA12: 419327 | DB12: 476000 | DC12: =IFERROR(DA12/(DB12*2.20462262185),0) | DD12: 0 | DE12: 0 | DF12: =IFERROR(DD12/(DE12*2.20462262185),0) | DG12: 1669460 | DH12: 1770000 | DI12: =IFERROR(DG12/(DH12*2.20462262185),0) | DJ12: 2501431 | DK12: 2622000 | DL12: =IFERROR(DJ12/(DK12*2.20462262185),0) | DM12: 1350501 | DN12: 1387450 | DO12: =IFERROR(DM12/(DN12*2.20462262185),0) | DP12: 828980 | DQ12: 874000 | DR12: =IFERROR(DP12/(DQ12*2.20462262185),0) | DS12: 676466 | DT12: 589950 | DU12: =IFERROR(DS12/(DT12*2.20462262185),0) | DV12: 0 | DW12: 0 | DX12: =IFERROR(DV12/(DW12*2.20462262185),0) | DY12: 0 | DZ12: 0 | EA12: =IFERROR(DY12/(DZ12*2.20462262185),0) | EB12: 1044883 | EC12: 1005100 | ED12: =IFERROR(EB12/(EC12*2.20462262185),0) | EE12: 1044883 | EF12: 1005100 | EG12: =IFERROR(EE12/(EF12*2.20462262185),0) | EK12: 0 | EL12: 0 | EM12: =IFERROR(EK12/(EL12*2.20462262185),0) | EN12: 5235093 | EO12: 3889300 | EP12: =IFERROR(EN12/(EO12*2.20462262185),0) | EQ12: 3968312 | ER12: 3015300 | ES12: =IFERROR(EQ12/(ER12*2.20462262185),0) | ET12: 2178810 | EU12: 1507650 | EV12: =IFERROR(ET12/(EU12*2.20462262185),0) | EW12: 4729924 | EX12: 3343050 | EY12: =IFERROR(EW12/(EX12*2.20462262185),0) | EZ12: 10022815 | FA12: 7213170 | FB12: =IFERROR(EZ12/(FA12*2.20462262185),0) | FC12: 22303932 | FD12: 15981270 | FE12: =IFERROR(FC12/(FD12*2.20462262185),0) | FF12: 15768811 | FG12: 12279700 | FH12: =IFERROR(FF12/(FG12*2.20462262185),0) | FI12: 9925829 | FJ12: 8150050 | FK12: =IFERROR(FI12/(FJ12*2.20462262185),0) | FL12: 5715965 | FM12: 4981800 | FN12: =IFERROR(FL12/(FM12*2.20462262185),0) | FO12: 10107713 | FP12: 8270800 | FQ12: =IFERROR(FO12/(FP12*2.20462262185),0) | FR12: 6386544 | FS12: 5112900 | FT12: =IFERROR(FR12/(FS12*2.20462262185),0)
A13: Pakistan | B13: =SUM(I13,L13,O13,R13,U13,X13,AA13,AD13) | C13: =SUM(J13,M13,P13,S13,V13,Y13,AB13,AE13) | D13: =C13/1000000 | E13: =C13*2.20462262185/1000000 | F13: =IFERROR(B13/(C13/1000),0) | G13: =IFERROR(B13/(C13*2.20462262185),0) | I13: 4753462 | J13: 3562000 | K13: =IFERROR(I13/(J13*2.20462262185),0) | L13: 4928362 | M13: 3498000 | N13: =IFERROR(L13/(M13*2.20462262185),0) | O13: 1254520 | P13: 1012000 | Q13: =IFERROR(O13/(P13*2.20462262185),0) | R13: 749364 | S13: 902000 | T13: =IFERROR(R13/(S13*2.20462262185),0) | U13: 1556114 | V13: 1892000 | W13: =IFERROR(U13/(V13*2.20462262185),0) | X13: 1740556 | Y13: 2132500 | Z13: =IFERROR(X13/(Y13*2.20462262185),0) | AA13: 1580479 | AB13: 2047000 | AC13: =IFERROR(AA13/(AB13*2.20462262185),0) | AD13: 1093475 | AE13: 1496000 | AF13: =IFERROR(AD13/(AE13*2.20462262185),0) | AG13: 48298 | AH13: 66000 | AI13: =IFERROR(AG13/(AH13*2.20462262185),0) | AJ13: 117555 | AK13: 132000 | AL13: =IFERROR(AJ13/(AK13*2.20462262185),0) | AM13: 1749380 | AN13: 2112000 | AO13: =IFERROR(AM13/(AN13*2.20462262185),0) | AP13: 2281425 | AQ13: 2750000 | AR13: =IFERROR(AP13/(AQ13*2.20462262185),0) | AS13: 604989 | AT13: 726780 | AU13: =IFERROR(AS13/(AT13*2.20462262185),0) | AV13: 397760 | AW13: 484000 | AX13: =IFERROR(AV13/(AW13*2.20462262185),0) | AY13: 1827483 | AZ13: 2199100 | BA13: =IFERROR(AY13/(AZ13*2.20462262185),0) | BB13: 3639728 | BC13: 4331750 | BD13: =IFERROR(BB13/(BC13*2.20462262185),0) | BE13: 4582636 | BF13: 5522000 | BG13: =IFERROR(BE13/(BF13*2.20462262185),0) | BH13: 2026694 | BI13: 2310000 | BJ13: =IFERROR(BH13/(BI13*2.20462262185),0) | BK13: 712594 | BL13: 770000 | BM13: =IFERROR(BK13/(BL13*2.20462262185),0) | BN13: 692914 | BO13: 746126 | BP13: =IFERROR(BN13/(BO13*2.20462262185),0) | BQ13: 359906 | BR13: 396000 | BS13: =IFERROR(BQ13/(BR13*2.20462262185),0) | BT13: 0 | BU13: 0 | BV13: =IFERROR(BT13/(BU13*2.20462262185),0) | BW13: 891432 | BX13: 880000 | BY13: =IFERROR(BW13/(BX13*2.20462262185),0) | BZ13: 3383555 | CA13: 2904000 | CB13: =IFERROR(BZ13/(CA13*2.20462262185),0) | CC13: 403850 | CD13: 374000 | CE13: =IFERROR(CC13/(CD13*2.20462262185),0) | CF13: 555714 | CG13: 528000 | CH13: =IFERROR(CF13/(CG13*2.20462262185),0) | CI13: 127464 | CJ13: 110000 | CK13: =IFERROR(CI13/(CJ13*2.20462262185),0) | CL13: 0 | CM13: 0 | CN13: =IFERROR(CL13/(CM13*2.20462262185),0) | CO13: 560085 | CP13: 705050 | CQ13: =IFERROR(CO13/(CP13*2.20462262185),0) | CR13: 529368 | CS13: 663400 | CT13: =IFERROR(CR13/(CS13*2.20462262185),0) | CU13: 0 | CV13: 0 | CW13: =IFERROR(CU13/(CV13*2.20462262185),0) | CX13: 216256 | CY13: 219700 | CZ13: =IFERROR(CX13/(CY13*2.20462262185),0) | DA13: 677687 | DB13: 879550 | DC13: =IFERROR(DA13/(DB13*2.20462262185),0) | DD13: 641195 | DE13: 704000 | DF13: =IFERROR(DD13/(DE13*2.20462262185),0) | DG13: 297000 | DH13: 330000 | DI13: =IFERROR(DG13/(DH13*2.20462262185),0) | DJ13: 1268942 | DK13: 1223722 | DL13: =IFERROR(DJ13/(DK13*2.20462262185),0) | DM13: 0 | DN13: 0 | DO13: =IFERROR(DM13/(DN13*2.20462262185),0) | DP13: 0 | DQ13: 0 | DR13: =IFERROR(DP13/(DQ13*2.20462262185),0) | DS13: 0 | DT13: 0 | DU13: =IFERROR(DS13/(DT13*2.20462262185),0) | DV13: 35085 | DW13: 21047 | DX13: =IFERROR(DV13/(DW13*2.20462262185),0) | DY13: 0 | DZ13: 0 | EA13: =IFERROR(DY13/(DZ13*2.20462262185),0) | EB13: 419323 | EC13: 396000 | ED13: =IFERROR(EB13/(EC13*2.20462262185),0) | EE13: 677010 | EF13: 592900 | EG13: =IFERROR(EE13/(EF13*2.20462262185),0) | EK13: 113588 | EL13: 90870 | EM13: =IFERROR(EK13/(EL13*2.20462262185),0) | EN13: 193977 | EO13: 155180 | EP13: =IFERROR(EN13/(EO13*2.20462262185),0) | EQ13: 0 | ER13: 0 | ES13: =IFERROR(EQ13/(ER13*2.20462262185),0) | ET13: 0 | EU13: 0 | EV13: =IFERROR(ET13/(EU13*2.20462262185),0) | EW13: 2101014 | EX13: 1320000 | EY13: =IFERROR(EW13/(EX13*2.20462262185),0) | EZ13: 6447894 | FA13: 4136000 | FB13: =IFERROR(EZ13/(FA13*2.20462262185),0) | FC13: 4234747 | FD13: 2910400 | FE13: =IFERROR(FC13/(FD13*2.20462262185),0) | FF13: 4386144 | FG13: 3022600 | FH13: =IFERROR(FF13/(FG13*2.20462262185),0) | FI13: 4483478 | FJ13: 3410000 | FK13: =IFERROR(FI13/(FJ13*2.20462262185),0) | FL13: 7190693 | FM13: 5814000 | FN13: =IFERROR(FL13/(FM13*2.20462262185),0) | FO13: 3430105 | FP13: 2706000 | FQ13: =IFERROR(FO13/(FP13*2.20462262185),0) | FR13: 5994056 | FS13: 5082000 | FT13: =IFERROR(FR13/(FS13*2.20462262185),0)
A14: Indonesia | B14: =SUM(I14,L14,O14,R14,U14,X14,AA14,AD14) | C14: =SUM(J14,M14,P14,S14,V14,Y14,AB14,AE14) | D14: =C14/1000000 | E14: =C14*2.20462262185/1000000 | F14: =IFERROR(B14/(C14/1000),0) | G14: =IFERROR(B14/(C14*2.20462262185),0) | I14: 1559371 | J14: 1860765 | K14: =IFERROR(I14/(J14*2.20462262185),0) | L14: 828868 | M14: 954708 | N14: =IFERROR(L14/(M14*2.20462262185),0) | O14: 1402449 | P14: 1528520 | Q14: =IFERROR(O14/(P14*2.20462262185),0) | R14: 996463 | S14: 1437822 | T14: =IFERROR(R14/(S14*2.20462262185),0) | U14: 1651799 | V14: 2204581 | W14: =IFERROR(U14/(V14*2.20462262185),0) | X14: 1139683 | Y14: 2001158 | Z14: =IFERROR(X14/(Y14*2.20462262185),0) | AA14: 1142206 | AB14: 1823290 | AC14: =IFERROR(AA14/(AB14*2.20462262185),0) | AD14: 1040047 | AE14: 1409696 | AF14: =IFERROR(AD14/(AE14*2.20462262185),0) | AG14: 389540 | AH14: 445064 | AI14: =IFERROR(AG14/(AH14*2.20462262185),0) | AJ14: 725272 | AK14: 1184426 | AL14: =IFERROR(AJ14/(AK14*2.20462262185),0) | AM14: 684065 | AN14: 938072 | AO14: =IFERROR(AM14/(AN14*2.20462262185),0) | AP14: 597311 | AQ14: 863347 | AR14: =IFERROR(AP14/(AQ14*2.20462262185),0) | AS14: 812407 | AT14: 1127675 | AU14: =IFERROR(AS14/(AT14*2.20462262185),0) | AV14: 95010 | AW14: 142337 | AX14: =IFERROR(AV14/(AW14*2.20462262185),0) | AY14: 1247686 | AZ14: 1418074 | BA14: =IFERROR(AY14/(AZ14*2.20462262185),0) | BB14: 1845602 | BC14: 1987254 | BD14: =IFERROR(BB14/(BC14*2.20462262185),0) | BE14: 1179280 | BF14: 1343223 | BG14: =IFERROR(BE14/(BF14*2.20462262185),0) | BH14: 1787340 | BI14: 1995464 | BJ14: =IFERROR(BH14/(BI14*2.20462262185),0) | BK14: 4182689 | BL14: 3777759 | BM14: =IFERROR(BK14/(BL14*2.20462262185),0) | BN14: 653432 | BO14: 813605 | BP14: =IFERROR(BN14/(BO14*2.20462262185),0) | BQ14: 1476231 | BR14: 1702419 | BS14: =IFERROR(BQ14/(BR14*2.20462262185),0) | BT14: 1111910 | BU14: 1385624 | BV14: =IFERROR(BT14/(BU14*2.20462262185),0) | BW14: 832906 | BX14: 897080 | BY14: =IFERROR(BW14/(BX14*2.20462262185),0) | BZ14: 961657 | CA14: 1316052 | CB14: =IFERROR(BZ14/(CA14*2.20462262185),0) | CC14: 220831 | CD14: 316771 | CE14: =IFERROR(CC14/(CD14*2.20462262185),0) | CF14: 1512739 | CG14: 1867290 | CH14: =IFERROR(CF14/(CG14*2.20462262185),0) | CI14: 1218945 | CJ14: 1385282 | CK14: =IFERROR(CI14/(CJ14*2.20462262185),0) | CL14: 924535 | CM14: 1002047 | CN14: =IFERROR(CL14/(CM14*2.20462262185),0) | CO14: 687098 | CP14: 832597 | CQ14: =IFERROR(CO14/(CP14*2.20462262185),0) | CR14: 700956 | CS14: 877527 | CT14: =IFERROR(CR14/(CS14*2.20462262185),0) | CU14: 528083 | CV14: 639129 | CW14: =IFERROR(CU14/(CV14*2.20462262185),0) | CX14: 548088 | CY14: 922031 | CZ14: =IFERROR(CX14/(CY14*2.20462262185),0) | DA14: 1042664 | DB14: 1620064 | DC14: =IFERROR(DA14/(DB14*2.20462262185),0) | DD14: 297625 | DE14: 463277 | DF14: =IFERROR(DD14/(DE14*2.20462262185),0) | DG14: 750964 | DH14: 1196624 | DI14: =IFERROR(DG14/(DH14*2.20462262185),0) | DJ14: 228309 | DK14: 413407 | DL14: =IFERROR(DJ14/(DK14*2.20462262185),0) | DM14: 0 | DN14: 0 | DO14: =IFERROR(DM14/(DN14*2.20462262185),0) | DP14: 471848 | DQ14: 349600 | DR14: =IFERROR(DP14/(DQ14*2.20462262185),0) | DS14: 623089 | DT14: 457000 | DU14: =IFERROR(DS14/(DT14*2.20462262185),0) | DV14: 641439 | DW14: 524400 | DX14: =IFERROR(DV14/(DW14*2.20462262185),0) | EK14: 635885 | EL14: 524400 | EM14: =IFERROR(EK14/(EL14*2.20462262185),0) | EN14: 0 | EO14: 0 | EP14: =IFERROR(EN14/(EO14*2.20462262185),0) | EQ14: 0 | ER14: 0 | ES14: =IFERROR(EQ14/(ER14*2.20462262185),0) | ET14: 525894 | EU14: 458850 | EV14: =IFERROR(ET14/(EU14*2.20462262185),0) | EW14: 175298 | EX14: 109250 | EY14: =IFERROR(EW14/(EX14*2.20462262185),0) | EZ14: 624292 | FA14: 437000 | FB14: =IFERROR(EZ14/(FA14*2.20462262185),0) | FC14: 721302 | FD14: 437000 | FE14: =IFERROR(FC14/(FD14*2.20462262185),0) | FF14: 0 | FG14: 0 | FH14: =IFERROR(FF14/(FG14*2.20462262185),0) | FI14: 0 | FJ14: 0 | FK14: =IFERROR(FI14/(FJ14*2.20462262185),0) | FL14: 1160068 | FM14: 699200 | FN14: =IFERROR(FL14/(FM14*2.20462262185),0) | FO14: 507726 | FP14: 305900 | FQ14: =IFERROR(FO14/(FP14*2.20462262185),0)
A15: Canada | B15: =SUM(I15,L15,O15,R15,U15,X15,AA15,AD15) | C15: =SUM(J15,M15,P15,S15,V15,Y15,AB15,AE15) | D15: =C15/1000000 | E15: =C15*2.20462262185/1000000 | F15: =IFERROR(B15/(C15/1000),0) | G15: =IFERROR(B15/(C15*2.20462262185),0) | I15: 1627737 | J15: 1366047 | K15: =IFERROR(I15/(J15*2.20462262185),0) | L15: 1412531 | M15: 1109484 | N15: =IFERROR(L15/(M15*2.20462262185),0) | O15: 2092750 | P15: 1587031 | Q15: =IFERROR(O15/(P15*2.20462262185),0) | R15: 1798049 | S15: 1392844 | T15: =IFERROR(R15/(S15*2.20462262185),0) | U15: 1602069 | V15: 1199643 | W15: =IFERROR(U15/(V15*2.20462262185),0) | X15: 2053266 | Y15: 1497207 | Z15: =IFERROR(X15/(Y15*2.20462262185),0) | AA15: 2209061 | AB15: 1904276 | AC15: =IFERROR(AA15/(AB15*2.20462262185),0) | AD15: 2419821 | AE15: 2283431 | AF15: =IFERROR(AD15/(AE15*2.20462262185),0) | AG15: 1783074 | AH15: 1776289 | AI15: =IFERROR(AG15/(AH15*2.20462262185),0) | AJ15: 1856624 | AK15: 1768705 | AL15: =IFERROR(AJ15/(AK15*2.20462262185),0) | AM15: 1274055 | AN15: 1461238 | AO15: =IFERROR(AM15/(AN15*2.20462262185),0) | AP15: 2597064 | AQ15: 2332710 | AR15: =IFERROR(AP15/(AQ15*2.20462262185),0) | AS15: 1218313 | AT15: 1347788 | AU15: =IFERROR(AS15/(AT15*2.20462262185),0) | AV15: 2553933 | AW15: 2176881 | AX15: =IFERROR(AV15/(AW15*2.20462262185),0) | AY15: 1893046 | AZ15: 1804731 | BA15: =IFERROR(AY15/(AZ15*2.20462262185),0) | BB15: 1873341 | BC15: 1594415 | BD15: =IFERROR(BB15/(BC15*2.20462262185),0) | BE15: 1630046 | BF15: 1434875 | BG15: =IFERROR(BE15/(BF15*2.20462262185),0) | BH15: 2008220 | BI15: 1564341 | BJ15: =IFERROR(BH15/(BI15*2.20462262185),0) | BK15: 3184944 | BL15: 2355248 | BM15: =IFERROR(BK15/(BL15*2.20462262185),0) | BN15: 3864269 | BO15: 2592190 | BP15: =IFERROR(BN15/(BO15*2.20462262185),0) | BQ15: 2796933 | BR15: 1820379 | BS15: =IFERROR(BQ15/(BR15*2.20462262185),0) | BT15: 1985757 | BU15: 1358016 | BV15: =IFERROR(BT15/(BU15*2.20462262185),0) | BW15: 2423127 | BX15: 1595980 | BY15: =IFERROR(BW15/(BX15*2.20462262185),0) | BZ15: 2318044 | CA15: 1543515 | CB15: =IFERROR(BZ15/(CA15*2.20462262185),0) | CC15: 2805666 | CD15: 1834126 | CE15: =IFERROR(CC15/(CD15*2.20462262185),0) | CF15: 2124922 | CG15: 1420715 | CH15: =IFERROR(CF15/(CG15*2.20462262185),0) | CI15: 3348658 | CJ15: 2409891 | CK15: =IFERROR(CI15/(CJ15*2.20462262185),0) | CL15: 3891675 | CM15: 2891842 | CN15: =IFERROR(CL15/(CM15*2.20462262185),0) | CO15: 2436039 | CP15: 1946581 | CQ15: =IFERROR(CO15/(CP15*2.20462262185),0) | CR15: 2258553 | CS15: 2023770 | CT15: =IFERROR(CR15/(CS15*2.20462262185),0) | CU15: 2000798 | CV15: 1515924 | CW15: =IFERROR(CU15/(CV15*2.20462262185),0) | CX15: 2175924 | CY15: 1678465 | CZ15: =IFERROR(CX15/(CY15*2.20462262185),0) | DA15: 2438651 | DB15: 1455039 | DC15: =IFERROR(DA15/(DB15*2.20462262185),0) | DD15: 1950525 | DE15: 1215178 | DF15: =IFERROR(DD15/(DE15*2.20462262185),0) | DG15: 2146468 | DH15: 1396377 | DI15: =IFERROR(DG15/(DH15*2.20462262185),0) | DJ15: 1763700 | DK15: 1168578 | DL15: =IFERROR(DJ15/(DK15*2.20462262185),0) | DM15: 2780988 | DN15: 1602001 | DO15: =IFERROR(DM15/(DN15*2.20462262185),0) | DP15: 4608528 | DQ15: 2498460 | DR15: =IFERROR(DP15/(DQ15*2.20462262185),0) | DS15: 3614897 | DT15: 1907214 | DU15: =IFERROR(DS15/(DT15*2.20462262185),0) | DV15: 4262800 | DW15: 2230233 | DX15: =IFERROR(DV15/(DW15*2.20462262185),0) | DY15: 4190706 | DZ15: 2278470 | EA15: =IFERROR(DY15/(DZ15*2.20462262185),0) | EB15: 3984285 | EC15: 2164727 | ED15: =IFERROR(EB15/(EC15*2.20462262185),0) | EE15: 3241768 | EF15: 1995982 | EG15: =IFERROR(EE15/(EF15*2.20462262185),0) | EH15: 5015200 | EI15: 3173884 | EJ15: =IFERROR(EH15/(EI15*2.20462262185),0) | EK15: 3353561 | EL15: 2002340 | EM15: =IFERROR(EK15/(EL15*2.20462262185),0) | EN15: 3338957 | EO15: 1841093 | EP15: =IFERROR(EN15/(EO15*2.20462262185),0) | EQ15: 4066966 | ER15: 2200996 | ES15: =IFERROR(EQ15/(ER15*2.20462262185),0) | ET15: 3752197 | EU15: 2070787 | EV15: =IFERROR(ET15/(EU15*2.20462262185),0) | EW15: 5109927 | EX15: 2230723 | EY15: =IFERROR(EW15/(EX15*2.20462262185),0) | EZ15: 5090791 | FA15: 2057067 | FB15: =IFERROR(EZ15/(FA15*2.20462262185),0) | FC15: 4476790 | FD15: 1817992 | FE15: =IFERROR(FC15/(FD15*2.20462262185),0) | FF15: 5470387 | FG15: 2215319 | FH15: =IFERROR(FF15/(FG15*2.20462262185),0) | FI15: 4168389 | FJ15: 1817267 | FK15: =IFERROR(FI15/(FJ15*2.20462262185),0) | FL15: 4277210 | FM15: 2126349 | FN15: =IFERROR(FL15/(FM15*2.20462262185),0) | FO15: 3324077 | FP15: 1641631 | FQ15: =IFERROR(FO15/(FP15*2.20462262185),0) | FR15: 4333092 | FS15: 2174716 | FT15: =IFERROR(FR15/(FS15*2.20462262185),0)
A16: Malaysia | B16: =SUM(I16,L16,O16,R16,U16,X16,AA16,AD16) | C16: =SUM(J16,M16,P16,S16,V16,Y16,AB16,AE16) | D16: =C16/1000000 | E16: =C16*2.20462262185/1000000 | F16: =IFERROR(B16/(C16/1000),0) | G16: =IFERROR(B16/(C16*2.20462262185),0) | I16: 1753124 | J16: 1298000 | K16: =IFERROR(I16/(J16*2.20462262185),0) | L16: 1935585 | M16: 1496000 | N16: =IFERROR(L16/(M16*2.20462262185),0) | O16: 698140 | P16: 528000 | Q16: =IFERROR(O16/(P16*2.20462262185),0) | R16: 110143 | S16: 132000 | T16: =IFERROR(R16/(S16*2.20462262185),0) | U16: 1817484 | V16: 2112000 | W16: =IFERROR(U16/(V16*2.20462262185),0) | X16: 1040691 | Y16: 1210000 | Z16: =IFERROR(X16/(Y16*2.20462262185),0) | AA16: 1149614 | AB16: 1383000 | AC16: =IFERROR(AA16/(AB16*2.20462262185),0) | AD16: 1531565 | AE16: 1813261 | AF16: =IFERROR(AD16/(AE16*2.20462262185),0) | AG16: 1448570 | AH16: 1644504 | AI16: =IFERROR(AG16/(AH16*2.20462262185),0) | AJ16: 1502935 | AK16: 1672000 | AL16: =IFERROR(AJ16/(AK16*2.20462262185),0) | AM16: 2894962 | AN16: 3102000 | AO16: =IFERROR(AM16/(AN16*2.20462262185),0) | AP16: 677095 | AQ16: 638000 | AR16: =IFERROR(AP16/(AQ16*2.20462262185),0) | AS16: 881180 | AT16: 808705 | AU16: =IFERROR(AS16/(AT16*2.20462262185),0) | AV16: 3025405 | AW16: 3166520 | AX16: =IFERROR(AV16/(AW16*2.20462262185),0) | AY16: 2607297 | AZ16: 2570205 | BA16: =IFERROR(AY16/(AZ16*2.20462262185),0) | BB16: 2334236 | BC16: 2329581 | BD16: =IFERROR(BB16/(BC16*2.20462262185),0) | BE16: 3066479 | BF16: 3192000 | BG16: =IFERROR(BE16/(BF16*2.20462262185),0) | BH16: 2383246 | BI16: 2613390 | BJ16: =IFERROR(BH16/(BI16*2.20462262185),0) | BK16: 1431708 | BL16: 1460000 | BM16: =IFERROR(BK16/(BL16*2.20462262185),0) | BN16: 3547275 | BO16: 3923961 | BP16: =IFERROR(BN16/(BO16*2.20462262185),0) | BQ16: 1737855 | BR16: 1728000 | BS16: =IFERROR(BQ16/(BR16*2.20462262185),0) | BT16: 935410 | BU16: 902000 | BV16: =IFERROR(BT16/(BU16*2.20462262185),0) | BW16: 956715 | BX16: 924000 | BY16: =IFERROR(BW16/(BX16*2.20462262185),0) | BZ16: 1385674 | CA16: 1328000 | CB16: =IFERROR(BZ16/(CA16*2.20462262185),0) | CC16: 1987371 | CD16: 1726300 | CE16: =IFERROR(CC16/(CD16*2.20462262185),0) | CF16: 2793212 | CG16: 2746216 | CH16: =IFERROR(CF16/(CG16*2.20462262185),0) | CI16: 3251962 | CJ16: 3096638 | CK16: =IFERROR(CI16/(CJ16*2.20462262185),0) | CL16: 1467064 | CM16: 1382000 | CN16: =IFERROR(CL16/(CM16*2.20462262185),0) | CO16: 1214836 | CP16: 1218000 | CQ16: =IFERROR(CO16/(CP16*2.20462262185),0) | CR16: 2245327 | CS16: 2245000 | CT16: =IFERROR(CR16/(CS16*2.20462262185),0) | CU16: 1066152 | CV16: 992000 | CW16: =IFERROR(CU16/(CV16*2.20462262185),0) | CX16: 1936233 | CY16: 1942030 | CZ16: =IFERROR(CX16/(CY16*2.20462262185),0) | DA16: 635270 | DB16: 596000 | DC16: =IFERROR(DA16/(DB16*2.20462262185),0) | DD16: 1940115 | DE16: 1931107 | DF16: =IFERROR(DD16/(DE16*2.20462262185),0) | DG16: 4342054 | DH16: 4457174 | DI16: =IFERROR(DG16/(DH16*2.20462262185),0) | DJ16: 3627191 | DK16: 3664190 | DL16: =IFERROR(DJ16/(DK16*2.20462262185),0) | DM16: 1904264 | DN16: 1788000 | DO16: =IFERROR(DM16/(DN16*2.20462262185),0) | DP16: 661988 | DQ16: 615000 | DR16: =IFERROR(DP16/(DQ16*2.20462262185),0) | DS16: 3169303 | DT16: 2924200 | DU16: =IFERROR(DS16/(DT16*2.20462262185),0) | DV16: 532317 | DW16: 486000 | DX16: =IFERROR(DV16/(DW16*2.20462262185),0) | DY16: 31825 | DZ16: 19000 | EA16: =IFERROR(DY16/(DZ16*2.20462262185),0) | EB16: 2607196 | EC16: 2426800 | ED16: =IFERROR(EB16/(EC16*2.20462262185),0) | EE16: 2657506 | EF16: 2628000 | EG16: =IFERROR(EE16/(EF16*2.20462262185),0) | EH16: 980720 | EI16: 946000 | EJ16: =IFERROR(EH16/(EI16*2.20462262185),0) | EK16: 135960 | EL16: 124520 | EM16: =IFERROR(EK16/(EL16*2.20462262185),0) | EN16: 234417 | EO16: 190430 | EP16: =IFERROR(EN16/(EO16*2.20462262185),0) | EQ16: 112932 | ER16: 88000 | ES16: =IFERROR(EQ16/(ER16*2.20462262185),0) | ET16: 1973552 | EU16: 1660296 | EV16: =IFERROR(ET16/(EU16*2.20462262185),0) | EW16: 2198351 | EX16: 1585296 | EY16: =IFERROR(EW16/(EX16*2.20462262185),0) | EZ16: 1107390 | FA16: 748000 | FB16: =IFERROR(EZ16/(FA16*2.20462262185),0) | FC16: 3492409 | FD16: 2308000 | FE16: =IFERROR(FC16/(FD16*2.20462262185),0) | FF16: 1130035 | FG16: 768000 | FH16: =IFERROR(FF16/(FG16*2.20462262185),0) | FI16: 595684 | FJ16: 422000 | FK16: =IFERROR(FI16/(FJ16*2.20462262185),0) | FL16: 1088997 | FM16: 758000 | FN16: =IFERROR(FL16/(FM16*2.20462262185),0) | FO16: 2377457 | FP16: 1708530 | FQ16: =IFERROR(FO16/(FP16*2.20462262185),0) | FR16: 1114656 | FS16: 606000 | FT16: =IFERROR(FR16/(FS16*2.20462262185),0)
A17: Japan | B17: =SUM(I17,L17,O17,R17,U17,X17,AA17,AD17) | C17: =SUM(J17,M17,P17,S17,V17,Y17,AB17,AE17) | D17: =C17/1000000 | E17: =C17*2.20462262185/1000000 | F17: =IFERROR(B17/(C17/1000),0) | G17: =IFERROR(B17/(C17*2.20462262185),0) | I17: 853949 | J17: 899660 | K17: =IFERROR(I17/(J17*2.20462262185),0) | L17: 16748 | M17: 24630 | N17: =IFERROR(L17/(M17*2.20462262185),0) | O17: 909164 | P17: 782434 | Q17: =IFERROR(O17/(P17*2.20462262185),0) | R17: 1870186 | S17: 1800920 | T17: =IFERROR(R17/(S17*2.20462262185),0) | U17: 2167823 | V17: 1684540 | W17: =IFERROR(U17/(V17*2.20462262185),0) | X17: 1344403 | Y17: 1315189 | Z17: =IFERROR(X17/(Y17*2.20462262185),0) | AA17: 707755 | AB17: 620807 | AC17: =IFERROR(AA17/(AB17*2.20462262185),0) | AD17: 1731668 | AE17: 1565490 | AF17: =IFERROR(AD17/(AE17*2.20462262185),0) | AG17: 1493664 | AH17: 1266115 | AI17: =IFERROR(AG17/(AH17*2.20462262185),0) | AJ17: 199483 | AK17: 290659 | AL17: =IFERROR(AJ17/(AK17*2.20462262185),0) | AM17: 101246 | AN17: 198520 | AO17: =IFERROR(AM17/(AN17*2.20462262185),0) | AP17: 0 | AQ17: 0 | AR17: =IFERROR(AP17/(AQ17*2.20462262185),0) | AS17: 1237023 | AT17: 924000 | AU17: =IFERROR(AS17/(AT17*2.20462262185),0) | AV17: 1513528 | AW17: 1113000 | AX17: =IFERROR(AV17/(AW17*2.20462262185),0) | AY17: 1529555 | AZ17: 1318150 | BA17: =IFERROR(AY17/(AZ17*2.20462262185),0) | BB17: 888689 | BC17: 651000 | BD17: =IFERROR(BB17/(BC17*2.20462262185),0) | BE17: 1495865 | BF17: 1153601 | BG17: =IFERROR(BE17/(BF17*2.20462262185),0) | BH17: 1586035 | BI17: 1388150 | BJ17: =IFERROR(BH17/(BI17*2.20462262185),0) | BK17: 3779420 | BL17: 2784890 | BM17: =IFERROR(BK17/(BL17*2.20462262185),0) | BN17: 4124322 | BO17: 3275050 | BP17: =IFERROR(BN17/(BO17*2.20462262185),0) | BQ17: 3752987 | BR17: 2931750 | BS17: =IFERROR(BQ17/(BR17*2.20462262185),0) | BT17: 4277080 | BU17: 3750380 | BV17: =IFERROR(BT17/(BU17*2.20462262185),0) | BW17: 1480899 | BX17: 1395730 | BY17: =IFERROR(BW17/(BX17*2.20462262185),0) | BZ17: 2661888 | CA17: 2511510 | CB17: =IFERROR(BZ17/(CA17*2.20462262185),0) | CC17: 1483160 | CD17: 1423860 | CE17: =IFERROR(CC17/(CD17*2.20462262185),0) | CF17: 339376 | CG17: 485670 | CH17: =IFERROR(CF17/(CG17*2.20462262185),0) | CI17: 137381 | CJ17: 173900 | CK17: =IFERROR(CI17/(CJ17*2.20462262185),0) | CL17: 0 | CM17: 0 | CN17: =IFERROR(CL17/(CM17*2.20462262185),0) | CO17: 0 | CP17: 0 | CQ17: =IFERROR(CO17/(CP17*2.20462262185),0) | CR17: 125981 | CS17: 194430 | CT17: =IFERROR(CR17/(CS17*2.20462262185),0) | CU17: 68530 | CV17: 124600 | CW17: =IFERROR(CU17/(CV17*2.20462262185),0) | CX17: 503075 | CY17: 811925 | CZ17: =IFERROR(CX17/(CY17*2.20462262185),0) | DA17: 365261 | DB17: 590082 | DC17: =IFERROR(DA17/(DB17*2.20462262185),0) | DD17: 185849 | DE17: 277386 | DF17: =IFERROR(DD17/(DE17*2.20462262185),0) | DG17: 1458390 | DH17: 2377120 | DI17: =IFERROR(DG17/(DH17*2.20462262185),0) | DJ17: 456367 | DK17: 764070 | DL17: =IFERROR(DJ17/(DK17*2.20462262185),0) | DM17: 0 | DN17: 0 | DO17: =IFERROR(DM17/(DN17*2.20462262185),0) | DP17: 188698 | DQ17: 75600 | DR17: =IFERROR(DP17/(DQ17*2.20462262185),0) | DS17: 0 | DT17: 0 | DU17: =IFERROR(DS17/(DT17*2.20462262185),0) | DV17: 188698 | DW17: 75600 | DX17: =IFERROR(DV17/(DW17*2.20462262185),0) | DY17: 1386 | DZ17: 850 | EA17: =IFERROR(DY17/(DZ17*2.20462262185),0) | EB17: 0 | EC17: 0 | ED17: =IFERROR(EB17/(EC17*2.20462262185),0) | EE17: 0 | EF17: 0 | EG17: =IFERROR(EE17/(EF17*2.20462262185),0) | EH17: 398714 | EI17: 151200 | EJ17: =IFERROR(EH17/(EI17*2.20462262185),0) | EK17: 0 | EL17: 0 | EM17: =IFERROR(EK17/(EL17*2.20462262185),0) | EN17: 365715 | EO17: 113400 | EP17: =IFERROR(EN17/(EO17*2.20462262185),0) | EQ17: 0 | ER17: 0 | ES17: =IFERROR(EQ17/(ER17*2.20462262185),0) | ET17: 0 | EU17: 0 | EV17: =IFERROR(ET17/(EU17*2.20462262185),0) | EW17: 0 | EX17: 0 | EY17: =IFERROR(EW17/(EX17*2.20462262185),0) | EZ17: 0 | FA17: 0 | FB17: =IFERROR(EZ17/(FA17*2.20462262185),0) | FC17: 0 | FD17: 0 | FE17: =IFERROR(FC17/(FD17*2.20462262185),0) | FF17: 0 | FG17: 0 | FH17: =IFERROR(FF17/(FG17*2.20462262185),0) | FI17: 0 | FJ17: 0 | FK17: =IFERROR(FI17/(FJ17*2.20462262185),0) | FL17: 2779 | FM17: 396 | FN17: =IFERROR(FL17/(FM17*2.20462262185),0)
A18: Nigeria | B18: =SUM(I18,L18,O18,R18,U18,X18,AA18,AD18) | C18: =SUM(J18,M18,P18,S18,V18,Y18,AB18,AE18) | D18: =C18/1000000 | E18: =C18*2.20462262185/1000000 | F18: =IFERROR(B18/(C18/1000),0) | G18: =IFERROR(B18/(C18*2.20462262185),0) | I18: 538186 | J18: 1088290 | K18: =IFERROR(I18/(J18*2.20462262185),0) | L18: 269773 | M18: 479233 | N18: =IFERROR(L18/(M18*2.20462262185),0) | O18: 766401 | P18: 1510955 | Q18: =IFERROR(O18/(P18*2.20462262185),0) | R18: 383269 | S18: 724263 | T18: =IFERROR(R18/(S18*2.20462262185),0) | U18: 469923 | V18: 986249 | W18: =IFERROR(U18/(V18*2.20462262185),0) | X18: 544140 | Y18: 1017900 | Z18: =IFERROR(X18/(Y18*2.20462262185),0) | AA18: 521090 | AB18: 939230 | AC18: =IFERROR(AA18/(AB18*2.20462262185),0) | AD18: 221121 | AE18: 395140 | AF18: =IFERROR(AD18/(AE18*2.20462262185),0) | AG18: 73812 | AH18: 139632 | AI18: =IFERROR(AG18/(AH18*2.20462262185),0) | AJ18: 923747 | AK18: 1522754 | AL18: =IFERROR(AJ18/(AK18*2.20462262185),0) | AM18: 664944 | AN18: 1135160 | AO18: =IFERROR(AM18/(AN18*2.20462262185),0) | AP18: 1140688 | AQ18: 1929573 | AR18: =IFERROR(AP18/(AQ18*2.20462262185),0) | AS18: 430752 | AT18: 726520 | AU18: =IFERROR(AS18/(AT18*2.20462262185),0) | AV18: 863067 | AW18: 1486763 | AX18: =IFERROR(AV18/(AW18*2.20462262185),0) | AY18: 1020480 | AZ18: 1632375 | BA18: =IFERROR(AY18/(AZ18*2.20462262185),0) | BB18: 912949 | BC18: 1653125 | BD18: =IFERROR(BB18/(BC18*2.20462262185),0) | BE18: 948131 | BF18: 1738715 | BG18: =IFERROR(BE18/(BF18*2.20462262185),0) | BH18: 879258 | BI18: 1566345 | BJ18: =IFERROR(BH18/(BI18*2.20462262185),0) | BK18: 1015356 | BL18: 1591435 | BM18: =IFERROR(BK18/(BL18*2.20462262185),0) | BN18: 811952 | BO18: 1269035 | BP18: =IFERROR(BN18/(BO18*2.20462262185),0) | BQ18: 754034 | BR18: 1037890 | BS18: =IFERROR(BQ18/(BR18*2.20462262185),0) | BT18: 1300349 | BU18: 2068008 | BV18: =IFERROR(BT18/(BU18*2.20462262185),0) | BW18: 458708 | BX18: 757611 | BY18: =IFERROR(BW18/(BX18*2.20462262185),0) | BZ18: 679836 | CA18: 1263240 | CB18: =IFERROR(BZ18/(CA18*2.20462262185),0) | CC18: 34263 | CD18: 70550 | CE18: =IFERROR(CC18/(CD18*2.20462262185),0) | CF18: 835616 | CG18: 1409510 | CH18: =IFERROR(CF18/(CG18*2.20462262185),0) | CI18: 184374 | CJ18: 311650 | CK18: =IFERROR(CI18/(CJ18*2.20462262185),0) | CL18: 798041 | CM18: 1403450 | CN18: =IFERROR(CL18/(CM18*2.20462262185),0) | CO18: 542223 | CP18: 1009135 | CQ18: =IFERROR(CO18/(CP18*2.20462262185),0) | CR18: 822694 | CS18: 1467630 | CT18: =IFERROR(CR18/(CS18*2.20462262185),0) | CU18: 182453 | CV18: 332966 | CW18: =IFERROR(CU18/(CV18*2.20462262185),0) | CX18: 576345 | CY18: 1022704 | CZ18: =IFERROR(CX18/(CY18*2.20462262185),0) | DA18: 844539 | DB18: 1479800 | DC18: =IFERROR(DA18/(DB18*2.20462262185),0) | DD18: 260871 | DE18: 586820 | DF18: =IFERROR(DD18/(DE18*2.20462262185),0) | DG18: 624566 | DH18: 1218645 | DI18: =IFERROR(DG18/(DH18*2.20462262185),0) | DJ18: 440273 | DK18: 818575 | DL18: =IFERROR(DJ18/(DK18*2.20462262185),0)
A19: Ecuador | B19: =SUM(I19,L19,O19,R19,U19,X19,AA19,AD19) | C19: =SUM(J19,M19,P19,S19,V19,Y19,AB19,AE19) | D19: =C19/1000000 | E19: =C19*2.20462262185/1000000 | F19: =IFERROR(B19/(C19/1000),0) | G19: =IFERROR(B19/(C19*2.20462262185),0) | I19: 293424 | J19: 322659 | K19: =IFERROR(I19/(J19*2.20462262185),0) | L19: 215840 | M19: 223262 | N19: =IFERROR(L19/(M19*2.20462262185),0) | O19: 266143 | P19: 334028 | Q19: =IFERROR(O19/(P19*2.20462262185),0) | R19: 235797 | S19: 290142 | T19: =IFERROR(R19/(S19*2.20462262185),0) | U19: 432815 | V19: 551211 | W19: =IFERROR(U19/(V19*2.20462262185),0) | X19: 1302889 | Y19: 1742383 | Z19: =IFERROR(X19/(Y19*2.20462262185),0) | AA19: 1472132 | AB19: 1990197 | AC19: =IFERROR(AA19/(AB19*2.20462262185),0) | AD19: 1214621 | AE19: 1631789 | AF19: =IFERROR(AD19/(AE19*2.20462262185),0) | AG19: 820408 | AH19: 1078317 | AI19: =IFERROR(AG19/(AH19*2.20462262185),0) | AJ19: 813477 | AK19: 1073498 | AL19: =IFERROR(AJ19/(AK19*2.20462262185),0) | AM19: 783121 | AN19: 1015782 | AO19: =IFERROR(AM19/(AN19*2.20462262185),0) | AP19: 766806 | AQ19: 929844 | AR19: =IFERROR(AP19/(AQ19*2.20462262185),0) | AS19: 1076312 | AT19: 1216644 | AU19: =IFERROR(AS19/(AT19*2.20462262185),0) | AV19: 1298830 | AW19: 1285548 | AX19: =IFERROR(AV19/(AW19*2.20462262185),0) | AY19: 1760726 | AZ19: 1609079 | BA19: =IFERROR(AY19/(AZ19*2.20462262185),0) | BB19: 2041405 | BC19: 1825040 | BD19: =IFERROR(BB19/(BC19*2.20462262185),0) | BE19: 1316677 | BF19: 1180784 | BG19: =IFERROR(BE19/(BF19*2.20462262185),0) | BH19: 2241967 | BI19: 2014519 | BJ19: =IFERROR(BH19/(BI19*2.20462262185),0) | BK19: 1036252 | BL19: 941037 | BM19: =IFERROR(BK19/(BL19*2.20462262185),0) | BN19: 1023972 | BO19: 938602 | BP19: =IFERROR(BN19/(BO19*2.20462262185),0) | BQ19: 731820 | BR19: 652083 | BS19: =IFERROR(BQ19/(BR19*2.20462262185),0) | BT19: 666570 | BU19: 625554 | BV19: =IFERROR(BT19/(BU19*2.20462262185),0) | BW19: 380202 | BX19: 369624 | BY19: =IFERROR(BW19/(BX19*2.20462262185),0) | BZ19: 503257 | CA19: 475806 | CB19: =IFERROR(BZ19/(CA19*2.20462262185),0) | CC19: 97959 | CD19: 105332 | CE19: =IFERROR(CC19/(CD19*2.20462262185),0) | CF19: 706047 | CG19: 689741 | CH19: =IFERROR(CF19/(CG19*2.20462262185),0) | CI19: 436979 | CJ19: 488410 | CK19: =IFERROR(CI19/(CJ19*2.20462262185),0) | CL19: 411727 | CM19: 513423 | CN19: =IFERROR(CL19/(CM19*2.20462262185),0) | CO19: 924232 | CP19: 1008369 | CQ19: =IFERROR(CO19/(CP19*2.20462262185),0) | CR19: 678285 | CS19: 777120 | CT19: =IFERROR(CR19/(CS19*2.20462262185),0) | CU19: 333965 | CV19: 377628 | CW19: =IFERROR(CU19/(CV19*2.20462262185),0) | CX19: 482720 | CY19: 615499 | CZ19: =IFERROR(CX19/(CY19*2.20462262185),0) | DA19: 822812 | DB19: 913773 | DC19: =IFERROR(DA19/(DB19*2.20462262185),0) | DD19: 581887 | DE19: 775949 | DF19: =IFERROR(DD19/(DE19*2.20462262185),0) | DG19: 237570 | DH19: 325280 | DI19: =IFERROR(DG19/(DH19*2.20462262185),0) | DJ19: 154722 | DK19: 233159 | DL19: =IFERROR(DJ19/(DK19*2.20462262185),0) | DM19: 28262 | DN19: 44160 | DO19: =IFERROR(DM19/(DN19*2.20462262185),0) | EK19: 264491 | EL19: 140433 | EM19: =IFERROR(EK19/(EL19*2.20462262185),0) | EN19: 16529 | EO19: 18366 | EP19: =IFERROR(EN19/(EO19*2.20462262185),0) | EQ19: 0 | ER19: 0 | ES19: =IFERROR(EQ19/(ER19*2.20462262185),0) | ET19: 98411 | EU19: 88992 | EV19: =IFERROR(ET19/(EU19*2.20462262185),0) | EW19: 331071 | EX19: 194927 | EY19: =IFERROR(EW19/(EX19*2.20462262185),0) | EZ19: 29964 | FA19: 23971 | FB19: =IFERROR(EZ19/(FA19*2.20462262185),0) | FC19: 665826 | FD19: 418015 | FE19: =IFERROR(FC19/(FD19*2.20462262185),0) | FF19: 165239 | FG19: 153020 | FH19: =IFERROR(FF19/(FG19*2.20462262185),0) | FI19: 408371 | FJ19: 209151 | FK19: =IFERROR(FI19/(FJ19*2.20462262185),0) | FL19: 318777 | FM19: 188234 | FN19: =IFERROR(FL19/(FM19*2.20462262185),0) | FO19: 905955 | FP19: 597823 | FQ19: =IFERROR(FO19/(FP19*2.20462262185),0) | FR19: 458184 | FS19: 299442 | FT19: =IFERROR(FR19/(FS19*2.20462262185),0)
A20: Peru | B20: =SUM(I20,L20,O20,R20,U20,X20,AA20,AD20) | C20: =SUM(J20,M20,P20,S20,V20,Y20,AB20,AE20) | D20: =C20/1000000 | E20: =C20*2.20462262185/1000000 | F20: =IFERROR(B20/(C20/1000),0) | G20: =IFERROR(B20/(C20*2.20462262185),0) | I20: 163933 | J20: 330543 | K20: =IFERROR(I20/(J20*2.20462262185),0) | L20: 314777 | M20: 658028 | N20: =IFERROR(L20/(M20*2.20462262185),0) | O20: 1074091 | P20: 1130756 | Q20: =IFERROR(O20/(P20*2.20462262185),0) | R20: 1058855 | S20: 1176424 | T20: =IFERROR(R20/(S20*2.20462262185),0) | U20: 231903 | V20: 335316 | W20: =IFERROR(U20/(V20*2.20462262185),0) | X20: 524807 | Y20: 710882 | Z20: =IFERROR(X20/(Y20*2.20462262185),0) | AA20: 342830 | AB20: 363653 | AC20: =IFERROR(AA20/(AB20*2.20462262185),0) | AD20: 417095 | AE20: 685379 | AF20: =IFERROR(AD20/(AE20*2.20462262185),0) | AG20: 600842 | AH20: 977083 | AI20: =IFERROR(AG20/(AH20*2.20462262185),0) | AJ20: 0 | AK20: 0 | AL20: =IFERROR(AJ20/(AK20*2.20462262185),0) | AM20: 424152 | AN20: 629689 | AO20: =IFERROR(AM20/(AN20*2.20462262185),0) | AP20: 260797 | AQ20: 355625 | AR20: =IFERROR(AP20/(AQ20*2.20462262185),0) | AS20: 675523 | AT20: 744244 | AU20: =IFERROR(AS20/(AT20*2.20462262185),0) | AV20: 370405 | AW20: 381565 | AX20: =IFERROR(AV20/(AW20*2.20462262185),0) | AY20: 750086 | AZ20: 718524 | BA20: =IFERROR(AY20/(AZ20*2.20462262185),0) | BB20: 846363 | BC20: 797049 | BD20: =IFERROR(BB20/(BC20*2.20462262185),0) | BE20: 1496518 | BF20: 1321373 | BG20: =IFERROR(BE20/(BF20*2.20462262185),0) | BH20: 360886 | BI20: 312526 | BJ20: =IFERROR(BH20/(BI20*2.20462262185),0) | BK20: 409620 | BL20: 349329 | BM20: =IFERROR(BK20/(BL20*2.20462262185),0) | BN20: 805963 | BO20: 692195 | BP20: =IFERROR(BN20/(BO20*2.20462262185),0) | BQ20: 566936 | BR20: 481237 | BS20: =IFERROR(BQ20/(BR20*2.20462262185),0) | BT20: 387382 | BU20: 360379 | BV20: =IFERROR(BT20/(BU20*2.20462262185),0) | BW20: 574789 | BX20: 481454 | BY20: =IFERROR(BW20/(BX20*2.20462262185),0) | BZ20: 490689 | CA20: 458059 | CB20: =IFERROR(BZ20/(CA20*2.20462262185),0) | CC20: 183003 | CD20: 164182 | CE20: =IFERROR(CC20/(CD20*2.20462262185),0) | CF20: 619863 | CG20: 647696 | CH20: =IFERROR(CF20/(CG20*2.20462262185),0) | CI20: 290387 | CJ20: 302693 | CK20: =IFERROR(CI20/(CJ20*2.20462262185),0) | CL20: 490849 | CM20: 563575 | CN20: =IFERROR(CL20/(CM20*2.20462262185),0) | CO20: 1430909 | CP20: 1690817 | CQ20: =IFERROR(CO20/(CP20*2.20462262185),0) | CR20: 374766 | CS20: 432337 | CT20: =IFERROR(CR20/(CS20*2.20462262185),0) | CU20: 705698 | CV20: 860158 | CW20: =IFERROR(CU20/(CV20*2.20462262185),0) | CX20: 595368 | CY20: 732144 | CZ20: =IFERROR(CX20/(CY20*2.20462262185),0) | DA20: 502621 | DB20: 630138 | DC20: =IFERROR(DA20/(DB20*2.20462262185),0) | DD20: 370736 | DE20: 501759 | DF20: =IFERROR(DD20/(DE20*2.20462262185),0) | DG20: 522182 | DH20: 731236 | DI20: =IFERROR(DG20/(DH20*2.20462262185),0) | DJ20: 432976 | DK20: 604824 | DL20: =IFERROR(DJ20/(DK20*2.20462262185),0) | DM20: 375182 | DN20: 542136 | DO20: =IFERROR(DM20/(DN20*2.20462262185),0) | DP20: 422152 | DQ20: 590492 | DR20: =IFERROR(DP20/(DQ20*2.20462262185),0) | DS20: 206168 | DT20: 288576 | DU20: =IFERROR(DS20/(DT20*2.20462262185),0) | DV20: 353181 | DW20: 481122 | DX20: =IFERROR(DV20/(DW20*2.20462262185),0) | DY20: 59058 | DZ20: 70838 | EA20: =IFERROR(DY20/(DZ20*2.20462262185),0) | EB20: 0 | EC20: 0 | ED20: =IFERROR(EB20/(EC20*2.20462262185),0) | EE20: 174299 | EF20: 237420 | EG20: =IFERROR(EE20/(EF20*2.20462262185),0) | EH20: 186412 | EI20: 233872 | EJ20: =IFERROR(EH20/(EI20*2.20462262185),0) | EK20: 146196 | EL20: 161058 | EM20: =IFERROR(EK20/(EL20*2.20462262185),0) | EN20: 482004 | EO20: 433105 | EP20: =IFERROR(EN20/(EO20*2.20462262185),0) | EQ20: 458653 | ER20: 377520 | ES20: =IFERROR(EQ20/(ER20*2.20462262185),0) | ET20: 206517 | EU20: 167053 | EV20: =IFERROR(ET20/(EU20*2.20462262185),0) | EW20: 267443 | EX20: 209342 | EY20: =IFERROR(EW20/(EX20*2.20462262185),0) | EZ20: 787057 | FA20: 637355 | FB20: =IFERROR(EZ20/(FA20*2.20462262185),0) | FC20: 674003 | FD20: 519028 | FE20: =IFERROR(FC20/(FD20*2.20462262185),0) | FF20: 238800 | FG20: 194374 | FH20: =IFERROR(FF20/(FG20*2.20462262185),0) | FI20: 730401 | FJ20: 565572 | FK20: =IFERROR(FI20/(FJ20*2.20462262185),0) | FL20: 116171 | FM20: 108790 | FN20: =IFERROR(FL20/(FM20*2.20462262185),0) | FO20: 305148 | FP20: 259084 | FQ20: =IFERROR(FO20/(FP20*2.20462262185),0) | FR20: 704824 | FS20: 627450 | FT20: =IFERROR(FR20/(FS20*2.20462262185),0)
A21: India | B21: =SUM(I21,L21,O21,R21,U21,X21,AA21,AD21) | C21: =SUM(J21,M21,P21,S21,V21,Y21,AB21,AE21) | D21: =C21/1000000 | E21: =C21*2.20462262185/1000000 | F21: =IFERROR(B21/(C21/1000),0) | G21: =IFERROR(B21/(C21*2.20462262185),0) | I21: 1140517 | J21: 1044615 | K21: =IFERROR(I21/(J21*2.20462262185),0) | L21: 983552 | M21: 922328 | N21: =IFERROR(L21/(M21*2.20462262185),0) | O21: 748105 | P21: 766245 | Q21: =IFERROR(O21/(P21*2.20462262185),0) | R21: 719658 | S21: 756808 | T21: =IFERROR(R21/(S21*2.20462262185),0) | AG21: 0 | AH21: 0 | AI21: =IFERROR(AG21/(AH21*2.20462262185),0) | AJ21: 654175 | AK21: 579311 | AL21: =IFERROR(AJ21/(AK21*2.20462262185),0) | AM21: 714372 | AN21: 676422 | AO21: =IFERROR(AM21/(AN21*2.20462262185),0) | AP21: 1738687 | AQ21: 1919476 | AR21: =IFERROR(AP21/(AQ21*2.20462262185),0) | AS21: 3848727 | AT21: 3688542 | AU21: =IFERROR(AS21/(AT21*2.20462262185),0) | AV21: 4349439 | AW21: 4119909 | AX21: =IFERROR(AV21/(AW21*2.20462262185),0) | AY21: 3949179 | AZ21: 3622109 | BA21: =IFERROR(AY21/(AZ21*2.20462262185),0) | BB21: 3975801 | BC21: 3425380 | BD21: =IFERROR(BB21/(BC21*2.20462262185),0) | BE21: 3172985 | BF21: 2693750 | BG21: =IFERROR(BE21/(BF21*2.20462262185),0) | BH21: 4277816 | BI21: 3945678 | BJ21: =IFERROR(BH21/(BI21*2.20462262185),0) | BK21: 1044083 | BL21: 1077398 | BM21: =IFERROR(BK21/(BL21*2.20462262185),0) | BN21: 2466427 | BO21: 2272753 | BP21: =IFERROR(BN21/(BO21*2.20462262185),0) | BQ21: 842910 | BR21: 748634 | BS21: =IFERROR(BQ21/(BR21*2.20462262185),0) | BT21: 479301 | BU21: 477244 | BV21: =IFERROR(BT21/(BU21*2.20462262185),0) | BW21: 1141762 | BX21: 878586 | BY21: =IFERROR(BW21/(BX21*2.20462262185),0) | BZ21: 558157 | CA21: 448066 | CB21: =IFERROR(BZ21/(CA21*2.20462262185),0) | CC21: 935281 | CD21: 770000 | CE21: =IFERROR(CC21/(CD21*2.20462262185),0) | CF21: 783380 | CG21: 724913 | CH21: =IFERROR(CF21/(CG21*2.20462262185),0) | CI21: 507567 | CJ21: 506872 | CK21: =IFERROR(CI21/(CJ21*2.20462262185),0) | CL21: 802034 | CM21: 720655 | CN21: =IFERROR(CL21/(CM21*2.20462262185),0) | CO21: 836120 | CP21: 820772 | CQ21: =IFERROR(CO21/(CP21*2.20462262185),0) | CR21: 319773 | CS21: 409974 | CT21: =IFERROR(CR21/(CS21*2.20462262185),0) | CU21: 764455 | CV21: 1161860 | CW21: =IFERROR(CU21/(CV21*2.20462262185),0) | CX21: 716443 | CY21: 973155 | CZ21: =IFERROR(CX21/(CY21*2.20462262185),0) | DA21: 2010692 | DB21: 2258742 | DC21: =IFERROR(DA21/(DB21*2.20462262185),0) | DD21: 1588402 | DE21: 1762978 | DF21: =IFERROR(DD21/(DE21*2.20462262185),0) | DG21: 1236129 | DH21: 1221853 | DI21: =IFERROR(DG21/(DH21*2.20462262185),0) | DJ21: 557817 | DK21: 487462 | DL21: =IFERROR(DJ21/(DK21*2.20462262185),0) | DM21: 575225 | DN21: 475000 | DO21: =IFERROR(DM21/(DN21*2.20462262185),0) | DP21: 305857 | DQ21: 241000 | DR21: =IFERROR(DP21/(DQ21*2.20462262185),0) | DS21: 315617 | DT21: 236590 | DU21: =IFERROR(DS21/(DT21*2.20462262185),0) | DV21: 0 | DW21: 0 | DX21: =IFERROR(DV21/(DW21*2.20462262185),0) | DY21: 141570 | DZ21: 110000 | EA21: =IFERROR(DY21/(DZ21*2.20462262185),0) | EB21: 348260 | EC21: 286000 | ED21: =IFERROR(EB21/(EC21*2.20462262185),0) | EK21: 0 | EL21: 0 | EM21: =IFERROR(EK21/(EL21*2.20462262185),0) | EN21: 0 | EO21: 0 | EP21: =IFERROR(EN21/(EO21*2.20462262185),0) | EQ21: 34854 | ER21: 6000 | ES21: =IFERROR(EQ21/(ER21*2.20462262185),0) | ET21: 90250 | EU21: 19290 | EV21: =IFERROR(ET21/(EU21*2.20462262185),0) | EW21: 0 | EX21: 0 | EY21: =IFERROR(EW21/(EX21*2.20462262185),0) | EZ21: 188709 | FA21: 111005 | FB21: =IFERROR(EZ21/(FA21*2.20462262185),0) | FC21: 0 | FD21: 0 | FE21: =IFERROR(FC21/(FD21*2.20462262185),0) | FF21: 162800 | FG21: 88000 | FH21: =IFERROR(FF21/(FG21*2.20462262185),0) | FI21: 86165 | FJ21: 19290 | FK21: =IFERROR(FI21/(FJ21*2.20462262185),0)
A22: Philippines | B22: =SUM(I22,L22,O22,R22,U22,X22,AA22,AD22) | C22: =SUM(J22,M22,P22,S22,V22,Y22,AB22,AE22) | D22: =C22/1000000 | E22: =C22*2.20462262185/1000000 | F22: =IFERROR(B22/(C22/1000),0) | G22: =IFERROR(B22/(C22*2.20462262185),0) | I22: 557148 | J22: 626048 | K22: =IFERROR(I22/(J22*2.20462262185),0) | L22: 1030999 | M22: 1255175 | N22: =IFERROR(L22/(M22*2.20462262185),0) | O22: 205340 | P22: 438861 | Q22: =IFERROR(O22/(P22*2.20462262185),0) | R22: 188667 | S22: 249140 | T22: =IFERROR(R22/(S22*2.20462262185),0) | U22: 119022 | V22: 240939 | W22: =IFERROR(U22/(V22*2.20462262185),0) | X22: 142424 | Y22: 152000 | Z22: =IFERROR(X22/(Y22*2.20462262185),0) | AA22: 45478 | AB22: 110070 | AC22: =IFERROR(AA22/(AB22*2.20462262185),0) | AG22: 110352 | AH22: 121300 | AI22: =IFERROR(AG22/(AH22*2.20462262185),0) | AJ22: 277614 | AK22: 301850 | AL22: =IFERROR(AJ22/(AK22*2.20462262185),0) | AM22: 443530 | AN22: 480997 | AO22: =IFERROR(AM22/(AN22*2.20462262185),0) | AP22: 589700 | AQ22: 721682 | AR22: =IFERROR(AP22/(AQ22*2.20462262185),0) | AS22: 267971 | AT22: 284287 | AU22: =IFERROR(AS22/(AT22*2.20462262185),0) | AV22: 605861 | AW22: 590110 | AX22: =IFERROR(AV22/(AW22*2.20462262185),0) | AY22: 217784 | AZ22: 340611 | BA22: =IFERROR(AY22/(AZ22*2.20462262185),0) | BB22: 672118 | BC22: 721619 | BD22: =IFERROR(BB22/(BC22*2.20462262185),0) | BE22: 436376 | BF22: 475230 | BG22: =IFERROR(BE22/(BF22*2.20462262185),0) | BH22: 697745 | BI22: 715345 | BJ22: =IFERROR(BH22/(BI22*2.20462262185),0) | BK22: 696618 | BL22: 735945 | BM22: =IFERROR(BK22/(BL22*2.20462262185),0) | BN22: 740192 | BO22: 933460 | BP22: =IFERROR(BN22/(BO22*2.20462262185),0) | BQ22: 600064 | BR22: 609405 | BS22: =IFERROR(BQ22/(BR22*2.20462262185),0) | BT22: 555102 | BU22: 664375 | BV22: =IFERROR(BT22/(BU22*2.20462262185),0) | BW22: 340797 | BX22: 468690 | BY22: =IFERROR(BW22/(BX22*2.20462262185),0) | BZ22: 266856 | CA22: 302070 | CB22: =IFERROR(BZ22/(CA22*2.20462262185),0) | CC22: 327216 | CD22: 382450 | CE22: =IFERROR(CC22/(CD22*2.20462262185),0) | CF22: 365869 | CG22: 535240 | CH22: =IFERROR(CF22/(CG22*2.20462262185),0) | CI22: 488756 | CJ22: 523070 | CK22: =IFERROR(CI22/(CJ22*2.20462262185),0) | CL22: 105476 | CM22: 170770 | CN22: =IFERROR(CL22/(CM22*2.20462262185),0) | CO22: 116249 | CP22: 235410 | CQ22: =IFERROR(CO22/(CP22*2.20462262185),0) | CR22: 198550 | CS22: 190000 | CT22: =IFERROR(CR22/(CS22*2.20462262185),0) | CU22: 410850 | CV22: 590000 | CW22: =IFERROR(CU22/(CV22*2.20462262185),0) | CX22: 662770 | CY22: 1022580 | CZ22: =IFERROR(CX22/(CY22*2.20462262185),0) | DA22: 702103 | DB22: 954856 | DC22: =IFERROR(DA22/(DB22*2.20462262185),0) | DD22: 248099 | DE22: 329850 | DF22: =IFERROR(DD22/(DE22*2.20462262185),0) | DG22: 416471 | DH22: 632065 | DI22: =IFERROR(DG22/(DH22*2.20462262185),0) | DJ22: 53000 | DK22: 100000 | DL22: =IFERROR(DJ22/(DK22*2.20462262185),0) | DM22: 0 | DN22: 0 | DO22: =IFERROR(DM22/(DN22*2.20462262185),0) | DP22: 215793 | DQ22: 407157 | DR22: =IFERROR(DP22/(DQ22*2.20462262185),0) | DS22: 0 | DT22: 0 | DU22: =IFERROR(DS22/(DT22*2.20462262185),0) | DV22: 167580 | DW22: 171000 | DX22: =IFERROR(DV22/(DW22*2.20462262185),0) | DY22: 204820 | DZ22: 209000 | EA22: =IFERROR(DY22/(DZ22*2.20462262185),0) | EB22: 0 | EC22: 0 | ED22: =IFERROR(EB22/(EC22*2.20462262185),0) | EE22: 269040 | EF22: 228000 | EG22: =IFERROR(EE22/(EF22*2.20462262185),0) | EK22: 128820 | EL22: 114000 | EM22: =IFERROR(EK22/(EL22*2.20462262185),0) | EN22: 447511 | EO22: 399000 | EP22: =IFERROR(EN22/(EO22*2.20462262185),0) | EQ22: 300580 | ER22: 266000 | ES22: =IFERROR(EQ22/(ER22*2.20462262185),0) | ET22: 300580 | EU22: 266000 | EV22: =IFERROR(ET22/(EU22*2.20462262185),0) | EW22: 322050 | EX22: 285000 | EY22: =IFERROR(EW22/(EX22*2.20462262185),0) | EZ22: 150290 | FA22: 133000 | FB22: =IFERROR(EZ22/(FA22*2.20462262185),0) | FC22: 64410 | FD22: 57000 | FE22: =IFERROR(FC22/(FD22*2.20462262185),0) | FF22: 214700 | FG22: 190000 | FH22: =IFERROR(FF22/(FG22*2.20462262185),0) | FI22: 288610 | FJ22: 266000 | FK22: =IFERROR(FI22/(FJ22*2.20462262185),0) | FL22: 664620 | FM22: 628275 | FN22: =IFERROR(FL22/(FM22*2.20462262185),0) | FO22: 80560 | FP22: 76000 | FQ22: =IFERROR(FO22/(FP22*2.20462262185),0) | FR22: 483360 | FS22: 456000 | FT22: =IFERROR(FR22/(FS22*2.20462262185),0)
A23: Turkey | B23: =SUM(I23,L23,O23,R23,U23,X23,AA23,AD23) | C23: =SUM(J23,M23,P23,S23,V23,Y23,AB23,AE23) | D23: =C23/1000000 | E23: =C23*2.20462262185/1000000 | F23: =IFERROR(B23/(C23/1000),0) | G23: =IFERROR(B23/(C23*2.20462262185),0) | I23: 395926 | J23: 356000 | K23: =IFERROR(I23/(J23*2.20462262185),0) | L23: 0 | M23: 0 | N23: =IFERROR(L23/(M23*2.20462262185),0) | O23: 0 | P23: 0 | Q23: =IFERROR(O23/(P23*2.20462262185),0) | R23: 0 | S23: 0 | T23: =IFERROR(R23/(S23*2.20462262185),0) | U23: 166588 | V23: 198000 | W23: =IFERROR(U23/(V23*2.20462262185),0) | X23: 1329306 | Y23: 1586626 | Z23: =IFERROR(X23/(Y23*2.20462262185),0) | AA23: 580855 | AB23: 674965 | AC23: =IFERROR(AA23/(AB23*2.20462262185),0) | AD23: 112600 | AE23: 73836 | AF23: =IFERROR(AD23/(AE23*2.20462262185),0) | AG23: 727700 | AH23: 840257 | AI23: =IFERROR(AG23/(AH23*2.20462262185),0) | AJ23: 784921 | AK23: 863000 | AL23: =IFERROR(AJ23/(AK23*2.20462262185),0) | AM23: 576966 | AN23: 477784 | AO23: =IFERROR(AM23/(AN23*2.20462262185),0) | AP23: 407694 | AQ23: 406076 | AR23: =IFERROR(AP23/(AQ23*2.20462262185),0) | AS23: 1010074 | AT23: 982629 | AU23: =IFERROR(AS23/(AT23*2.20462262185),0) | AV23: 285038 | AW23: 330000 | AX23: =IFERROR(AV23/(AW23*2.20462262185),0) | AY23: 113340 | AZ23: 72330 | BA23: =IFERROR(AY23/(AZ23*2.20462262185),0) | BB23: 451001 | BC23: 439127 | BD23: =IFERROR(BB23/(BC23*2.20462262185),0) | BE23: 447841 | BF23: 484000 | BG23: =IFERROR(BE23/(BF23*2.20462262185),0) | BH23: 112205 | BI23: 110000 | BJ23: =IFERROR(BH23/(BI23*2.20462262185),0) | BK23: 1996035 | BL23: 1188000 | BM23: =IFERROR(BK23/(BL23*2.20462262185),0) | BN23: 266442 | BO23: 255595 | BP23: =IFERROR(BN23/(BO23*2.20462262185),0) | BQ23: 272211 | BR23: 264000 | BS23: =IFERROR(BQ23/(BR23*2.20462262185),0) | BT23: 4574946 | BU23: 2707000 | BV23: =IFERROR(BT23/(BU23*2.20462262185),0) | BW23: 6058789 | BX23: 3516400 | BY23: =IFERROR(BW23/(BX23*2.20462262185),0) | BZ23: 5102803 | CA23: 2970000 | CB23: =IFERROR(BZ23/(CA23*2.20462262185),0) | CC23: 297373 | CD23: 243150 | CE23: =IFERROR(CC23/(CD23*2.20462262185),0) | CF23: 72430 | CG23: 59400 | CH23: =IFERROR(CF23/(CG23*2.20462262185),0) | CI23: 1284519 | CJ23: 724450 | CK23: =IFERROR(CI23/(CJ23*2.20462262185),0) | CL23: 226311 | CM23: 131000 | CN23: =IFERROR(CL23/(CM23*2.20462262185),0) | CO23: 2046059 | CP23: 1122000 | CQ23: =IFERROR(CO23/(CP23*2.20462262185),0) | CR23: 3334830 | CS23: 2445374 | CT23: =IFERROR(CR23/(CS23*2.20462262185),0) | CU23: 255399 | CV23: 231000 | CW23: =IFERROR(CU23/(CV23*2.20462262185),0) | CX23: 1678250 | CY23: 828260 | CZ23: =IFERROR(CX23/(CY23*2.20462262185),0) | DA23: 2092374 | DB23: 1046200 | DC23: =IFERROR(DA23/(DB23*2.20462262185),0) | DD23: 242000 | DE23: 220000 | DF23: =IFERROR(DD23/(DE23*2.20462262185),0) | DG23: 451846 | DH23: 285041 | DI23: =IFERROR(DG23/(DH23*2.20462262185),0) | DJ23: 83574 | DK23: 98595 | DL23: =IFERROR(DJ23/(DK23*2.20462262185),0) | DM23: 533174 | DN23: 264000 | DO23: =IFERROR(DM23/(DN23*2.20462262185),0) | DP23: 1551243 | DQ23: 770000 | DR23: =IFERROR(DP23/(DQ23*2.20462262185),0) | DS23: 0 | DT23: 0 | DU23: =IFERROR(DS23/(DT23*2.20462262185),0) | DV23: 0 | DW23: 0 | DX23: =IFERROR(DV23/(DW23*2.20462262185),0) | DY23: 0 | DZ23: 0 | EA23: =IFERROR(DY23/(DZ23*2.20462262185),0) | EB23: 642789 | EC23: 396000 | ED23: =IFERROR(EB23/(EC23*2.20462262185),0) | EE23: 2193856 | EF23: 1320000 | EG23: =IFERROR(EE23/(EF23*2.20462262185),0) | EH23: 299587 | EI23: 203031 | EJ23: =IFERROR(EH23/(EI23*2.20462262185),0) | EK23: 737963 | EL23: 516274 | EM23: =IFERROR(EK23/(EL23*2.20462262185),0) | EN23: 914041 | EO23: 682000 | EP23: =IFERROR(EN23/(EO23*2.20462262185),0) | EQ23: 582131 | ER23: 462000 | ES23: =IFERROR(EQ23/(ER23*2.20462262185),0) | ET23: 0 | EU23: 0 | EV23: =IFERROR(ET23/(EU23*2.20462262185),0) | EW23: 834630 | EX23: 660000 | EY23: =IFERROR(EW23/(EX23*2.20462262185),0) | EZ23: 0 | FA23: 0 | FB23: =IFERROR(EZ23/(FA23*2.20462262185),0) | FC23: 857819 | FD23: 638000 | FE23: =IFERROR(FC23/(FD23*2.20462262185),0) | FF23: 1287126 | FG23: 1045410 | FH23: =IFERROR(FF23/(FG23*2.20462262185),0) | FI23: 2607786 | FJ23: 1639972 | FK23: =IFERROR(FI23/(FJ23*2.20462262185),0) | FL23: 0 | FM23: 0 | FN23: =IFERROR(FL23/(FM23*2.20462262185),0) | FO23: 451192 | FP23: 189420 | FQ23: =IFERROR(FO23/(FP23*2.20462262185),0) | FR23: 191586 | FS23: 99600 | FT23: =IFERROR(FR23/(FS23*2.20462262185),0)
A24: Morocco | B24: =SUM(I24,L24,O24,R24,U24,X24,AA24,AD24) | C24: =SUM(J24,M24,P24,S24,V24,Y24,AB24,AE24) | D24: =C24/1000000 | E24: =C24*2.20462262185/1000000 | F24: =IFERROR(B24/(C24/1000),0) | G24: =IFERROR(B24/(C24*2.20462262185),0) | I24: 0 | J24: 0 | K24: =IFERROR(I24/(J24*2.20462262185),0) | L24: 571720 | M24: 396000 | N24: =IFERROR(L24/(M24*2.20462262185),0) | O24: 60430 | P24: 44000 | Q24: =IFERROR(O24/(P24*2.20462262185),0) | R24: 883700 | S24: 660000 | T24: =IFERROR(R24/(S24*2.20462262185),0) | U24: 288950 | V24: 220000 | W24: =IFERROR(U24/(V24*2.20462262185),0) | X24: 1252450 | Y24: 1012000 | Z24: =IFERROR(X24/(Y24*2.20462262185),0) | AG24: 0 | AH24: 0 | AI24: =IFERROR(AG24/(AH24*2.20462262185),0) | AJ24: 422400 | AK24: 352990 | AL24: =IFERROR(AJ24/(AK24*2.20462262185),0) | AM24: 924000 | AN24: 770000 | AO24: =IFERROR(AM24/(AN24*2.20462262185),0) | AP24: 396000 | AQ24: 330000 | AR24: =IFERROR(AP24/(AQ24*2.20462262185),0) | AS24: 0 | AT24: 0 | AU24: =IFERROR(AS24/(AT24*2.20462262185),0) | AV24: 0 | AW24: 0 | AX24: =IFERROR(AV24/(AW24*2.20462262185),0) | AY24: 440440 | AZ24: 308000 | BA24: =IFERROR(AY24/(AZ24*2.20462262185),0) | BB24: 0 | BC24: 0 | BD24: =IFERROR(BB24/(BC24*2.20462262185),0) | BE24: 0 | BF24: 0 | BG24: =IFERROR(BE24/(BF24*2.20462262185),0) | BH24: 0 | BI24: 0 | BJ24: =IFERROR(BH24/(BI24*2.20462262185),0) | BK24: 504900 | BL24: 330000 | BM24: =IFERROR(BK24/(BL24*2.20462262185),0) | BQ24: 0 | BR24: 0 | BS24: =IFERROR(BQ24/(BR24*2.20462262185),0) | BT24: 0 | BU24: 0 | BV24: =IFERROR(BT24/(BU24*2.20462262185),0) | BW24: 34298 | BX24: 22000 | BY24: =IFERROR(BW24/(BX24*2.20462262185),0) | BZ24: 0 | CA24: 0 | CB24: =IFERROR(BZ24/(CA24*2.20462262185),0) | CC24: 626340 | CD24: 440000 | CE24: =IFERROR(CC24/(CD24*2.20462262185),0) | CF24: 492096 | CG24: 352000 | CH24: =IFERROR(CF24/(CG24*2.20462262185),0) | CI24: 955768 | CJ24: 704000 | CK24: =IFERROR(CI24/(CJ24*2.20462262185),0) | CL24: 1882690 | CM24: 1408000 | CN24: =IFERROR(CL24/(CM24*2.20462262185),0) | CO24: 1430295 | CP24: 1100000 | CQ24: =IFERROR(CO24/(CP24*2.20462262185),0) | CR24: 282920 | CS24: 220000 | CT24: =IFERROR(CR24/(CS24*2.20462262185),0) | CU24: 1555312 | CV24: 1254000 | CW24: =IFERROR(CU24/(CV24*2.20462262185),0) | DA24: 617320 | DB24: 506000 | DC24: =IFERROR(DA24/(DB24*2.20462262185),0) | DD24: 0 | DE24: 0 | DF24: =IFERROR(DD24/(DE24*2.20462262185),0) | DG24: 1851960 | DH24: 1518000 | DI24: =IFERROR(DG24/(DH24*2.20462262185),0) | DJ24: 0 | DK24: 0 | DL24: =IFERROR(DJ24/(DK24*2.20462262185),0) | DM24: 912560 | DN24: 748000 | DO24: =IFERROR(DM24/(DN24*2.20462262185),0) | DP24: 322080 | DQ24: 264000 | DR24: =IFERROR(DP24/(DQ24*2.20462262185),0) | DS24: 0 | DT24: 0 | DU24: =IFERROR(DS24/(DT24*2.20462262185),0) | DV24: 669185 | DW24: 506000 | DX24: =IFERROR(DV24/(DW24*2.20462262185),0)
A25: Tanzania | B25: =SUM(I25,L25,O25,R25,U25,X25,AA25,AD25) | C25: =SUM(J25,M25,P25,S25,V25,Y25,AB25,AE25) | D25: =C25/1000000 | E25: =C25*2.20462262185/1000000 | F25: =IFERROR(B25/(C25/1000),0) | G25: =IFERROR(B25/(C25*2.20462262185),0) | I25: 191881 | J25: 382873 | K25: =IFERROR(I25/(J25*2.20462262185),0) | L25: 58611 | M25: 124570 | N25: =IFERROR(L25/(M25*2.20462262185),0) | O25: 158087 | P25: 300190 | Q25: =IFERROR(O25/(P25*2.20462262185),0) | R25: 190685 | S25: 373192 | T25: =IFERROR(R25/(S25*2.20462262185),0) | U25: 230805 | V25: 462308 | W25: =IFERROR(U25/(V25*2.20462262185),0) | X25: 171628 | Y25: 343830 | Z25: =IFERROR(X25/(Y25*2.20462262185),0) | AA25: 61697 | AB25: 121000 | AC25: =IFERROR(AA25/(AB25*2.20462262185),0) | AD25: 49585 | AE25: 93812 | AF25: =IFERROR(AD25/(AE25*2.20462262185),0) | AG25: 234607 | AH25: 411886 | AI25: =IFERROR(AG25/(AH25*2.20462262185),0) | AJ25: 126792 | AK25: 222350 | AL25: =IFERROR(AJ25/(AK25*2.20462262185),0) | AM25: 220027 | AN25: 396310 | AO25: =IFERROR(AM25/(AN25*2.20462262185),0) | AP25: 129796 | AQ25: 218530 | AR25: =IFERROR(AP25/(AQ25*2.20462262185),0) | AS25: 205948 | AT25: 372080 | AU25: =IFERROR(AS25/(AT25*2.20462262185),0) | AV25: 137773 | AW25: 220850 | AX25: =IFERROR(AV25/(AW25*2.20462262185),0) | AY25: 542959 | AZ25: 853974 | BA25: =IFERROR(AY25/(AZ25*2.20462262185),0) | BB25: 309270 | BC25: 511315 | BD25: =IFERROR(BB25/(BC25*2.20462262185),0) | BE25: 324085 | BF25: 538726 | BG25: =IFERROR(BE25/(BF25*2.20462262185),0) | BH25: 260147 | BI25: 414314 | BJ25: =IFERROR(BH25/(BI25*2.20462262185),0) | BK25: 273435 | BL25: 427170 | BM25: =IFERROR(BK25/(BL25*2.20462262185),0) | BN25: 261109 | BO25: 413100 | BP25: =IFERROR(BN25/(BO25*2.20462262185),0) | BQ25: 76315 | BR25: 122600 | BS25: =IFERROR(BQ25/(BR25*2.20462262185),0) | BT25: 181086 | BU25: 268760 | BV25: =IFERROR(BT25/(BU25*2.20462262185),0) | BW25: 205052 | BX25: 335002 | BY25: =IFERROR(BW25/(BX25*2.20462262185),0) | BZ25: 0 | CA25: 0 | CB25: =IFERROR(BZ25/(CA25*2.20462262185),0) | CC25: 0 | CD25: 0 | CE25: =IFERROR(CC25/(CD25*2.20462262185),0) | CF25: 163351 | CG25: 271930 | CH25: =IFERROR(CF25/(CG25*2.20462262185),0) | CI25: 150725 | CJ25: 247500 | CK25: =IFERROR(CI25/(CJ25*2.20462262185),0) | CL25: 13425 | CM25: 24500 | CN25: =IFERROR(CL25/(CM25*2.20462262185),0) | CO25: 183855 | CP25: 336700 | CQ25: =IFERROR(CO25/(CP25*2.20462262185),0) | CR25: 183254 | CS25: 332112 | CT25: =IFERROR(CR25/(CS25*2.20462262185),0) | CU25: 267253 | CV25: 462872 | CW25: =IFERROR(CU25/(CV25*2.20462262185),0) | CX25: 317262 | CY25: 574561 | CZ25: =IFERROR(CX25/(CY25*2.20462262185),0) | DA25: 64184 | DB25: 123800 | DC25: =IFERROR(DA25/(DB25*2.20462262185),0) | DD25: 128368 | DE25: 247600 | DF25: =IFERROR(DD25/(DE25*2.20462262185),0) | DG25: 125818 | DH25: 243850 | DI25: =IFERROR(DG25/(DH25*2.20462262185),0) | DJ25: 132057 | DK25: 260533 | DL25: =IFERROR(DJ25/(DK25*2.20462262185),0)
A26: United Arab Emirates | B26: =SUM(I26,L26,O26,R26,U26,X26,AA26,AD26) | C26: =SUM(J26,M26,P26,S26,V26,Y26,AB26,AE26) | D26: =C26/1000000 | E26: =C26*2.20462262185/1000000 | F26: =IFERROR(B26/(C26/1000),0) | G26: =IFERROR(B26/(C26*2.20462262185),0) | I26: 0 | J26: 0 | K26: =IFERROR(I26/(J26*2.20462262185),0) | L26: 0 | M26: 0 | N26: =IFERROR(L26/(M26*2.20462262185),0) | O26: 0 | P26: 0 | Q26: =IFERROR(O26/(P26*2.20462262185),0) | R26: 0 | S26: 0 | T26: =IFERROR(R26/(S26*2.20462262185),0) | U26: 0 | V26: 0 | W26: =IFERROR(U26/(V26*2.20462262185),0) | X26: 0 | Y26: 0 | Z26: =IFERROR(X26/(Y26*2.20462262185),0) | AA26: 231000 | AB26: 220000 | AC26: =IFERROR(AA26/(AB26*2.20462262185),0) | AD26: 231000 | AE26: 220000 | AF26: =IFERROR(AD26/(AE26*2.20462262185),0) | AG26: 231000 | AH26: 220000 | AI26: =IFERROR(AG26/(AH26*2.20462262185),0) | AJ26: 0 | AK26: 0 | AL26: =IFERROR(AJ26/(AK26*2.20462262185),0) | AM26: 0 | AN26: 0 | AO26: =IFERROR(AM26/(AN26*2.20462262185),0) | AP26: 23120 | AQ26: 34000 | AR26: =IFERROR(AP26/(AQ26*2.20462262185),0)
A27: Netherlands | B27: =SUM(I27,L27,O27,R27,U27,X27,AA27,AD27) | C27: =SUM(J27,M27,P27,S27,V27,Y27,AB27,AE27) | D27: =C27/1000000 | E27: =C27*2.20462262185/1000000 | F27: =IFERROR(B27/(C27/1000),0) | G27: =IFERROR(B27/(C27*2.20462262185),0) | I27: 83716 | J27: 19900 | K27: =IFERROR(I27/(J27*2.20462262185),0) | L27: 655505 | M27: 152678 | N27: =IFERROR(L27/(M27*2.20462262185),0) | O27: 323331 | P27: 75120 | Q27: =IFERROR(O27/(P27*2.20462262185),0) | R27: 410890 | S27: 93401 | T27: =IFERROR(R27/(S27*2.20462262185),0) | U27: 71375 | V27: 19860 | W27: =IFERROR(U27/(V27*2.20462262185),0) | X27: 0 | Y27: 0 | Z27: =IFERROR(X27/(Y27*2.20462262185),0) | AA27: 354 | AB27: 166 | AC27: =IFERROR(AA27/(AB27*2.20462262185),0) | AD27: 239085 | AE27: 56338 | AF27: =IFERROR(AD27/(AE27*2.20462262185),0) | AG27: 366629 | AH27: 90303 | AI27: =IFERROR(AG27/(AH27*2.20462262185),0) | AJ27: 195073 | AK27: 56900 | AL27: =IFERROR(AJ27/(AK27*2.20462262185),0) | AM27: 343908 | AN27: 94100 | AO27: =IFERROR(AM27/(AN27*2.20462262185),0) | AP27: 221763 | AQ27: 55800 | AR27: =IFERROR(AP27/(AQ27*2.20462262185),0) | AS27: 202894 | AT27: 55800 | AU27: =IFERROR(AS27/(AT27*2.20462262185),0) | AV27: 336617 | AW27: 93600 | AX27: =IFERROR(AV27/(AW27*2.20462262185),0) | AY27: 656077 | AZ27: 182929 | BA27: =IFERROR(AY27/(AZ27*2.20462262185),0) | BB27: 134887 | BC27: 36600 | BD27: =IFERROR(BB27/(BC27*2.20462262185),0) | BE27: 261221 | BF27: 75836 | BG27: =IFERROR(BE27/(BF27*2.20462262185),0) | BH27: 66781 | BI27: 18600 | BJ27: =IFERROR(BH27/(BI27*2.20462262185),0) | BK27: 456824 | BL27: 115582 | BM27: =IFERROR(BK27/(BL27*2.20462262185),0) | BN27: 114720 | BO27: 22825 | BP27: =IFERROR(BN27/(BO27*2.20462262185),0) | BQ27: 225209 | BR27: 57550 | BS27: =IFERROR(BQ27/(BR27*2.20462262185),0) | BT27: 397523 | BU27: 101745 | BV27: =IFERROR(BT27/(BU27*2.20462262185),0) | BW27: 617467 | BX27: 122646 | BY27: =IFERROR(BW27/(BX27*2.20462262185),0) | BZ27: 239023 | CA27: 51196 | CB27: =IFERROR(BZ27/(CA27*2.20462262185),0) | CC27: 10925 | CD27: 2225 | CE27: =IFERROR(CC27/(CD27*2.20462262185),0) | CF27: 164528 | CG27: 32500 | CH27: =IFERROR(CF27/(CG27*2.20462262185),0) | CI27: 17969 | CJ27: 5025 | CK27: =IFERROR(CI27/(CJ27*2.20462262185),0) | CL27: 255148 | CM27: 67113 | CN27: =IFERROR(CL27/(CM27*2.20462262185),0) | CO27: 45060 | CP27: 11175 | CQ27: =IFERROR(CO27/(CP27*2.20462262185),0) | CR27: 25163 | CS27: 6200 | CT27: =IFERROR(CR27/(CS27*2.20462262185),0) | CU27: 22361 | CV27: 5725 | CW27: =IFERROR(CU27/(CV27*2.20462262185),0) | DA27: 132886 | DB27: 22122 | DC27: =IFERROR(DA27/(DB27*2.20462262185),0) | DD27: 2673 | DE27: 1100 | DF27: =IFERROR(DD27/(DE27*2.20462262185),0) | DG27: 24901 | DH27: 5025 | DI27: =IFERROR(DG27/(DH27*2.20462262185),0) | DJ27: 153735 | DK27: 28190 | DL27: =IFERROR(DJ27/(DK27*2.20462262185),0) | DM27: 0 | DN27: 0 | DO27: =IFERROR(DM27/(DN27*2.20462262185),0) | DP27: 6175 | DQ27: 2500 | DR27: =IFERROR(DP27/(DQ27*2.20462262185),0) | DS27: 23764 | DT27: 8075 | DU27: =IFERROR(DS27/(DT27*2.20462262185),0) | DV27: 1381 | DW27: 500 | DX27: =IFERROR(DV27/(DW27*2.20462262185),0) | DY27: 71544 | DZ27: 19647 | EA27: =IFERROR(DY27/(DZ27*2.20462262185),0) | EB27: 16381 | EC27: 3431 | ED27: =IFERROR(EB27/(EC27*2.20462262185),0) | EE27: 193981 | EF27: 45891 | EG27: =IFERROR(EE27/(EF27*2.20462262185),0) | EH27: 211993 | EI27: 52452 | EJ27: =IFERROR(EH27/(EI27*2.20462262185),0) | EK27: 591492 | EL27: 139031 | EM27: =IFERROR(EK27/(EL27*2.20462262185),0) | EN27: 690060 | EO27: 160434 | EP27: =IFERROR(EN27/(EO27*2.20462262185),0) | EQ27: 818261 | ER27: 178757 | ES27: =IFERROR(EQ27/(ER27*2.20462262185),0) | ET27: 451088 | EU27: 102047 | EV27: =IFERROR(ET27/(EU27*2.20462262185),0) | EW27: 385764 | EX27: 95399 | EY27: =IFERROR(EW27/(EX27*2.20462262185),0) | EZ27: 646522 | FA27: 149940 | FB27: =IFERROR(EZ27/(FA27*2.20462262185),0) | FC27: 286819 | FD27: 66050 | FE27: =IFERROR(FC27/(FD27*2.20462262185),0) | FF27: 317936 | FG27: 82591 | FH27: =IFERROR(FF27/(FG27*2.20462262185),0) | FI27: 122326 | FJ27: 33621 | FK27: =IFERROR(FI27/(FJ27*2.20462262185),0) | FL27: 256149 | FM27: 60165 | FN27: =IFERROR(FL27/(FM27*2.20462262185),0) | FO27: 315313 | FP27: 73875 | FQ27: =IFERROR(FO27/(FP27*2.20462262185),0) | FR27: 523894 | FS27: 135851 | FT27: =IFERROR(FR27/(FS27*2.20462262185),0)
A28: Dominican Republic | B28: =SUM(I28,L28,O28,R28,U28,X28,AA28,AD28) | C28: =SUM(J28,M28,P28,S28,V28,Y28,AB28,AE28) | D28: =C28/1000000 | E28: =C28*2.20462262185/1000000 | F28: =IFERROR(B28/(C28/1000),0) | G28: =IFERROR(B28/(C28*2.20462262185),0) | I28: 31794 | J28: 52990 | K28: =IFERROR(I28/(J28*2.20462262185),0) | L28: 0 | M28: 0 | N28: =IFERROR(L28/(M28*2.20462262185),0) | O28: 7759 | P28: 22798 | Q28: =IFERROR(O28/(P28*2.20462262185),0) | R28: 8000 | S28: 23864 | T28: =IFERROR(R28/(S28*2.20462262185),0) | U28: 50552 | V28: 79092 | W28: =IFERROR(U28/(V28*2.20462262185),0) | X28: 15218 | Y28: 45950 | Z28: =IFERROR(X28/(Y28*2.20462262185),0) | AG28: 25767 | AH28: 62628 | AI28: =IFERROR(AG28/(AH28*2.20462262185),0) | AJ28: 0 | AK28: 0 | AL28: =IFERROR(AJ28/(AK28*2.20462262185),0) | AM28: 16841 | AN28: 45511 | AO28: =IFERROR(AM28/(AN28*2.20462262185),0) | AP28: 8497 | AQ28: 22442 | AR28: =IFERROR(AP28/(AQ28*2.20462262185),0) | AS28: 18460 | AT28: 45837 | AU28: =IFERROR(AS28/(AT28*2.20462262185),0) | AV28: 41746 | AW28: 81283 | AX28: =IFERROR(AV28/(AW28*2.20462262185),0) | AY28: 337211 | AZ28: 448331 | BA28: =IFERROR(AY28/(AZ28*2.20462262185),0) | BB28: 18783 | BC28: 43219 | BD28: =IFERROR(BB28/(BC28*2.20462262185),0) | BE28: 47183 | BF28: 82849 | BG28: =IFERROR(BE28/(BF28*2.20462262185),0) | BH28: 49925 | BI28: 61598 | BJ28: =IFERROR(BH28/(BI28*2.20462262185),0) | BK28: 9701 | BL28: 22501 | BM28: =IFERROR(BK28/(BL28*2.20462262185),0) | BQ28: 56265 | BR28: 103455 | BS28: =IFERROR(BQ28/(BR28*2.20462262185),0) | BT28: 0 | BU28: 0 | BV28: =IFERROR(BT28/(BU28*2.20462262185),0) | BW28: 0 | BX28: 0 | BY28: =IFERROR(BW28/(BX28*2.20462262185),0) | BZ28: 19430 | CA28: 45353 | CB28: =IFERROR(BZ28/(CA28*2.20462262185),0) | CC28: 51154 | CD28: 95073 | CE28: =IFERROR(CC28/(CD28*2.20462262185),0) | CF28: 48940 | CG28: 85192 | CH28: =IFERROR(CF28/(CG28*2.20462262185),0) | CI28: 44949 | CJ28: 73334 | CK28: =IFERROR(CI28/(CJ28*2.20462262185),0) | CL28: 122645 | CM28: 219108 | CN28: =IFERROR(CL28/(CM28*2.20462262185),0) | CO28: 169967 | CP28: 219343 | CQ28: =IFERROR(CO28/(CP28*2.20462262185),0) | CR28: 9107 | CS28: 36243 | CT28: =IFERROR(CR28/(CS28*2.20462262185),0) | CU28: 21941 | CV28: 55125 | CW28: =IFERROR(CU28/(CV28*2.20462262185),0) | CX28: 9581 | CY28: 18765 | CZ28: =IFERROR(CX28/(CY28*2.20462262185),0) | DA28: 20236 | DB28: 42775 | DC28: =IFERROR(DA28/(DB28*2.20462262185),0) | DD28: 45735 | DE28: 80071 | DF28: =IFERROR(DD28/(DE28*2.20462262185),0) | DG28: 5273 | DH28: 18000 | DI28: =IFERROR(DG28/(DH28*2.20462262185),0) | EK28: 0 | EL28: 0 | EM28: =IFERROR(EK28/(EL28*2.20462262185),0) | EN28: 91960 | EO28: 43700 | EP28: =IFERROR(EN28/(EO28*2.20462262185),0)
A29: El Salvador | B29: =SUM(I29,L29,O29,R29,U29,X29,AA29,AD29) | C29: =SUM(J29,M29,P29,S29,V29,Y29,AB29,AE29) | D29: =C29/1000000 | E29: =C29*2.20462262185/1000000 | F29: =IFERROR(B29/(C29/1000),0) | G29: =IFERROR(B29/(C29*2.20462262185),0) | I29: 0 | J29: 0 | K29: =IFERROR(I29/(J29*2.20462262185),0) | L29: 0 | M29: 0 | N29: =IFERROR(L29/(M29*2.20462262185),0) | O29: 0 | P29: 0 | Q29: =IFERROR(O29/(P29*2.20462262185),0) | R29: 25022 | S29: 38814 | T29: =IFERROR(R29/(S29*2.20462262185),0) | U29: 33354 | V29: 79832 | W29: =IFERROR(U29/(V29*2.20462262185),0) | X29: 24789 | Y29: 59496 | Z29: =IFERROR(X29/(Y29*2.20462262185),0) | AA29: 5398 | AB29: 19958 | AC29: =IFERROR(AA29/(AB29*2.20462262185),0) | AD29: 11558 | AE29: 19958 | AF29: =IFERROR(AD29/(AE29*2.20462262185),0) | AG29: 0 | AH29: 0 | AI29: =IFERROR(AG29/(AH29*2.20462262185),0) | AJ29: 22634 | AK29: 39788 | AL29: =IFERROR(AJ29/(AK29*2.20462262185),0) | AM29: 31903 | AN29: 59557 | AO29: =IFERROR(AM29/(AN29*2.20462262185),0) | AP29: 11886 | AQ29: 18144 | AR29: =IFERROR(AP29/(AQ29*2.20462262185),0) | AS29: 44651 | AT29: 76581 | AU29: =IFERROR(AS29/(AT29*2.20462262185),0) | AV29: 7716 | AW29: 19147 | AX29: =IFERROR(AV29/(AW29*2.20462262185),0) | AY29: 0 | AZ29: 0 | BA29: =IFERROR(AY29/(AZ29*2.20462262185),0) | BB29: 0 | BC29: 0 | BD29: =IFERROR(BB29/(BC29*2.20462262185),0) | BE29: 0 | BF29: 0 | BG29: =IFERROR(BE29/(BF29*2.20462262185),0) | BH29: 11181 | BI29: 18801 | BJ29: =IFERROR(BH29/(BI29*2.20462262185),0)
A30: Honduras | B30: =SUM(I30,L30,O30,R30,U30,X30,AA30,AD30) | C30: =SUM(J30,M30,P30,S30,V30,Y30,AB30,AE30) | D30: =C30/1000000 | E30: =C30*2.20462262185/1000000 | F30: =IFERROR(B30/(C30/1000),0) | G30: =IFERROR(B30/(C30*2.20462262185),0) | I30: 72680 | J30: 83336 | K30: =IFERROR(I30/(J30*2.20462262185),0) | L30: 0 | M30: 0 | N30: =IFERROR(L30/(M30*2.20462262185),0) | O30: 0 | P30: 0 | Q30: =IFERROR(O30/(P30*2.20462262185),0) | R30: 0 | S30: 0 | T30: =IFERROR(R30/(S30*2.20462262185),0) | U30: 61821 | V30: 58020 | W30: =IFERROR(U30/(V30*2.20462262185),0) | X30: 0 | Y30: 0 | Z30: =IFERROR(X30/(Y30*2.20462262185),0) | AA30: 0 | AB30: 0 | AC30: =IFERROR(AA30/(AB30*2.20462262185),0) | AD30: 48170 | AE30: 58589 | AF30: =IFERROR(AD30/(AE30*2.20462262185),0) | AG30: 76812 | AH30: 77360 | AI30: =IFERROR(AG30/(AH30*2.20462262185),0) | AJ30: 53127 | AK30: 62502 | AL30: =IFERROR(AJ30/(AK30*2.20462262185),0) | AM30: 78015 | AN30: 83821 | AO30: =IFERROR(AM30/(AN30*2.20462262185),0) | AP30: 136654 | AQ30: 160522 | AR30: =IFERROR(AP30/(AQ30*2.20462262185),0) | AS30: 169761 | AT30: 178337 | AU30: =IFERROR(AS30/(AT30*2.20462262185),0) | AV30: 595939 | AW30: 543346 | AX30: =IFERROR(AV30/(AW30*2.20462262185),0) | AY30: 664293 | AZ30: 595840 | BA30: =IFERROR(AY30/(AZ30*2.20462262185),0) | BB30: 611326 | BC30: 517561 | BD30: =IFERROR(BB30/(BC30*2.20462262185),0) | BE30: 219769 | BF30: 228609 | BG30: =IFERROR(BE30/(BF30*2.20462262185),0) | BH30: 218079 | BI30: 212331 | BJ30: =IFERROR(BH30/(BI30*2.20462262185),0) | BK30: 495118 | BL30: 384584 | BM30: =IFERROR(BK30/(BL30*2.20462262185),0) | BN30: 102168 | BO30: 85668 | BP30: =IFERROR(BN30/(BO30*2.20462262185),0) | BQ30: 243054 | BR30: 157479 | BS30: =IFERROR(BQ30/(BR30*2.20462262185),0) | BT30: 0 | BU30: 0 | BV30: =IFERROR(BT30/(BU30*2.20462262185),0) | BW30: 63925 | BX30: 84920 | BY30: =IFERROR(BW30/(BX30*2.20462262185),0) | BZ30: 108218 | CA30: 113426 | CB30: =IFERROR(BZ30/(CA30*2.20462262185),0) | CC30: 75580 | CD30: 64482 | CE30: =IFERROR(CC30/(CD30*2.20462262185),0) | CF30: 45703 | CG30: 60080 | CH30: =IFERROR(CF30/(CG30*2.20462262185),0) | CI30: 62892 | CJ30: 62216 | CK30: =IFERROR(CI30/(CJ30*2.20462262185),0) | CL30: 63750 | CM30: 81551 | CN30: =IFERROR(CL30/(CM30*2.20462262185),0) | CO30: 146170 | CP30: 178878 | CQ30: =IFERROR(CO30/(CP30*2.20462262185),0) | CR30: 210066 | CS30: 248169 | CT30: =IFERROR(CR30/(CS30*2.20462262185),0) | CU30: 591788 | CV30: 663427 | CW30: =IFERROR(CU30/(CV30*2.20462262185),0) | CX30: 30614 | CY30: 39248 | CZ30: =IFERROR(CX30/(CY30*2.20462262185),0) | DA30: 72546 | DB30: 100531 | DC30: =IFERROR(DA30/(DB30*2.20462262185),0) | DD30: 148922 | DE30: 205108 | DF30: =IFERROR(DD30/(DE30*2.20462262185),0) | DG30: 144691 | DH30: 205944 | DI30: =IFERROR(DG30/(DH30*2.20462262185),0) | DJ30: 131411 | DK30: 189732 | DL30: =IFERROR(DJ30/(DK30*2.20462262185),0) | DM30: 99388 | DN30: 125603 | DO30: =IFERROR(DM30/(DN30*2.20462262185),0) | DP30: 140313 | DQ30: 170076 | DR30: =IFERROR(DP30/(DQ30*2.20462262185),0) | DS30: 50965 | DT30: 61776 | DU30: =IFERROR(DS30/(DT30*2.20462262185),0) | DV30: 97570 | DW30: 113458 | DX30: =IFERROR(DV30/(DW30*2.20462262185),0) | DY30: 135378 | DZ30: 136429 | EA30: =IFERROR(DY30/(DZ30*2.20462262185),0) | EB30: 35847 | EC30: 44809 | ED30: =IFERROR(EB30/(EC30*2.20462262185),0) | EE30: 71162 | EF30: 143057 | EG30: =IFERROR(EE30/(EF30*2.20462262185),0) | EH30: 71146 | EI30: 88932 | EJ30: =IFERROR(EH30/(EI30*2.20462262185),0) | EK30: 0 | EL30: 0 | EM30: =IFERROR(EK30/(EL30*2.20462262185),0) | EN30: 0 | EO30: 0 | EP30: =IFERROR(EN30/(EO30*2.20462262185),0) | EQ30: 0 | ER30: 0 | ES30: =IFERROR(EQ30/(ER30*2.20462262185),0) | ET30: 74882 | EU30: 66562 | EV30: =IFERROR(ET30/(EU30*2.20462262185),0) | EW30: 230811 | EX30: 174980 | EY30: =IFERROR(EW30/(EX30*2.20462262185),0) | EZ30: 0 | FA30: 0 | FB30: =IFERROR(EZ30/(FA30*2.20462262185),0) | FC30: 249908 | FD30: 185666 | FE30: =IFERROR(FC30/(FD30*2.20462262185),0) | FF30: 134828 | FG30: 88000 | FH30: =IFERROR(FF30/(FG30*2.20462262185),0) | FI30: 269656 | FJ30: 176000 | FK30: =IFERROR(FI30/(FJ30*2.20462262185),0) | FL30: 65686 | FM30: 44000 | FN30: =IFERROR(FL30/(FM30*2.20462262185),0) | FO30: 58961 | FP30: 42900 | FQ30: =IFERROR(FO30/(FP30*2.20462262185),0) | FR30: 177887 | FS30: 126060 | FT30: =IFERROR(FR30/(FS30*2.20462262185),0)
A31: Trinidad And Tobago | B31: =SUM(I31,L31,O31,R31,U31,X31,AA31,AD31) | C31: =SUM(J31,M31,P31,S31,V31,Y31,AB31,AE31) | D31: =C31/1000000 | E31: =C31*2.20462262185/1000000 | F31: =IFERROR(B31/(C31/1000),0) | G31: =IFERROR(B31/(C31*2.20462262185),0) | I31: 0 | J31: 0 | K31: =IFERROR(I31/(J31*2.20462262185),0) | L31: 7610 | M31: 15380 | N31: =IFERROR(L31/(M31*2.20462262185),0) | O31: 6840 | P31: 15172 | Q31: =IFERROR(O31/(P31*2.20462262185),0) | R31: 3779 | S31: 16458 | T31: =IFERROR(R31/(S31*2.20462262185),0) | U31: 14123 | V31: 33329 | W31: =IFERROR(U31/(V31*2.20462262185),0) | X31: 22250 | Y31: 54897 | Z31: =IFERROR(X31/(Y31*2.20462262185),0) | AA31: 14758 | AB31: 36240 | AC31: =IFERROR(AA31/(AB31*2.20462262185),0) | AD31: 7503 | AE31: 14602 | AF31: =IFERROR(AD31/(AE31*2.20462262185),0) | AG31: 0 | AH31: 0 | AI31: =IFERROR(AG31/(AH31*2.20462262185),0) | AJ31: 0 | AK31: 0 | AL31: =IFERROR(AJ31/(AK31*2.20462262185),0) | AM31: 6333 | AN31: 13800 | AO31: =IFERROR(AM31/(AN31*2.20462262185),0) | AP31: 9885 | AQ31: 21026 | AR31: =IFERROR(AP31/(AQ31*2.20462262185),0) | AS31: 0 | AT31: 0 | AU31: =IFERROR(AS31/(AT31*2.20462262185),0) | AV31: 0 | AW31: 0 | AX31: =IFERROR(AV31/(AW31*2.20462262185),0) | AY31: 19185 | AZ31: 34110 | BA31: =IFERROR(AY31/(AZ31*2.20462262185),0) | BB31: 0 | BC31: 0 | BD31: =IFERROR(BB31/(BC31*2.20462262185),0) | BE31: 12392 | BF31: 28462 | BG31: =IFERROR(BE31/(BF31*2.20462262185),0) | BH31: 0 | BI31: 0 | BJ31: =IFERROR(BH31/(BI31*2.20462262185),0) | BK31: 7053 | BL31: 13822 | BM31: =IFERROR(BK31/(BL31*2.20462262185),0) | BQ31: 0 | BR31: 0 | BS31: =IFERROR(BQ31/(BR31*2.20462262185),0) | BT31: 0 | BU31: 0 | BV31: =IFERROR(BT31/(BU31*2.20462262185),0) | BW31: 0 | BX31: 0 | BY31: =IFERROR(BW31/(BX31*2.20462262185),0) | BZ31: 0 | CA31: 0 | CB31: =IFERROR(BZ31/(CA31*2.20462262185),0) | CC31: 0 | CD31: 0 | CE31: =IFERROR(CC31/(CD31*2.20462262185),0) | CF31: 51024 | CG31: 90090 | CH31: =IFERROR(CF31/(CG31*2.20462262185),0) | CI31: 76951 | CJ31: 143894 | CK31: =IFERROR(CI31/(CJ31*2.20462262185),0) | CL31: 30802 | CM31: 57867 | CN31: =IFERROR(CL31/(CM31*2.20462262185),0) | CO31: 20853 | CP31: 43564 | CQ31: =IFERROR(CO31/(CP31*2.20462262185),0) | CR31: 58941 | CS31: 110797 | CT31: =IFERROR(CR31/(CS31*2.20462262185),0) | CU31: 8506 | CV31: 24771 | CW31: =IFERROR(CU31/(CV31*2.20462262185),0) | CX31: 5482 | CY31: 13515 | CZ31: =IFERROR(CX31/(CY31*2.20462262185),0) | DA31: 10186 | DB31: 19643 | DC31: =IFERROR(DA31/(DB31*2.20462262185),0) | DD31: 0 | DE31: 0 | DF31: =IFERROR(DD31/(DE31*2.20462262185),0) | DG31: 4845 | DH31: 13862 | DI31: =IFERROR(DG31/(DH31*2.20462262185),0)
A32: Spain | B32: =SUM(I32,L32,O32,R32,U32,X32,AA32,AD32) | C32: =SUM(J32,M32,P32,S32,V32,Y32,AB32,AE32) | D32: =C32/1000000 | E32: =C32*2.20462262185/1000000 | F32: =IFERROR(B32/(C32/1000),0) | G32: =IFERROR(B32/(C32*2.20462262185),0) | I32: 0 | J32: 0 | K32: =IFERROR(I32/(J32*2.20462262185),0) | L32: 0 | M32: 0 | N32: =IFERROR(L32/(M32*2.20462262185),0) | O32: 0 | P32: 0 | Q32: =IFERROR(O32/(P32*2.20462262185),0) | R32: 0 | S32: 0 | T32: =IFERROR(R32/(S32*2.20462262185),0) | U32: 112506 | V32: 93500 | W32: =IFERROR(U32/(V32*2.20462262185),0) | X32: 0 | Y32: 0 | Z32: =IFERROR(X32/(Y32*2.20462262185),0) | AA32: 0 | AB32: 0 | AC32: =IFERROR(AA32/(AB32*2.20462262185),0) | AD32: 63831 | AE32: 91187 | AF32: =IFERROR(AD32/(AE32*2.20462262185),0) | AG32: 63655 | AH32: 90935 | AI32: =IFERROR(AG32/(AH32*2.20462262185),0) | AJ32: 0 | AK32: 0 | AL32: =IFERROR(AJ32/(AK32*2.20462262185),0) | AM32: 54874 | AN32: 78392 | AO32: =IFERROR(AM32/(AN32*2.20462262185),0) | AP32: 28170 | AQ32: 33680 | AR32: =IFERROR(AP32/(AQ32*2.20462262185),0) | AS32: 0 | AT32: 0 | AU32: =IFERROR(AS32/(AT32*2.20462262185),0) | AV32: 0 | AW32: 0 | AX32: =IFERROR(AV32/(AW32*2.20462262185),0) | AY32: 0 | AZ32: 0 | BA32: =IFERROR(AY32/(AZ32*2.20462262185),0) | BB32: 220421 | BC32: 301844 | BD32: =IFERROR(BB32/(BC32*2.20462262185),0) | BQ32: 0 | BR32: 0 | BS32: =IFERROR(BQ32/(BR32*2.20462262185),0) | BT32: 0 | BU32: 0 | BV32: =IFERROR(BT32/(BU32*2.20462262185),0) | BW32: 11901 | BX32: 6000 | BY32: =IFERROR(BW32/(BX32*2.20462262185),0) | DA32: 74061 | DB32: 79161 | DC32: =IFERROR(DA32/(DB32*2.20462262185),0) | DD32: 0 | DE32: 0 | DF32: =IFERROR(DD32/(DE32*2.20462262185),0) | DG32: 0 | DH32: 0 | DI32: =IFERROR(DG32/(DH32*2.20462262185),0) | DJ32: 0 | DK32: 0 | DL32: =IFERROR(DJ32/(DK32*2.20462262185),0) | DM32: 0 | DN32: 0 | DO32: =IFERROR(DM32/(DN32*2.20462262185),0) | DP32: 0 | DQ32: 0 | DR32: =IFERROR(DP32/(DQ32*2.20462262185),0) | DS32: 0 | DT32: 0 | DU32: =IFERROR(DS32/(DT32*2.20462262185),0) | DV32: 0 | DW32: 0 | DX32: =IFERROR(DV32/(DW32*2.20462262185),0) | DY32: 0 | DZ32: 0 | EA32: =IFERROR(DY32/(DZ32*2.20462262185),0) | EB32: 0 | EC32: 0 | ED32: =IFERROR(EB32/(EC32*2.20462262185),0) | EE32: 0 | EF32: 0 | EG32: =IFERROR(EE32/(EF32*2.20462262185),0) | EH32: 36271 | EI32: 36271 | EJ32: =IFERROR(EH32/(EI32*2.20462262185),0) | EK32: 96056 | EL32: 70125 | EM32: =IFERROR(EK32/(EL32*2.20462262185),0) | EN32: 0 | EO32: 0 | EP32: =IFERROR(EN32/(EO32*2.20462262185),0) | EQ32: 0 | ER32: 0 | ES32: =IFERROR(EQ32/(ER32*2.20462262185),0) | ET32: 0 | EU32: 0 | EV32: =IFERROR(ET32/(EU32*2.20462262185),0) | EW32: 0 | EX32: 0 | EY32: =IFERROR(EW32/(EX32*2.20462262185),0) | EZ32: 0 | FA32: 0 | FB32: =IFERROR(EZ32/(FA32*2.20462262185),0) | FC32: 34422 | FD32: 20000 | FE32: =IFERROR(FC32/(FD32*2.20462262185),0) | FF32: 0 | FG32: 0 | FH32: =IFERROR(FF32/(FG32*2.20462262185),0) | FI32: 346442 | FJ32: 220000 | FK32: =IFERROR(FI32/(FJ32*2.20462262185),0) | FL32: 0 | FM32: 0 | FN32: =IFERROR(FL32/(FM32*2.20462262185),0) | FO32: 0 | FP32: 0 | FQ32: =IFERROR(FO32/(FP32*2.20462262185),0) | FR32: 1016816 | FS32: 800000 | FT32: =IFERROR(FR32/(FS32*2.20462262185),0)
A33: Portugal | B33: =SUM(I33,L33,O33,R33,U33,X33,AA33,AD33) | C33: =SUM(J33,M33,P33,S33,V33,Y33,AB33,AE33) | D33: =C33/1000000 | E33: =C33*2.20462262185/1000000 | F33: =IFERROR(B33/(C33/1000),0) | G33: =IFERROR(B33/(C33*2.20462262185),0) | I33: 98687 | J33: 48400 | K33: =IFERROR(I33/(J33*2.20462262185),0) | L33: 258474 | M33: 121000 | N33: =IFERROR(L33/(M33*2.20462262185),0) | O33: 0 | P33: 0 | Q33: =IFERROR(O33/(P33*2.20462262185),0) | R33: 0 | S33: 0 | T33: =IFERROR(R33/(S33*2.20462262185),0) | U33: 0 | V33: 0 | W33: =IFERROR(U33/(V33*2.20462262185),0) | X33: 4710 | Y33: 3140 | Z33: =IFERROR(X33/(Y33*2.20462262185),0) | AG33: 3031 | AH33: 2200 | AI33: =IFERROR(AG33/(AH33*2.20462262185),0) | AJ33: 0 | AK33: 0 | AL33: =IFERROR(AJ33/(AK33*2.20462262185),0) | AM33: 0 | AN33: 0 | AO33: =IFERROR(AM33/(AN33*2.20462262185),0) | AP33: 0 | AQ33: 0 | AR33: =IFERROR(AP33/(AQ33*2.20462262185),0) | AS33: 0 | AT33: 0 | AU33: =IFERROR(AS33/(AT33*2.20462262185),0) | AV33: 0 | AW33: 0 | AX33: =IFERROR(AV33/(AW33*2.20462262185),0) | AY33: 4523 | AZ33: 1100 | BA33: =IFERROR(AY33/(AZ33*2.20462262185),0) | BB33: 49047 | BC33: 24200 | BD33: =IFERROR(BB33/(BC33*2.20462262185),0) | BQ33: 43390 | BR33: 24200 | BS33: =IFERROR(BQ33/(BR33*2.20462262185),0) | BT33: 0 | BU33: 0 | BV33: =IFERROR(BT33/(BU33*2.20462262185),0) | BW33: 0 | BX33: 0 | BY33: =IFERROR(BW33/(BX33*2.20462262185),0) | BZ33: 66026 | CA33: 24300 | CB33: =IFERROR(BZ33/(CA33*2.20462262185),0) | CC33: 103658 | CD33: 48400 | CE33: =IFERROR(CC33/(CD33*2.20462262185),0) | CF33: 0 | CG33: 0 | CH33: =IFERROR(CF33/(CG33*2.20462262185),0) | CI33: 0 | CJ33: 0 | CK33: =IFERROR(CI33/(CJ33*2.20462262185),0) | CL33: 51829 | CM33: 24200 | CN33: =IFERROR(CL33/(CM33*2.20462262185),0) | CO33: 61459 | CP33: 24200 | CQ33: =IFERROR(CO33/(CP33*2.20462262185),0) | CR33: 61243 | CS33: 24200 | CT33: =IFERROR(CR33/(CS33*2.20462262185),0) | CU33: 0 | CV33: 0 | CW33: =IFERROR(CU33/(CV33*2.20462262185),0) | CX33: 61004 | CY33: 24200 | CZ33: =IFERROR(CX33/(CY33*2.20462262185),0) | DA33: 60289 | DB33: 24200 | DC33: =IFERROR(DA33/(DB33*2.20462262185),0) | DD33: 0 | DE33: 0 | DF33: =IFERROR(DD33/(DE33*2.20462262185),0) | DG33: 0 | DH33: 0 | DI33: =IFERROR(DG33/(DH33*2.20462262185),0) | DJ33: 104392 | DK33: 49446 | DL33: =IFERROR(DJ33/(DK33*2.20462262185),0) | DM33: 72062 | DN33: 33150 | DO33: =IFERROR(DM33/(DN33*2.20462262185),0) | DP33: 0 | DQ33: 0 | DR33: =IFERROR(DP33/(DQ33*2.20462262185),0) | DS33: 0 | DT33: 0 | DU33: =IFERROR(DS33/(DT33*2.20462262185),0) | DV33: 71334 | DW33: 24200 | DX33: =IFERROR(DV33/(DW33*2.20462262185),0) | EK33: 190371 | EL33: 72600 | EM33: =IFERROR(EK33/(EL33*2.20462262185),0) | EN33: 291557 | EO33: 96800 | EP33: =IFERROR(EN33/(EO33*2.20462262185),0) | EQ33: 585601 | ER33: 169400 | ES33: =IFERROR(EQ33/(ER33*2.20462262185),0) | ET33: 244638 | EU33: 74164 | EV33: =IFERROR(ET33/(EU33*2.20462262185),0) | EW33: 366602 | EX33: 121000 | EY33: =IFERROR(EW33/(EX33*2.20462262185),0) | EZ33: 0 | FA33: 0 | FB33: =IFERROR(EZ33/(FA33*2.20462262185),0) | FC33: 0 | FD33: 0 | FE33: =IFERROR(FC33/(FD33*2.20462262185),0) | FF33: 251517 | FG33: 98364 | FH33: =IFERROR(FF33/(FG33*2.20462262185),0) | FI33: 66550 | FJ33: 24718 | FK33: =IFERROR(FI33/(FJ33*2.20462262185),0) | FL33: 219262 | FM33: 74154 | FN33: =IFERROR(FL33/(FM33*2.20462262185),0) | FO33: 134442 | FP33: 49446 | FQ33: =IFERROR(FO33/(FP33*2.20462262185),0) | FR33: 66592 | FS33: 24718 | FT33: =IFERROR(FR33/(FS33*2.20462262185),0)
A34: Ghana | B34: =SUM(I34,L34,O34,R34,U34,X34,AA34,AD34) | C34: =SUM(J34,M34,P34,S34,V34,Y34,AB34,AE34) | D34: =C34/1000000 | E34: =C34*2.20462262185/1000000 | F34: =IFERROR(B34/(C34/1000),0) | G34: =IFERROR(B34/(C34*2.20462262185),0) | I34: 23012 | J34: 47050 | K34: =IFERROR(I34/(J34*2.20462262185),0) | L34: 49470 | M34: 94730 | N34: =IFERROR(L34/(M34*2.20462262185),0) | AG34: 0 | AH34: 0 | AI34: =IFERROR(AG34/(AH34*2.20462262185),0) | AJ34: 68994 | AK34: 111843 | AL34: =IFERROR(AJ34/(AK34*2.20462262185),0) | AM34: 0 | AN34: 0 | AO34: =IFERROR(AM34/(AN34*2.20462262185),0) | AP34: 0 | AQ34: 0 | AR34: =IFERROR(AP34/(AQ34*2.20462262185),0) | AS34: 78784 | AT34: 165110 | AU34: =IFERROR(AS34/(AT34*2.20462262185),0) | AV34: 0 | AW34: 0 | AX34: =IFERROR(AV34/(AW34*2.20462262185),0) | AY34: 67947 | AZ34: 115720 | BA34: =IFERROR(AY34/(AZ34*2.20462262185),0) | BB34: 0 | BC34: 0 | BD34: =IFERROR(BB34/(BC34*2.20462262185),0) | BE34: 0 | BF34: 0 | BG34: =IFERROR(BE34/(BF34*2.20462262185),0) | BH34: 0 | BI34: 0 | BJ34: =IFERROR(BH34/(BI34*2.20462262185),0) | BK34: 0 | BL34: 0 | BM34: =IFERROR(BK34/(BL34*2.20462262185),0) | BN34: 155454 | BO34: 244560 | BP34: =IFERROR(BN34/(BO34*2.20462262185),0) | BQ34: 0 | BR34: 0 | BS34: =IFERROR(BQ34/(BR34*2.20462262185),0) | BT34: 97541 | BU34: 167960 | BV34: =IFERROR(BT34/(BU34*2.20462262185),0) | BW34: 81421 | BX34: 123950 | BY34: =IFERROR(BW34/(BX34*2.20462262185),0) | BZ34: 63482 | CA34: 98310 | CB34: =IFERROR(BZ34/(CA34*2.20462262185),0) | CC34: 0 | CD34: 0 | CE34: =IFERROR(CC34/(CD34*2.20462262185),0) | CF34: 0 | CG34: 0 | CH34: =IFERROR(CF34/(CG34*2.20462262185),0) | CI34: 0 | CJ34: 0 | CK34: =IFERROR(CI34/(CJ34*2.20462262185),0) | CL34: 0 | CM34: 0 | CN34: =IFERROR(CL34/(CM34*2.20462262185),0) | CO34: 0 | CP34: 0 | CQ34: =IFERROR(CO34/(CP34*2.20462262185),0) | CR34: 20090 | CS34: 44120 | CT34: =IFERROR(CR34/(CS34*2.20462262185),0) | CU34: 20023 | CV34: 36530 | CW34: =IFERROR(CU34/(CV34*2.20462262185),0)
A35: Guatemala | B35: =SUM(I35,L35,O35,R35,U35,X35,AA35,AD35) | C35: =SUM(J35,M35,P35,S35,V35,Y35,AB35,AE35) | D35: =C35/1000000 | E35: =C35*2.20462262185/1000000 | F35: =IFERROR(B35/(C35/1000),0) | G35: =IFERROR(B35/(C35*2.20462262185),0) | I35: 0 | J35: 0 | K35: =IFERROR(I35/(J35*2.20462262185),0) | L35: 0 | M35: 0 | N35: =IFERROR(L35/(M35*2.20462262185),0) | O35: 0 | P35: 0 | Q35: =IFERROR(O35/(P35*2.20462262185),0) | R35: 0 | S35: 0 | T35: =IFERROR(R35/(S35*2.20462262185),0) | U35: 0 | V35: 0 | W35: =IFERROR(U35/(V35*2.20462262185),0) | X35: 0 | Y35: 0 | Z35: =IFERROR(X35/(Y35*2.20462262185),0) | AA35: 0 | AB35: 0 | AC35: =IFERROR(AA35/(AB35*2.20462262185),0) | AD35: 117346 | AE35: 139461 | AF35: =IFERROR(AD35/(AE35*2.20462262185),0) | AG35: 465366 | AH35: 546290 | AI35: =IFERROR(AG35/(AH35*2.20462262185),0) | AJ35: 461285 | AK35: 536500 | AL35: =IFERROR(AJ35/(AK35*2.20462262185),0) | AM35: 38640 | AN35: 46000 | AO35: =IFERROR(AM35/(AN35*2.20462262185),0) | AP35: 91800 | AQ35: 108000 | AR35: =IFERROR(AP35/(AQ35*2.20462262185),0) | BQ35: 0 | BR35: 0 | BS35: =IFERROR(BQ35/(BR35*2.20462262185),0) | BT35: 0 | BU35: 0 | BV35: =IFERROR(BT35/(BU35*2.20462262185),0) | BW35: 0 | BX35: 0 | BY35: =IFERROR(BW35/(BX35*2.20462262185),0) | BZ35: 0 | CA35: 0 | CB35: =IFERROR(BZ35/(CA35*2.20462262185),0) | CC35: 0 | CD35: 0 | CE35: =IFERROR(CC35/(CD35*2.20462262185),0) | CF35: 0 | CG35: 0 | CH35: =IFERROR(CF35/(CG35*2.20462262185),0) | CI35: 0 | CJ35: 0 | CK35: =IFERROR(CI35/(CJ35*2.20462262185),0) | CL35: 6460 | CM35: 19000 | CN35: =IFERROR(CL35/(CM35*2.20462262185),0) | CO35: 6460 | CP35: 19000 | CQ35: =IFERROR(CO35/(CP35*2.20462262185),0) | DA35: 24700 | DB35: 38000 | DC35: =IFERROR(DA35/(DB35*2.20462262185),0) | DD35: 98344 | DE35: 131233 | DF35: =IFERROR(DD35/(DE35*2.20462262185),0) | DG35: 54739 | DH35: 116100 | DI35: =IFERROR(DG35/(DH35*2.20462262185),0) | EK35: 0 | EL35: 0 | EM35: =IFERROR(EK35/(EL35*2.20462262185),0) | EN35: 0 | EO35: 0 | EP35: =IFERROR(EN35/(EO35*2.20462262185),0) | EQ35: 0 | ER35: 0 | ES35: =IFERROR(EQ35/(ER35*2.20462262185),0) | ET35: 0 | EU35: 0 | EV35: =IFERROR(ET35/(EU35*2.20462262185),0) | EW35: 118500 | EX35: 60000 | EY35: =IFERROR(EW35/(EX35*2.20462262185),0) | EZ35: 0 | FA35: 0 | FB35: =IFERROR(EZ35/(FA35*2.20462262185),0) | FC35: 0 | FD35: 0 | FE35: =IFERROR(FC35/(FD35*2.20462262185),0) | FF35: 76000 | FG35: 40000 | FH35: =IFERROR(FF35/(FG35*2.20462262185),0) | FI35: 36000 | FJ35: 20000 | FK35: =IFERROR(FI35/(FJ35*2.20462262185),0) | FL35: 20900 | FM35: 19000 | FN35: =IFERROR(FL35/(FM35*2.20462262185),0) | FO35: 0 | FP35: 0 | FQ35: =IFERROR(FO35/(FP35*2.20462262185),0) | FR35: 17056 | FS35: 18340 | FT35: =IFERROR(FR35/(FS35*2.20462262185),0)
A36: Germany | B36: =SUM(I36,L36,O36,R36,U36,X36,AA36,AD36) | C36: =SUM(J36,M36,P36,S36,V36,Y36,AB36,AE36) | D36: =C36/1000000 | E36: =C36*2.20462262185/1000000 | F36: =IFERROR(B36/(C36/1000),0) | G36: =IFERROR(B36/(C36*2.20462262185),0) | I36: 972 | J36: 80 | K36: =IFERROR(I36/(J36*2.20462262185),0) | L36: 123840 | M36: 88200 | N36: =IFERROR(L36/(M36*2.20462262185),0) | O36: 589 | P36: 215 | Q36: =IFERROR(O36/(P36*2.20462262185),0) | R36: 3685 | S36: 3600 | T36: =IFERROR(R36/(S36*2.20462262185),0) | U36: 0 | V36: 0 | W36: =IFERROR(U36/(V36*2.20462262185),0) | X36: 4254 | Y36: 2236 | Z36: =IFERROR(X36/(Y36*2.20462262185),0) | AA36: 11014 | AB36: 3740 | AC36: =IFERROR(AA36/(AB36*2.20462262185),0) | AG36: 0 | AH36: 0 | AI36: =IFERROR(AG36/(AH36*2.20462262185),0) | AJ36: 0 | AK36: 0 | AL36: =IFERROR(AJ36/(AK36*2.20462262185),0) | AM36: 4038 | AN36: 2388 | AO36: =IFERROR(AM36/(AN36*2.20462262185),0) | AP36: 0 | AQ36: 0 | AR36: =IFERROR(AP36/(AQ36*2.20462262185),0) | AS36: 28443 | AT36: 22072 | AU36: =IFERROR(AS36/(AT36*2.20462262185),0) | AV36: 0 | AW36: 0 | AX36: =IFERROR(AV36/(AW36*2.20462262185),0) | AY36: 53766 | AZ36: 43660 | BA36: =IFERROR(AY36/(AZ36*2.20462262185),0) | BB36: 51025 | BC36: 42344 | BD36: =IFERROR(BB36/(BC36*2.20462262185),0) | BE36: 0 | BF36: 0 | BG36: =IFERROR(BE36/(BF36*2.20462262185),0) | BH36: 98938 | BI36: 82686 | BJ36: =IFERROR(BH36/(BI36*2.20462262185),0) | BQ36: 963 | BR36: 700 | BS36: =IFERROR(BQ36/(BR36*2.20462262185),0) | BT36: 0 | BU36: 0 | BV36: =IFERROR(BT36/(BU36*2.20462262185),0) | BW36: 0 | BX36: 0 | BY36: =IFERROR(BW36/(BX36*2.20462262185),0) | BZ36: 0 | CA36: 0 | CB36: =IFERROR(BZ36/(CA36*2.20462262185),0) | CC36: 0 | CD36: 0 | CE36: =IFERROR(CC36/(CD36*2.20462262185),0) | CF36: 0 | CG36: 0 | CH36: =IFERROR(CF36/(CG36*2.20462262185),0) | CI36: 0 | CJ36: 0 | CK36: =IFERROR(CI36/(CJ36*2.20462262185),0) | CL36: 0 | CM36: 0 | CN36: =IFERROR(CL36/(CM36*2.20462262185),0) | CO36: 0 | CP36: 0 | CQ36: =IFERROR(CO36/(CP36*2.20462262185),0) | CR36: 42602 | CS36: 900 | CT36: =IFERROR(CR36/(CS36*2.20462262185),0) | CU36: 16219 | CV36: 18918 | CW36: =IFERROR(CU36/(CV36*2.20462262185),0) | DA36: 0 | DB36: 0 | DC36: =IFERROR(DA36/(DB36*2.20462262185),0) | DD36: 0 | DE36: 0 | DF36: =IFERROR(DD36/(DE36*2.20462262185),0) | DG36: 0 | DH36: 0 | DI36: =IFERROR(DG36/(DH36*2.20462262185),0) | DJ36: 0 | DK36: 0 | DL36: =IFERROR(DJ36/(DK36*2.20462262185),0) | DM36: 9960 | DN36: 4000 | DO36: =IFERROR(DM36/(DN36*2.20462262185),0) | DP36: 21064 | DQ36: 18159 | DR36: =IFERROR(DP36/(DQ36*2.20462262185),0) | DS36: 123600 | DT36: 11309 | DU36: =IFERROR(DS36/(DT36*2.20462262185),0) | DV36: 5346 | DW36: 738 | DX36: =IFERROR(DV36/(DW36*2.20462262185),0)
A37: Guyana | B37: =SUM(I37,L37,O37,R37,U37,X37,AA37,AD37) | C37: =SUM(J37,M37,P37,S37,V37,Y37,AB37,AE37) | D37: =C37/1000000 | E37: =C37*2.20462262185/1000000 | F37: =IFERROR(B37/(C37/1000),0) | G37: =IFERROR(B37/(C37*2.20462262185),0) | I37: 0 | J37: 0 | K37: =IFERROR(I37/(J37*2.20462262185),0) | L37: 14374 | M37: 39023 | N37: =IFERROR(L37/(M37*2.20462262185),0) | O37: 14130 | P37: 38799 | Q37: =IFERROR(O37/(P37*2.20462262185),0) | R37: 0 | S37: 0 | T37: =IFERROR(R37/(S37*2.20462262185),0) | U37: 0 | V37: 0 | W37: =IFERROR(U37/(V37*2.20462262185),0) | X37: 0 | Y37: 0 | Z37: =IFERROR(X37/(Y37*2.20462262185),0) | AA37: 6649 | AB37: 16376 | AC37: =IFERROR(AA37/(AB37*2.20462262185),0) | AG37: 6512 | AH37: 16975 | AI37: =IFERROR(AG37/(AH37*2.20462262185),0) | AJ37: 7635 | AK37: 16975 | AL37: =IFERROR(AJ37/(AK37*2.20462262185),0) | AM37: 7582 | AN37: 16855 | AO37: =IFERROR(AM37/(AN37*2.20462262185),0) | AP37: 0 | AQ37: 0 | AR37: =IFERROR(AP37/(AQ37*2.20462262185),0) | AS37: 0 | AT37: 0 | AU37: =IFERROR(AS37/(AT37*2.20462262185),0) | AV37: 0 | AW37: 0 | AX37: =IFERROR(AV37/(AW37*2.20462262185),0) | AY37: 7832 | AZ37: 14621 | BA37: =IFERROR(AY37/(AZ37*2.20462262185),0) | BB37: 0 | BC37: 0 | BD37: =IFERROR(BB37/(BC37*2.20462262185),0) | BE37: 10721 | BF37: 20150 | BG37: =IFERROR(BE37/(BF37*2.20462262185),0) | BH37: 10797 | BI37: 36290 | BJ37: =IFERROR(BH37/(BI37*2.20462262185),0) | BQ37: 0 | BR37: 0 | BS37: =IFERROR(BQ37/(BR37*2.20462262185),0) | BT37: 0 | BU37: 0 | BV37: =IFERROR(BT37/(BU37*2.20462262185),0) | BW37: 0 | BX37: 0 | BY37: =IFERROR(BW37/(BX37*2.20462262185),0) | BZ37: 0 | CA37: 0 | CB37: =IFERROR(BZ37/(CA37*2.20462262185),0) | CC37: 0 | CD37: 0 | CE37: =IFERROR(CC37/(CD37*2.20462262185),0) | CF37: 0 | CG37: 0 | CH37: =IFERROR(CF37/(CG37*2.20462262185),0) | CI37: 0 | CJ37: 0 | CK37: =IFERROR(CI37/(CJ37*2.20462262185),0) | CL37: 5842 | CM37: 14297 | CN37: =IFERROR(CL37/(CM37*2.20462262185),0) | CO37: 0 | CP37: 0 | CQ37: =IFERROR(CO37/(CP37*2.20462262185),0) | CR37: 16610 | CS37: 38151 | CT37: =IFERROR(CR37/(CS37*2.20462262185),0) | DA37: 0 | DB37: 0 | DC37: =IFERROR(DA37/(DB37*2.20462262185),0) | DD37: 6715 | DE37: 14724 | DF37: =IFERROR(DD37/(DE37*2.20462262185),0) | DG37: 10464 | DH37: 22878 | DI37: =IFERROR(DG37/(DH37*2.20462262185),0)
A38: Sweden | B38: =SUM(I38,L38,O38,R38,U38,X38,AA38,AD38) | C38: =SUM(J38,M38,P38,S38,V38,Y38,AB38,AE38) | D38: =C38/1000000 | E38: =C38*2.20462262185/1000000 | F38: =IFERROR(B38/(C38/1000),0) | G38: =IFERROR(B38/(C38*2.20462262185),0) | I38: 0 | J38: 0 | K38: =IFERROR(I38/(J38*2.20462262185),0) | L38: 124400 | M38: 20000 | N38: =IFERROR(L38/(M38*2.20462262185),0) | O38: 119400 | P38: 20000 | Q38: =IFERROR(O38/(P38*2.20462262185),0) | R38: 0 | S38: 0 | T38: =IFERROR(R38/(S38*2.20462262185),0) | U38: 119734 | V38: 20056 | W38: =IFERROR(U38/(V38*2.20462262185),0) | X38: 0 | Y38: 0 | Z38: =IFERROR(X38/(Y38*2.20462262185),0) | AA38: 119400 | AB38: 20000 | AC38: =IFERROR(AA38/(AB38*2.20462262185),0) | AG38: 126800 | AH38: 20050 | AI38: =IFERROR(AG38/(AH38*2.20462262185),0) | AJ38: 0 | AK38: 0 | AL38: =IFERROR(AJ38/(AK38*2.20462262185),0) | AM38: 129266 | AN38: 20000 | AO38: =IFERROR(AM38/(AN38*2.20462262185),0) | BQ38: 0 | BR38: 0 | BS38: =IFERROR(BQ38/(BR38*2.20462262185),0) | BT38: 0 | BU38: 0 | BV38: =IFERROR(BT38/(BU38*2.20462262185),0) | BW38: 0 | BX38: 0 | BY38: =IFERROR(BW38/(BX38*2.20462262185),0) | BZ38: 11025 | CA38: 1250 | CB38: =IFERROR(BZ38/(CA38*2.20462262185),0)
A39: Macau | B39: =SUM(I39,L39,O39,R39,U39,X39,AA39,AD39) | C39: =SUM(J39,M39,P39,S39,V39,Y39,AB39,AE39) | D39: =C39/1000000 | E39: =C39*2.20462262185/1000000 | F39: =IFERROR(B39/(C39/1000),0) | G39: =IFERROR(B39/(C39*2.20462262185),0) | I39: 0 | J39: 0 | K39: =IFERROR(I39/(J39*2.20462262185),0) | L39: 0 | M39: 0 | N39: =IFERROR(L39/(M39*2.20462262185),0) | O39: 0 | P39: 0 | Q39: =IFERROR(O39/(P39*2.20462262185),0) | R39: 0 | S39: 0 | T39: =IFERROR(R39/(S39*2.20462262185),0) | U39: 0 | V39: 0 | W39: =IFERROR(U39/(V39*2.20462262185),0) | X39: 106300 | Y39: 79596 | Z39: =IFERROR(X39/(Y39*2.20462262185),0)
A40: Bangladesh | B40: =SUM(I40,L40,O40,R40,U40,X40,AA40,AD40) | C40: =SUM(J40,M40,P40,S40,V40,Y40,AB40,AE40) | D40: =C40/1000000 | E40: =C40*2.20462262185/1000000 | F40: =IFERROR(B40/(C40/1000),0) | G40: =IFERROR(B40/(C40*2.20462262185),0) | I40: 32788 | J40: 61125 | K40: =IFERROR(I40/(J40*2.20462262185),0) | L40: 0 | M40: 0 | N40: =IFERROR(L40/(M40*2.20462262185),0) | O40: 0 | P40: 0 | Q40: =IFERROR(O40/(P40*2.20462262185),0) | R40: 0 | S40: 0 | T40: =IFERROR(R40/(S40*2.20462262185),0) | U40: 8404 | V40: 16720 | W40: =IFERROR(U40/(V40*2.20462262185),0) | AG40: 0 | AH40: 0 | AI40: =IFERROR(AG40/(AH40*2.20462262185),0) | AJ40: 0 | AK40: 0 | AL40: =IFERROR(AJ40/(AK40*2.20462262185),0) | AM40: 0 | AN40: 0 | AO40: =IFERROR(AM40/(AN40*2.20462262185),0) | AP40: 0 | AQ40: 0 | AR40: =IFERROR(AP40/(AQ40*2.20462262185),0) | AS40: 0 | AT40: 0 | AU40: =IFERROR(AS40/(AT40*2.20462262185),0) | AV40: 0 | AW40: 0 | AX40: =IFERROR(AV40/(AW40*2.20462262185),0) | AY40: 203800 | AZ40: 240000 | BA40: =IFERROR(AY40/(AZ40*2.20462262185),0) | BB40: 0 | BC40: 0 | BD40: =IFERROR(BB40/(BC40*2.20462262185),0) | BE40: 38680 | BF40: 46000 | BG40: =IFERROR(BE40/(BF40*2.20462262185),0) | BH40: 38680 | BI40: 46000 | BJ40: =IFERROR(BH40/(BI40*2.20462262185),0) | BQ40: 0 | BR40: 0 | BS40: =IFERROR(BQ40/(BR40*2.20462262185),0) | BT40: 0 | BU40: 0 | BV40: =IFERROR(BT40/(BU40*2.20462262185),0) | BW40: 0 | BX40: 0 | BY40: =IFERROR(BW40/(BX40*2.20462262185),0) | BZ40: 0 | CA40: 0 | CB40: =IFERROR(BZ40/(CA40*2.20462262185),0) | CC40: 0 | CD40: 0 | CE40: =IFERROR(CC40/(CD40*2.20462262185),0) | CF40: 0 | CG40: 0 | CH40: =IFERROR(CF40/(CG40*2.20462262185),0) | CI40: 81400 | CJ40: 88000 | CK40: =IFERROR(CI40/(CJ40*2.20462262185),0) | CL40: 81400 | CM40: 88000 | CN40: =IFERROR(CL40/(CM40*2.20462262185),0) | CO40: 81400 | CP40: 88000 | CQ40: =IFERROR(CO40/(CP40*2.20462262185),0) | CR40: 77440 | CS40: 88000 | CT40: =IFERROR(CR40/(CS40*2.20462262185),0) | CU40: 174240 | CV40: 198000 | CW40: =IFERROR(CU40/(CV40*2.20462262185),0) | CX40: 58080 | CY40: 66000 | CZ40: =IFERROR(CX40/(CY40*2.20462262185),0) | DA40: 134094 | DB40: 167200 | DC40: =IFERROR(DA40/(DB40*2.20462262185),0) | DD40: 0 | DE40: 0 | DF40: =IFERROR(DD40/(DE40*2.20462262185),0) | DG40: 33040 | DH40: 40000 | DI40: =IFERROR(DG40/(DH40*2.20462262185),0) | DJ40: 102640 | DK40: 120000 | DL40: =IFERROR(DJ40/(DK40*2.20462262185),0)
A41: France | B41: =SUM(I41,L41,O41,R41,U41,X41,AA41,AD41) | C41: =SUM(J41,M41,P41,S41,V41,Y41,AB41,AE41) | D41: =C41/1000000 | E41: =C41*2.20462262185/1000000 | F41: =IFERROR(B41/(C41/1000),0) | G41: =IFERROR(B41/(C41*2.20462262185),0) | I41: 0 | J41: 0 | K41: =IFERROR(I41/(J41*2.20462262185),0) | L41: 0 | M41: 0 | N41: =IFERROR(L41/(M41*2.20462262185),0) | O41: 0 | P41: 0 | Q41: =IFERROR(O41/(P41*2.20462262185),0) | R41: 142097 | S41: 44844 | T41: =IFERROR(R41/(S41*2.20462262185),0) | U41: 0 | V41: 0 | W41: =IFERROR(U41/(V41*2.20462262185),0) | X41: 27369 | Y41: 23375 | Z41: =IFERROR(X41/(Y41*2.20462262185),0) | AG41: 0 | AH41: 0 | AI41: =IFERROR(AG41/(AH41*2.20462262185),0) | AJ41: 0 | AK41: 0 | AL41: =IFERROR(AJ41/(AK41*2.20462262185),0) | AM41: 0 | AN41: 0 | AO41: =IFERROR(AM41/(AN41*2.20462262185),0) | AP41: 0 | AQ41: 0 | AR41: =IFERROR(AP41/(AQ41*2.20462262185),0) | AS41: 0 | AT41: 0 | AU41: =IFERROR(AS41/(AT41*2.20462262185),0) | AV41: 0 | AW41: 0 | AX41: =IFERROR(AV41/(AW41*2.20462262185),0) | AY41: 0 | AZ41: 0 | BA41: =IFERROR(AY41/(AZ41*2.20462262185),0) | BB41: 0 | BC41: 0 | BD41: =IFERROR(BB41/(BC41*2.20462262185),0) | BE41: 0 | BF41: 0 | BG41: =IFERROR(BE41/(BF41*2.20462262185),0) | BH41: 23056 | BI41: 51340 | BJ41: =IFERROR(BH41/(BI41*2.20462262185),0) | BK41: 0 | BL41: 0 | BM41: =IFERROR(BK41/(BL41*2.20462262185),0) | BN41: 59556 | BO41: 133800 | BP41: =IFERROR(BN41/(BO41*2.20462262185),0) | BQ41: 89714 | BR41: 211000 | BS41: =IFERROR(BQ41/(BR41*2.20462262185),0) | BT41: 30533 | BU41: 68160 | BV41: =IFERROR(BT41/(BU41*2.20462262185),0) | BW41: 74519 | BX41: 151240 | BY41: =IFERROR(BW41/(BX41*2.20462262185),0) | BZ41: 0 | CA41: 0 | CB41: =IFERROR(BZ41/(CA41*2.20462262185),0) | CC41: 37870 | CD41: 93960 | CE41: =IFERROR(CC41/(CD41*2.20462262185),0) | CF41: 0 | CG41: 0 | CH41: =IFERROR(CF41/(CG41*2.20462262185),0) | CI41: 24020 | CJ41: 46725 | CK41: =IFERROR(CI41/(CJ41*2.20462262185),0) | CL41: 0 | CM41: 0 | CN41: =IFERROR(CL41/(CM41*2.20462262185),0) | CO41: 15598 | CP41: 30664 | CQ41: =IFERROR(CO41/(CP41*2.20462262185),0)
A42: China | B42: =SUM(I42,L42,O42,R42,U42,X42,AA42,AD42) | C42: =SUM(J42,M42,P42,S42,V42,Y42,AB42,AE42) | D42: =C42/1000000 | E42: =C42*2.20462262185/1000000 | F42: =IFERROR(B42/(C42/1000),0) | G42: =IFERROR(B42/(C42*2.20462262185),0) | I42: 0 | J42: 0 | K42: =IFERROR(I42/(J42*2.20462262185),0) | L42: 0 | M42: 0 | N42: =IFERROR(L42/(M42*2.20462262185),0) | O42: 0 | P42: 0 | Q42: =IFERROR(O42/(P42*2.20462262185),0) | R42: 0 | S42: 0 | T42: =IFERROR(R42/(S42*2.20462262185),0) | U42: 35694 | V42: 48040 | W42: =IFERROR(U42/(V42*2.20462262185),0) | AG42: 0 | AH42: 0 | AI42: =IFERROR(AG42/(AH42*2.20462262185),0) | AJ42: 0 | AK42: 0 | AL42: =IFERROR(AJ42/(AK42*2.20462262185),0) | AM42: 1716 | AN42: 2200 | AO42: =IFERROR(AM42/(AN42*2.20462262185),0) | AP42: 0 | AQ42: 0 | AR42: =IFERROR(AP42/(AQ42*2.20462262185),0) | AS42: 0 | AT42: 0 | AU42: =IFERROR(AS42/(AT42*2.20462262185),0) | AV42: 0 | AW42: 0 | AX42: =IFERROR(AV42/(AW42*2.20462262185),0) | AY42: 0 | AZ42: 0 | BA42: =IFERROR(AY42/(AZ42*2.20462262185),0) | BB42: 0 | BC42: 0 | BD42: =IFERROR(BB42/(BC42*2.20462262185),0) | BE42: 0 | BF42: 0 | BG42: =IFERROR(BE42/(BF42*2.20462262185),0) | BH42: 0 | BI42: 0 | BJ42: =IFERROR(BH42/(BI42*2.20462262185),0) | BK42: 4478 | BL42: 800 | BM42: =IFERROR(BK42/(BL42*2.20462262185),0) | BN42: 4725 | BO42: 875 | BP42: =IFERROR(BN42/(BO42*2.20462262185),0) | BQ42: 0 | BR42: 0 | BS42: =IFERROR(BQ42/(BR42*2.20462262185),0) | BT42: 0 | BU42: 0 | BV42: =IFERROR(BT42/(BU42*2.20462262185),0) | BW42: 0 | BX42: 0 | BY42: =IFERROR(BW42/(BX42*2.20462262185),0) | BZ42: 0 | CA42: 0 | CB42: =IFERROR(BZ42/(CA42*2.20462262185),0) | CC42: 0 | CD42: 0 | CE42: =IFERROR(CC42/(CD42*2.20462262185),0) | CF42: 10585 | CG42: 2429 | CH42: =IFERROR(CF42/(CG42*2.20462262185),0) | CI42: 0 | CJ42: 0 | CK42: =IFERROR(CI42/(CJ42*2.20462262185),0) | CL42: 0 | CM42: 0 | CN42: =IFERROR(CL42/(CM42*2.20462262185),0) | CO42: 2962 | CP42: 2250 | CQ42: =IFERROR(CO42/(CP42*2.20462262185),0) | DA42: 0 | DB42: 0 | DC42: =IFERROR(DA42/(DB42*2.20462262185),0) | DD42: 0 | DE42: 0 | DF42: =IFERROR(DD42/(DE42*2.20462262185),0) | DG42: 0 | DH42: 0 | DI42: =IFERROR(DG42/(DH42*2.20462262185),0) | DJ42: 0 | DK42: 0 | DL42: =IFERROR(DJ42/(DK42*2.20462262185),0) | DM42: 6283 | DN42: 628 | DO42: =IFERROR(DM42/(DN42*2.20462262185),0) | DP42: 21285 | DQ42: 21500 | DR42: =IFERROR(DP42/(DQ42*2.20462262185),0) | EK42: 2371 | EL42: 2200 | EM42: =IFERROR(EK42/(EL42*2.20462262185),0) | EN42: 3947 | EO42: 500 | EP42: =IFERROR(EN42/(EO42*2.20462262185),0)
A43: Italy | B43: =SUM(I43,L43,O43,R43,U43,X43,AA43,AD43) | C43: =SUM(J43,M43,P43,S43,V43,Y43,AB43,AE43) | D43: =C43/1000000 | E43: =C43*2.20462262185/1000000 | F43: =IFERROR(B43/(C43/1000),0) | G43: =IFERROR(B43/(C43*2.20462262185),0) | I43: 0 | J43: 0 | K43: =IFERROR(I43/(J43*2.20462262185),0) | L43: 0 | M43: 0 | N43: =IFERROR(L43/(M43*2.20462262185),0) | O43: 0 | P43: 0 | Q43: =IFERROR(O43/(P43*2.20462262185),0) | R43: 0 | S43: 0 | T43: =IFERROR(R43/(S43*2.20462262185),0) | U43: 0 | V43: 0 | W43: =IFERROR(U43/(V43*2.20462262185),0) | X43: 234044 | Y43: 20000 | Z43: =IFERROR(X43/(Y43*2.20462262185),0) | AG43: 0 | AH43: 0 | AI43: =IFERROR(AG43/(AH43*2.20462262185),0) | AJ43: 0 | AK43: 0 | AL43: =IFERROR(AJ43/(AK43*2.20462262185),0) | AM43: 0 | AN43: 0 | AO43: =IFERROR(AM43/(AN43*2.20462262185),0) | AP43: 0 | AQ43: 0 | AR43: =IFERROR(AP43/(AQ43*2.20462262185),0) | AS43: 0 | AT43: 0 | AU43: =IFERROR(AS43/(AT43*2.20462262185),0) | AV43: 1686 | AW43: 500 | AX43: =IFERROR(AV43/(AW43*2.20462262185),0) | DA43: 0 | DB43: 0 | DC43: =IFERROR(DA43/(DB43*2.20462262185),0) | DD43: 0 | DE43: 0 | DF43: =IFERROR(DD43/(DE43*2.20462262185),0) | DG43: 0 | DH43: 0 | DI43: =IFERROR(DG43/(DH43*2.20462262185),0) | DJ43: 0 | DK43: 0 | DL43: =IFERROR(DJ43/(DK43*2.20462262185),0) | DM43: 0 | DN43: 0 | DO43: =IFERROR(DM43/(DN43*2.20462262185),0) | DP43: 0 | DQ43: 0 | DR43: =IFERROR(DP43/(DQ43*2.20462262185),0) | DS43: 36774 | DT43: 23833 | DU43: =IFERROR(DS43/(DT43*2.20462262185),0)
A44: Haiti | B44: =SUM(I44,L44,O44,R44,U44,X44,AA44,AD44) | C44: =SUM(J44,M44,P44,S44,V44,Y44,AB44,AE44) | D44: =C44/1000000 | E44: =C44*2.20462262185/1000000 | F44: =IFERROR(B44/(C44/1000),0) | G44: =IFERROR(B44/(C44*2.20462262185),0) | I44: 0 | J44: 0 | K44: =IFERROR(I44/(J44*2.20462262185),0) | L44: 4677 | M44: 17009 | N44: =IFERROR(L44/(M44*2.20462262185),0) | AG44: 0 | AH44: 0 | AI44: =IFERROR(AG44/(AH44*2.20462262185),0) | AJ44: 0 | AK44: 0 | AL44: =IFERROR(AJ44/(AK44*2.20462262185),0) | AM44: 0 | AN44: 0 | AO44: =IFERROR(AM44/(AN44*2.20462262185),0) | AP44: 0 | AQ44: 0 | AR44: =IFERROR(AP44/(AQ44*2.20462262185),0) | AS44: 0 | AT44: 0 | AU44: =IFERROR(AS44/(AT44*2.20462262185),0) | AV44: 0 | AW44: 0 | AX44: =IFERROR(AV44/(AW44*2.20462262185),0) | AY44: 0 | AZ44: 0 | BA44: =IFERROR(AY44/(AZ44*2.20462262185),0) | BB44: 9053 | BC44: 16786 | BD44: =IFERROR(BB44/(BC44*2.20462262185),0) | BQ44: 0 | BR44: 0 | BS44: =IFERROR(BQ44/(BR44*2.20462262185),0) | BT44: 0 | BU44: 0 | BV44: =IFERROR(BT44/(BU44*2.20462262185),0) | BW44: 0 | BX44: 0 | BY44: =IFERROR(BW44/(BX44*2.20462262185),0) | BZ44: 0 | CA44: 0 | CB44: =IFERROR(BZ44/(CA44*2.20462262185),0) | CC44: 0 | CD44: 0 | CE44: =IFERROR(CC44/(CD44*2.20462262185),0) | CF44: 31229 | CG44: 52722 | CH44: =IFERROR(CF44/(CG44*2.20462262185),0) | CI44: 0 | CJ44: 0 | CK44: =IFERROR(CI44/(CJ44*2.20462262185),0) | CL44: 0 | CM44: 0 | CN44: =IFERROR(CL44/(CM44*2.20462262185),0) | CO44: 0 | CP44: 0 | CQ44: =IFERROR(CO44/(CP44*2.20462262185),0) | CR44: 46990 | CS44: 65383 | CT44: =IFERROR(CR44/(CS44*2.20462262185),0) | CU44: 5319 | CV44: 19556 | CW44: =IFERROR(CU44/(CV44*2.20462262185),0) | CX44: 11751 | CY44: 34133 | CZ44: =IFERROR(CX44/(CY44*2.20462262185),0) | DA44: 38463 | DB44: 71828 | DC44: =IFERROR(DA44/(DB44*2.20462262185),0) | DD44: 22099 | DE44: 54491 | DF44: =IFERROR(DD44/(DE44*2.20462262185),0) | DG44: 25119 | DH44: 52854 | DI44: =IFERROR(DG44/(DH44*2.20462262185),0) | DJ44: 84126 | DK44: 184309 | DL44: =IFERROR(DJ44/(DK44*2.20462262185),0)
A45: Israel | B45: =SUM(I45,L45,O45,R45,U45,X45,AA45,AD45) | C45: =SUM(J45,M45,P45,S45,V45,Y45,AB45,AE45) | D45: =C45/1000000 | E45: =C45*2.20462262185/1000000 | F45: =IFERROR(B45/(C45/1000),0) | G45: =IFERROR(B45/(C45*2.20462262185),0) | I45: 0 | J45: 0 | K45: =IFERROR(I45/(J45*2.20462262185),0) | L45: 0 | M45: 0 | N45: =IFERROR(L45/(M45*2.20462262185),0) | O45: 0 | P45: 0 | Q45: =IFERROR(O45/(P45*2.20462262185),0) | R45: 0 | S45: 0 | T45: =IFERROR(R45/(S45*2.20462262185),0) | U45: 0 | V45: 0 | W45: =IFERROR(U45/(V45*2.20462262185),0) | X45: 0 | Y45: 0 | Z45: =IFERROR(X45/(Y45*2.20462262185),0) | AA45: 15727 | AB45: 9769 | AC45: =IFERROR(AA45/(AB45*2.20462262185),0) | AG45: 0 | AH45: 0 | AI45: =IFERROR(AG45/(AH45*2.20462262185),0) | AJ45: 0 | AK45: 0 | AL45: =IFERROR(AJ45/(AK45*2.20462262185),0) | AM45: 15772 | AN45: 9773 | AO45: =IFERROR(AM45/(AN45*2.20462262185),0)
A46: Belgium | B46: =SUM(I46,L46,O46,R46,U46,X46,AA46,AD46) | C46: =SUM(J46,M46,P46,S46,V46,Y46,AB46,AE46) | D46: =C46/1000000 | E46: =C46*2.20462262185/1000000 | F46: =IFERROR(B46/(C46/1000),0) | G46: =IFERROR(B46/(C46*2.20462262185),0) | I46: 0 | J46: 0 | K46: =IFERROR(I46/(J46*2.20462262185),0) | L46: 45840 | M46: 1600 | N46: =IFERROR(L46/(M46*2.20462262185),0) | O46: 22812 | P46: 800 | Q46: =IFERROR(O46/(P46*2.20462262185),0) | R46: 0 | S46: 0 | T46: =IFERROR(R46/(S46*2.20462262185),0) | U46: 0 | V46: 0 | W46: =IFERROR(U46/(V46*2.20462262185),0) | X46: 0 | Y46: 0 | Z46: =IFERROR(X46/(Y46*2.20462262185),0) | AA46: 45744 | AB46: 1600 | AC46: =IFERROR(AA46/(AB46*2.20462262185),0) | AG46: 0 | AH46: 0 | AI46: =IFERROR(AG46/(AH46*2.20462262185),0) | AJ46: 44371 | AK46: 1600 | AL46: =IFERROR(AJ46/(AK46*2.20462262185),0) | AM46: 0 | AN46: 0 | AO46: =IFERROR(AM46/(AN46*2.20462262185),0) | AP46: 0 | AQ46: 0 | AR46: =IFERROR(AP46/(AQ46*2.20462262185),0) | AS46: 0 | AT46: 0 | AU46: =IFERROR(AS46/(AT46*2.20462262185),0) | AV46: 0 | AW46: 0 | AX46: =IFERROR(AV46/(AW46*2.20462262185),0) | AY46: 693408 | AZ46: 707840 | BA46: =IFERROR(AY46/(AZ46*2.20462262185),0) | BQ46: 0 | BR46: 0 | BS46: =IFERROR(BQ46/(BR46*2.20462262185),0) | BT46: 41939 | BU46: 1600 | BV46: =IFERROR(BT46/(BU46*2.20462262185),0) | BW46: 0 | BX46: 0 | BY46: =IFERROR(BW46/(BX46*2.20462262185),0) | BZ46: 0 | CA46: 0 | CB46: =IFERROR(BZ46/(CA46*2.20462262185),0) | CC46: 0 | CD46: 0 | CE46: =IFERROR(CC46/(CD46*2.20462262185),0) | CF46: 41989 | CG46: 1600 | CH46: =IFERROR(CF46/(CG46*2.20462262185),0) | CI46: 20662 | CJ46: 800 | CK46: =IFERROR(CI46/(CJ46*2.20462262185),0) | CL46: 20879 | CM46: 800 | CN46: =IFERROR(CL46/(CM46*2.20462262185),0) | DA46: 0 | DB46: 0 | DC46: =IFERROR(DA46/(DB46*2.20462262185),0) | DD46: 0 | DE46: 0 | DF46: =IFERROR(DD46/(DE46*2.20462262185),0) | DG46: 0 | DH46: 0 | DI46: =IFERROR(DG46/(DH46*2.20462262185),0) | DJ46: 439 | DK46: 100 | DL46: =IFERROR(DJ46/(DK46*2.20462262185),0) | DM46: 0 | DN46: 0 | DO46: =IFERROR(DM46/(DN46*2.20462262185),0) | DP46: 0 | DQ46: 0 | DR46: =IFERROR(DP46/(DQ46*2.20462262185),0) | DS46: 0 | DT46: 0 | DU46: =IFERROR(DS46/(DT46*2.20462262185),0) | DV46: 0 | DW46: 0 | DX46: =IFERROR(DV46/(DW46*2.20462262185),0) | DY46: 0 | DZ46: 0 | EA46: =IFERROR(DY46/(DZ46*2.20462262185),0) | EB46: 687665 | EC46: 506000 | ED46: =IFERROR(EB46/(EC46*2.20462262185),0) | EE46: 20827 | EF46: 800 | EG46: =IFERROR(EE46/(EF46*2.20462262185),0) | EK46: 530111 | EL46: 400000 | EM46: =IFERROR(EK46/(EL46*2.20462262185),0) | EN46: 0 | EO46: 0 | EP46: =IFERROR(EN46/(EO46*2.20462262185),0) | EQ46: 0 | ER46: 0 | ES46: =IFERROR(EQ46/(ER46*2.20462262185),0) | ET46: 568636 | EU46: 440000 | EV46: =IFERROR(ET46/(EU46*2.20462262185),0) | EW46: 0 | EX46: 0 | EY46: =IFERROR(EW46/(EX46*2.20462262185),0) | EZ46: 1608200 | FA46: 748000 | FB46: =IFERROR(EZ46/(FA46*2.20462262185),0) | FC46: 2585494 | FD46: 1542600 | FE46: =IFERROR(FC46/(FD46*2.20462262185),0) | FF46: 1379400 | FG46: 682000 | FH46: =IFERROR(FF46/(FG46*2.20462262185),0) | FI46: 10565830 | FJ46: 4339605 | FK46: =IFERROR(FI46/(FJ46*2.20462262185),0) | FL46: 4634520 | FM46: 2696819 | FN46: =IFERROR(FL46/(FM46*2.20462262185),0) | FO46: 2590720 | FP46: 1529019 | FQ46: =IFERROR(FO46/(FP46*2.20462262185),0) | FR46: 1681866 | FS46: 999058 | FT46: =IFERROR(FR46/(FS46*2.20462262185),0)
A47: United Kingdom | B47: =SUM(I47,L47,O47,R47,U47,X47,AA47,AD47) | C47: =SUM(J47,M47,P47,S47,V47,Y47,AB47,AE47) | D47: =C47/1000000 | E47: =C47*2.20462262185/1000000 | F47: =IFERROR(B47/(C47/1000),0) | G47: =IFERROR(B47/(C47*2.20462262185),0) | I47: 500 | J47: 502 | K47: =IFERROR(I47/(J47*2.20462262185),0) | L47: 0 | M47: 0 | N47: =IFERROR(L47/(M47*2.20462262185),0) | O47: 0 | P47: 0 | Q47: =IFERROR(O47/(P47*2.20462262185),0) | R47: 426 | S47: 1 | T47: =IFERROR(R47/(S47*2.20462262185),0) | BQ47: 0 | BR47: 0 | BS47: =IFERROR(BQ47/(BR47*2.20462262185),0) | BT47: 0 | BU47: 0 | BV47: =IFERROR(BT47/(BU47*2.20462262185),0) | BW47: 0 | BX47: 0 | BY47: =IFERROR(BW47/(BX47*2.20462262185),0) | BZ47: 0 | CA47: 0 | CB47: =IFERROR(BZ47/(CA47*2.20462262185),0) | CC47: 0 | CD47: 0 | CE47: =IFERROR(CC47/(CD47*2.20462262185),0) | CF47: 0 | CG47: 0 | CH47: =IFERROR(CF47/(CG47*2.20462262185),0) | CI47: 0 | CJ47: 0 | CK47: =IFERROR(CI47/(CJ47*2.20462262185),0) | CL47: 0 | CM47: 0 | CN47: =IFERROR(CL47/(CM47*2.20462262185),0) | CO47: 0 | CP47: 0 | CQ47: =IFERROR(CO47/(CP47*2.20462262185),0) | CR47: 0 | CS47: 0 | CT47: =IFERROR(CR47/(CS47*2.20462262185),0) | CU47: 0 | CV47: 0 | CW47: =IFERROR(CU47/(CV47*2.20462262185),0) | CX47: 54112 | CY47: 19080 | CZ47: =IFERROR(CX47/(CY47*2.20462262185),0) | DA47: 161035 | DB47: 57010 | DC47: =IFERROR(DA47/(DB47*2.20462262185),0) | DD47: 0 | DE47: 0 | DF47: =IFERROR(DD47/(DE47*2.20462262185),0) | DG47: 0 | DH47: 0 | DI47: =IFERROR(DG47/(DH47*2.20462262185),0) | DJ47: 0 | DK47: 0 | DL47: =IFERROR(DJ47/(DK47*2.20462262185),0) | DM47: 0 | DN47: 0 | DO47: =IFERROR(DM47/(DN47*2.20462262185),0) | DP47: 341 | DQ47: 25 | DR47: =IFERROR(DP47/(DQ47*2.20462262185),0) | EK47: 0 | EL47: 0 | EM47: =IFERROR(EK47/(EL47*2.20462262185),0) | EN47: 0 | EO47: 0 | EP47: =IFERROR(EN47/(EO47*2.20462262185),0) | EQ47: 0 | ER47: 0 | ES47: =IFERROR(EQ47/(ER47*2.20462262185),0) | ET47: 0 | EU47: 0 | EV47: =IFERROR(ET47/(EU47*2.20462262185),0) | EW47: 0 | EX47: 0 | EY47: =IFERROR(EW47/(EX47*2.20462262185),0) | EZ47: 0 | FA47: 0 | FB47: =IFERROR(EZ47/(FA47*2.20462262185),0) | FC47: 0 | FD47: 0 | FE47: =IFERROR(FC47/(FD47*2.20462262185),0) | FF47: 5901 | FG47: 2166 | FH47: =IFERROR(FF47/(FG47*2.20462262185),0)
A48: Switzerland | B48: =SUM(I48,L48,O48,R48,U48,X48,AA48,AD48) | C48: =SUM(J48,M48,P48,S48,V48,Y48,AB48,AE48) | D48: =C48/1000000 | E48: =C48*2.20462262185/1000000 | F48: =IFERROR(B48/(C48/1000),0) | G48: =IFERROR(B48/(C48*2.20462262185),0) | I48: 0 | J48: 0 | K48: =IFERROR(I48/(J48*2.20462262185),0) | L48: 0 | M48: 0 | N48: =IFERROR(L48/(M48*2.20462262185),0) | O48: 1080 | P48: 54 | Q48: =IFERROR(O48/(P48*2.20462262185),0)
A49: Czech Republic | B49: =SUM(I49,L49,O49,R49,U49,X49,AA49,AD49) | C49: =SUM(J49,M49,P49,S49,V49,Y49,AB49,AE49) | D49: =C49/1000000 | E49: =C49*2.20462262185/1000000 | F49: =IFERROR(B49/(C49/1000),0) | G49: =IFERROR(B49/(C49*2.20462262185),0) | I49: 0 | J49: 0 | K49: =IFERROR(I49/(J49*2.20462262185),0) | L49: 0 | M49: 0 | N49: =IFERROR(L49/(M49*2.20462262185),0) | O49: 0 | P49: 0 | Q49: =IFERROR(O49/(P49*2.20462262185),0) | R49: 0 | S49: 0 | T49: =IFERROR(R49/(S49*2.20462262185),0) | U49: 2500 | V49: 42 | W49: =IFERROR(U49/(V49*2.20462262185),0)
A50: Argentina | B50: =SUM(I50,L50,O50,R50,U50,X50,AA50,AD50) | C50: =SUM(J50,M50,P50,S50,V50,Y50,AB50,AE50) | D50: =C50/1000000 | E50: =C50*2.20462262185/1000000 | F50: =IFERROR(B50/(C50/1000),0) | G50: =IFERROR(B50/(C50*2.20462262185),0) | EK50: 0 | EL50: 0 | EM50: =IFERROR(EK50/(EL50*2.20462262185),0) | EN50: 12000 | EO50: 7500 | EP50: =IFERROR(EN50/(EO50*2.20462262185),0)
A51: Australia | B51: =SUM(I51,L51,O51,R51,U51,X51,AA51,AD51) | C51: =SUM(J51,M51,P51,S51,V51,Y51,AB51,AE51) | D51: =C51/1000000 | E51: =C51*2.20462262185/1000000 | F51: =IFERROR(B51/(C51/1000),0) | G51: =IFERROR(B51/(C51*2.20462262185),0) | AG51: 0 | AH51: 0 | AI51: =IFERROR(AG51/(AH51*2.20462262185),0) | AJ51: 0 | AK51: 0 | AL51: =IFERROR(AJ51/(AK51*2.20462262185),0) | AM51: 0 | AN51: 0 | AO51: =IFERROR(AM51/(AN51*2.20462262185),0) | AP51: 0 | AQ51: 0 | AR51: =IFERROR(AP51/(AQ51*2.20462262185),0) | AS51: 0 | AT51: 0 | AU51: =IFERROR(AS51/(AT51*2.20462262185),0) | AV51: 0 | AW51: 0 | AX51: =IFERROR(AV51/(AW51*2.20462262185),0) | AY51: 0 | AZ51: 0 | BA51: =IFERROR(AY51/(AZ51*2.20462262185),0) | BB51: 0 | BC51: 0 | BD51: =IFERROR(BB51/(BC51*2.20462262185),0) | BE51: 89620 | BF51: 46652 | BG51: =IFERROR(BE51/(BF51*2.20462262185),0) | DA51: 0 | DB51: 0 | DC51: =IFERROR(DA51/(DB51*2.20462262185),0) | DD51: 0 | DE51: 0 | DF51: =IFERROR(DD51/(DE51*2.20462262185),0) | DG51: 0 | DH51: 0 | DI51: =IFERROR(DG51/(DH51*2.20462262185),0) | DJ51: 0 | DK51: 0 | DL51: =IFERROR(DJ51/(DK51*2.20462262185),0) | DM51: 0 | DN51: 0 | DO51: =IFERROR(DM51/(DN51*2.20462262185),0) | DP51: 285 | DQ51: 200 | DR51: =IFERROR(DP51/(DQ51*2.20462262185),0)
A52: Austria | B52: =SUM(I52,L52,O52,R52,U52,X52,AA52,AD52) | C52: =SUM(J52,M52,P52,S52,V52,Y52,AB52,AE52) | D52: =C52/1000000 | E52: =C52*2.20462262185/1000000 | F52: =IFERROR(B52/(C52/1000),0) | G52: =IFERROR(B52/(C52*2.20462262185),0) | BQ52: 0 | BR52: 0 | BS52: =IFERROR(BQ52/(BR52*2.20462262185),0) | BT52: 0 | BU52: 0 | BV52: =IFERROR(BT52/(BU52*2.20462262185),0) | BW52: 0 | BX52: 0 | BY52: =IFERROR(BW52/(BX52*2.20462262185),0) | BZ52: 0 | CA52: 0 | CB52: =IFERROR(BZ52/(CA52*2.20462262185),0) | CC52: 0 | CD52: 0 | CE52: =IFERROR(CC52/(CD52*2.20462262185),0) | CF52: 0 | CG52: 0 | CH52: =IFERROR(CF52/(CG52*2.20462262185),0) | CI52: 0 | CJ52: 0 | CK52: =IFERROR(CI52/(CJ52*2.20462262185),0) | CL52: 0 | CM52: 0 | CN52: =IFERROR(CL52/(CM52*2.20462262185),0) | CO52: 1576 | CP52: 1072 | CQ52: =IFERROR(CO52/(CP52*2.20462262185),0)
A53: Barbados | B53: =SUM(I53,L53,O53,R53,U53,X53,AA53,AD53) | C53: =SUM(J53,M53,P53,S53,V53,Y53,AB53,AE53) | D53: =C53/1000000 | E53: =C53*2.20462262185/1000000 | F53: =IFERROR(B53/(C53/1000),0) | G53: =IFERROR(B53/(C53*2.20462262185),0) | BQ53: 0 | BR53: 0 | BS53: =IFERROR(BQ53/(BR53*2.20462262185),0) | BT53: 0 | BU53: 0 | BV53: =IFERROR(BT53/(BU53*2.20462262185),0) | BW53: 0 | BX53: 0 | BY53: =IFERROR(BW53/(BX53*2.20462262185),0) | BZ53: 0 | CA53: 0 | CB53: =IFERROR(BZ53/(CA53*2.20462262185),0) | CC53: 0 | CD53: 0 | CE53: =IFERROR(CC53/(CD53*2.20462262185),0) | CF53: 0 | CG53: 0 | CH53: =IFERROR(CF53/(CG53*2.20462262185),0) | CI53: 0 | CJ53: 0 | CK53: =IFERROR(CI53/(CJ53*2.20462262185),0) | CL53: 0 | CM53: 0 | CN53: =IFERROR(CL53/(CM53*2.20462262185),0) | CO53: 0 | CP53: 0 | CQ53: =IFERROR(CO53/(CP53*2.20462262185),0) | CR53: 9091 | CS53: 23298 | CT53: =IFERROR(CR53/(CS53*2.20462262185),0)
A54: Brazil | B54: =SUM(I54,L54,O54,R54,U54,X54,AA54,AD54) | C54: =SUM(J54,M54,P54,S54,V54,Y54,AB54,AE54) | D54: =C54/1000000 | E54: =C54*2.20462262185/1000000 | F54: =IFERROR(B54/(C54/1000),0) | G54: =IFERROR(B54/(C54*2.20462262185),0) | EK54: 0 | EL54: 0 | EM54: =IFERROR(EK54/(EL54*2.20462262185),0) | EN54: 11170 | EO54: 6600 | EP54: =IFERROR(EN54/(EO54*2.20462262185),0) | EQ54: 3768102 | ER54: 2627800 | ES54: =IFERROR(EQ54/(ER54*2.20462262185),0) | ET54: 0 | EU54: 0 | EV54: =IFERROR(ET54/(EU54*2.20462262185),0) | EW54: 4622087 | EX54: 2638400 | EY54: =IFERROR(EW54/(EX54*2.20462262185),0) | EZ54: 7899981 | FA54: 4872600 | FB54: =IFERROR(EZ54/(FA54*2.20462262185),0) | FC54: 646835 | FD54: 466400 | FE54: =IFERROR(FC54/(FD54*2.20462262185),0) | FF54: 4447820 | FG54: 3418800 | FH54: =IFERROR(FF54/(FG54*2.20462262185),0) | FI54: 2833303 | FJ54: 1845800 | FK54: =IFERROR(FI54/(FJ54*2.20462262185),0) | FL54: 1991486 | FM54: 1546000 | FN54: =IFERROR(FL54/(FM54*2.20462262185),0) | FO54: 517060 | FP54: 440000 | FQ54: =IFERROR(FO54/(FP54*2.20462262185),0)
A55: Chile | B55: =SUM(I55,L55,O55,R55,U55,X55,AA55,AD55) | C55: =SUM(J55,M55,P55,S55,V55,Y55,AB55,AE55) | D55: =C55/1000000 | E55: =C55*2.20462262185/1000000 | F55: =IFERROR(B55/(C55/1000),0) | G55: =IFERROR(B55/(C55*2.20462262185),0) | AG55: 11302 | AH55: 38748 | AI55: =IFERROR(AG55/(AH55*2.20462262185),0) | AJ55: 0 | AK55: 0 | AL55: =IFERROR(AJ55/(AK55*2.20462262185),0) | AM55: 0 | AN55: 0 | AO55: =IFERROR(AM55/(AN55*2.20462262185),0) | AP55: 5645 | AQ55: 19448 | AR55: =IFERROR(AP55/(AQ55*2.20462262185),0) | AS55: 0 | AT55: 0 | AU55: =IFERROR(AS55/(AT55*2.20462262185),0) | AV55: 0 | AW55: 0 | AX55: =IFERROR(AV55/(AW55*2.20462262185),0) | AY55: 0 | AZ55: 0 | BA55: =IFERROR(AY55/(AZ55*2.20462262185),0) | BB55: 0 | BC55: 0 | BD55: =IFERROR(BB55/(BC55*2.20462262185),0) | BE55: 0 | BF55: 0 | BG55: =IFERROR(BE55/(BF55*2.20462262185),0) | BH55: 11076 | BI55: 37673 | BJ55: =IFERROR(BH55/(BI55*2.20462262185),0) | BQ55: 0 | BR55: 0 | BS55: =IFERROR(BQ55/(BR55*2.20462262185),0) | BT55: 0 | BU55: 0 | BV55: =IFERROR(BT55/(BU55*2.20462262185),0) | BW55: 0 | BX55: 0 | BY55: =IFERROR(BW55/(BX55*2.20462262185),0) | BZ55: 0 | CA55: 0 | CB55: =IFERROR(BZ55/(CA55*2.20462262185),0) | CC55: 0 | CD55: 0 | CE55: =IFERROR(CC55/(CD55*2.20462262185),0) | CF55: 0 | CG55: 0 | CH55: =IFERROR(CF55/(CG55*2.20462262185),0) | CI55: 0 | CJ55: 0 | CK55: =IFERROR(CI55/(CJ55*2.20462262185),0) | CL55: 0 | CM55: 0 | CN55: =IFERROR(CL55/(CM55*2.20462262185),0) | CO55: 0 | CP55: 0 | CQ55: =IFERROR(CO55/(CP55*2.20462262185),0) | CR55: 0 | CS55: 0 | CT55: =IFERROR(CR55/(CS55*2.20462262185),0) | CU55: 11081 | CV55: 19800 | CW55: =IFERROR(CU55/(CV55*2.20462262185),0) | DA55: 0 | DB55: 0 | DC55: =IFERROR(DA55/(DB55*2.20462262185),0) | DD55: 21801 | DE55: 53439 | DF55: =IFERROR(DD55/(DE55*2.20462262185),0)
A56: Colombia | B56: =SUM(I56,L56,O56,R56,U56,X56,AA56,AD56) | C56: =SUM(J56,M56,P56,S56,V56,Y56,AB56,AE56) | D56: =C56/1000000 | E56: =C56*2.20462262185/1000000 | F56: =IFERROR(B56/(C56/1000),0) | G56: =IFERROR(B56/(C56*2.20462262185),0) | AG56: 217730 | AH56: 256200 | AI56: =IFERROR(AG56/(AH56*2.20462262185),0) | AJ56: 0 | AK56: 0 | AL56: =IFERROR(AJ56/(AK56*2.20462262185),0) | AM56: 205352 | AN56: 227057 | AO56: =IFERROR(AM56/(AN56*2.20462262185),0) | AP56: 633310 | AQ56: 664425 | AR56: =IFERROR(AP56/(AQ56*2.20462262185),0) | AS56: 57156 | AT56: 52882 | AU56: =IFERROR(AS56/(AT56*2.20462262185),0) | AV56: 784983 | AW56: 670929 | AX56: =IFERROR(AV56/(AW56*2.20462262185),0) | AY56: 514162 | AZ56: 422066 | BA56: =IFERROR(AY56/(AZ56*2.20462262185),0) | BB56: 260020 | BC56: 199015 | BD56: =IFERROR(BB56/(BC56*2.20462262185),0) | BE56: 777728 | BF56: 623265 | BG56: =IFERROR(BE56/(BF56*2.20462262185),0) | BH56: 0 | BI56: 0 | BJ56: =IFERROR(BH56/(BI56*2.20462262185),0) | BK56: 249612 | BL56: 206900 | BM56: =IFERROR(BK56/(BL56*2.20462262185),0) | BN56: 12611 | BO56: 21880 | BP56: =IFERROR(BN56/(BO56*2.20462262185),0) | BQ56: 99435 | BR56: 88000 | BS56: =IFERROR(BQ56/(BR56*2.20462262185),0) | BT56: 85246 | BU56: 110000 | BV56: =IFERROR(BT56/(BU56*2.20462262185),0) | BW56: 33061 | BX56: 43880 | BY56: =IFERROR(BW56/(BX56*2.20462262185),0) | BZ56: 62114 | CA56: 88730 | CB56: =IFERROR(BZ56/(CA56*2.20462262185),0) | CC56: 0 | CD56: 0 | CE56: =IFERROR(CC56/(CD56*2.20462262185),0) | CF56: 0 | CG56: 0 | CH56: =IFERROR(CF56/(CG56*2.20462262185),0) | CI56: 0 | CJ56: 0 | CK56: =IFERROR(CI56/(CJ56*2.20462262185),0) | CL56: 9240 | CM56: 22120 | CN56: =IFERROR(CL56/(CM56*2.20462262185),0) | CO56: 79891 | CP56: 127980 | CQ56: =IFERROR(CO56/(CP56*2.20462262185),0) | CR56: 47214 | CS56: 67080 | CT56: =IFERROR(CR56/(CS56*2.20462262185),0) | CU56: 306540 | CV56: 336000 | CW56: =IFERROR(CU56/(CV56*2.20462262185),0) | CX56: 733549 | CY56: 817554 | CZ56: =IFERROR(CX56/(CY56*2.20462262185),0) | DA56: 397371 | DB56: 405031 | DC56: =IFERROR(DA56/(DB56*2.20462262185),0) | DD56: 687755 | DE56: 791677 | DF56: =IFERROR(DD56/(DE56*2.20462262185),0) | DG56: 272650 | DH56: 329369 | DI56: =IFERROR(DG56/(DH56*2.20462262185),0) | DJ56: 151493 | DK56: 176165 | DL56: =IFERROR(DJ56/(DK56*2.20462262185),0) | DM56: 0 | DN56: 0 | DO56: =IFERROR(DM56/(DN56*2.20462262185),0) | DP56: 281310 | DQ56: 298697 | DR56: =IFERROR(DP56/(DQ56*2.20462262185),0) | DS56: 0 | DT56: 0 | DU56: =IFERROR(DS56/(DT56*2.20462262185),0) | DV56: 449764 | DW56: 458995 | DX56: =IFERROR(DV56/(DW56*2.20462262185),0) | DY56: 0 | DZ56: 0 | EA56: =IFERROR(DY56/(DZ56*2.20462262185),0) | EB56: 118080 | EC56: 144000 | ED56: =IFERROR(EB56/(EC56*2.20462262185),0) | EK56: 0 | EL56: 0 | EM56: =IFERROR(EK56/(EL56*2.20462262185),0) | EN56: 9745 | EO56: 5955 | EP56: =IFERROR(EN56/(EO56*2.20462262185),0) | EQ56: 0 | ER56: 0 | ES56: =IFERROR(EQ56/(ER56*2.20462262185),0) | ET56: 0 | EU56: 0 | EV56: =IFERROR(ET56/(EU56*2.20462262185),0) | EW56: 46971 | EX56: 22000 | EY56: =IFERROR(EW56/(EX56*2.20462262185),0) | EZ56: 0 | FA56: 0 | FB56: =IFERROR(EZ56/(FA56*2.20462262185),0) | FC56: 23414 | FD56: 22000 | FE56: =IFERROR(FC56/(FD56*2.20462262185),0) | FF56: 0 | FG56: 0 | FH56: =IFERROR(FF56/(FG56*2.20462262185),0) | FI56: 0 | FJ56: 0 | FK56: =IFERROR(FI56/(FJ56*2.20462262185),0) | FL56: 79920 | FM56: 54910 | FN56: =IFERROR(FL56/(FM56*2.20462262185),0) | FO56: 221468 | FP56: 148100 | FQ56: =IFERROR(FO56/(FP56*2.20462262185),0) | FR56: 250700 | FS56: 172650 | FT56: =IFERROR(FR56/(FS56*2.20462262185),0)
A57: Costa Rica | B57: =SUM(I57,L57,O57,R57,U57,X57,AA57,AD57) | C57: =SUM(J57,M57,P57,S57,V57,Y57,AB57,AE57) | D57: =C57/1000000 | E57: =C57*2.20462262185/1000000 | F57: =IFERROR(B57/(C57/1000),0) | G57: =IFERROR(B57/(C57*2.20462262185),0) | AG57: 0 | AH57: 0 | AI57: =IFERROR(AG57/(AH57*2.20462262185),0) | AJ57: 0 | AK57: 0 | AL57: =IFERROR(AJ57/(AK57*2.20462262185),0) | AM57: 0 | AN57: 0 | AO57: =IFERROR(AM57/(AN57*2.20462262185),0) | AP57: 0 | AQ57: 0 | AR57: =IFERROR(AP57/(AQ57*2.20462262185),0) | AS57: 0 | AT57: 0 | AU57: =IFERROR(AS57/(AT57*2.20462262185),0) | AV57: 0 | AW57: 0 | AX57: =IFERROR(AV57/(AW57*2.20462262185),0) | AY57: 9992 | AZ57: 19592 | BA57: =IFERROR(AY57/(AZ57*2.20462262185),0) | BB57: 0 | BC57: 0 | BD57: =IFERROR(BB57/(BC57*2.20462262185),0) | BE57: 0 | BF57: 0 | BG57: =IFERROR(BE57/(BF57*2.20462262185),0) | BH57: 7077 | BI57: 19271 | BJ57: =IFERROR(BH57/(BI57*2.20462262185),0) | BQ57: 0 | BR57: 0 | BS57: =IFERROR(BQ57/(BR57*2.20462262185),0) | BT57: 0 | BU57: 0 | BV57: =IFERROR(BT57/(BU57*2.20462262185),0) | BW57: 0 | BX57: 0 | BY57: =IFERROR(BW57/(BX57*2.20462262185),0) | BZ57: 6851 | CA57: 19204 | CB57: =IFERROR(BZ57/(CA57*2.20462262185),0) | CC57: 0 | CD57: 0 | CE57: =IFERROR(CC57/(CD57*2.20462262185),0) | CF57: 12795 | CG57: 38104 | CH57: =IFERROR(CF57/(CG57*2.20462262185),0) | CI57: 0 | CJ57: 0 | CK57: =IFERROR(CI57/(CJ57*2.20462262185),0) | CL57: 0 | CM57: 0 | CN57: =IFERROR(CL57/(CM57*2.20462262185),0) | CO57: 6383 | CP57: 19010 | CQ57: =IFERROR(CO57/(CP57*2.20462262185),0) | CR57: 0 | CS57: 0 | CT57: =IFERROR(CR57/(CS57*2.20462262185),0) | CU57: 6353 | CV57: 18923 | CW57: =IFERROR(CU57/(CV57*2.20462262185),0) | DA57: 0 | DB57: 0 | DC57: =IFERROR(DA57/(DB57*2.20462262185),0) | DD57: 14797 | DE57: 6123 | DF57: =IFERROR(DD57/(DE57*2.20462262185),0)
A58: Jamaica | B58: =SUM(I58,L58,O58,R58,U58,X58,AA58,AD58) | C58: =SUM(J58,M58,P58,S58,V58,Y58,AB58,AE58) | D58: =C58/1000000 | E58: =C58*2.20462262185/1000000 | F58: =IFERROR(B58/(C58/1000),0) | G58: =IFERROR(B58/(C58*2.20462262185),0) | AG58: 0 | AH58: 0 | AI58: =IFERROR(AG58/(AH58*2.20462262185),0) | AJ58: 0 | AK58: 0 | AL58: =IFERROR(AJ58/(AK58*2.20462262185),0) | AM58: 0 | AN58: 0 | AO58: =IFERROR(AM58/(AN58*2.20462262185),0) | AP58: 0 | AQ58: 0 | AR58: =IFERROR(AP58/(AQ58*2.20462262185),0) | AS58: 0 | AT58: 0 | AU58: =IFERROR(AS58/(AT58*2.20462262185),0) | AV58: 0 | AW58: 0 | AX58: =IFERROR(AV58/(AW58*2.20462262185),0) | AY58: 0 | AZ58: 0 | BA58: =IFERROR(AY58/(AZ58*2.20462262185),0) | BB58: 0 | BC58: 0 | BD58: =IFERROR(BB58/(BC58*2.20462262185),0) | BE58: 0 | BF58: 0 | BG58: =IFERROR(BE58/(BF58*2.20462262185),0) | BH58: 4602 | BI58: 11834 | BJ58: =IFERROR(BH58/(BI58*2.20462262185),0) | BQ58: 0 | BR58: 0 | BS58: =IFERROR(BQ58/(BR58*2.20462262185),0) | BT58: 0 | BU58: 0 | BV58: =IFERROR(BT58/(BU58*2.20462262185),0) | BW58: 0 | BX58: 0 | BY58: =IFERROR(BW58/(BX58*2.20462262185),0) | BZ58: 0 | CA58: 0 | CB58: =IFERROR(BZ58/(CA58*2.20462262185),0) | CC58: 0 | CD58: 0 | CE58: =IFERROR(CC58/(CD58*2.20462262185),0) | CF58: 0 | CG58: 0 | CH58: =IFERROR(CF58/(CG58*2.20462262185),0) | CI58: 3787 | CJ58: 13770 | CK58: =IFERROR(CI58/(CJ58*2.20462262185),0) | CL58: 9366 | CM58: 15000 | CN58: =IFERROR(CL58/(CM58*2.20462262185),0) | CO58: 0 | CP58: 0 | CQ58: =IFERROR(CO58/(CP58*2.20462262185),0) | CR58: 0 | CS58: 0 | CT58: =IFERROR(CR58/(CS58*2.20462262185),0) | CU58: 8857 | CV58: 15710 | CW58: =IFERROR(CU58/(CV58*2.20462262185),0) | DA58: 8656 | DB58: 15710 | DC58: =IFERROR(DA58/(DB58*2.20462262185),0)
A59: Kenya | B59: =SUM(I59,L59,O59,R59,U59,X59,AA59,AD59) | C59: =SUM(J59,M59,P59,S59,V59,Y59,AB59,AE59) | D59: =C59/1000000 | E59: =C59*2.20462262185/1000000 | F59: =IFERROR(B59/(C59/1000),0) | G59: =IFERROR(B59/(C59*2.20462262185),0) | AG59: 108712 | AH59: 188041 | AI59: =IFERROR(AG59/(AH59*2.20462262185),0) | AJ59: 37013 | AK59: 66830 | AL59: =IFERROR(AJ59/(AK59*2.20462262185),0) | AM59: 122370 | AN59: 206240 | AO59: =IFERROR(AM59/(AN59*2.20462262185),0) | AP59: 0 | AQ59: 0 | AR59: =IFERROR(AP59/(AQ59*2.20462262185),0) | AS59: 255582 | AT59: 447440 | AU59: =IFERROR(AS59/(AT59*2.20462262185),0) | AV59: 107522 | AW59: 181490 | AX59: =IFERROR(AV59/(AW59*2.20462262185),0) | AY59: 0 | AZ59: 0 | BA59: =IFERROR(AY59/(AZ59*2.20462262185),0) | BB59: 0 | BC59: 0 | BD59: =IFERROR(BB59/(BC59*2.20462262185),0) | BE59: 71290 | BF59: 104747 | BG59: =IFERROR(BE59/(BF59*2.20462262185),0)
A60: Kuwait | B60: =SUM(I60,L60,O60,R60,U60,X60,AA60,AD60) | C60: =SUM(J60,M60,P60,S60,V60,Y60,AB60,AE60) | D60: =C60/1000000 | E60: =C60*2.20462262185/1000000 | F60: =IFERROR(B60/(C60/1000),0) | G60: =IFERROR(B60/(C60*2.20462262185),0) | BQ60: 0 | BR60: 0 | BS60: =IFERROR(BQ60/(BR60*2.20462262185),0) | BT60: 0 | BU60: 0 | BV60: =IFERROR(BT60/(BU60*2.20462262185),0) | BW60: 0 | BX60: 0 | BY60: =IFERROR(BW60/(BX60*2.20462262185),0) | BZ60: 0 | CA60: 0 | CB60: =IFERROR(BZ60/(CA60*2.20462262185),0) | CC60: 0 | CD60: 0 | CE60: =IFERROR(CC60/(CD60*2.20462262185),0) | CF60: 0 | CG60: 0 | CH60: =IFERROR(CF60/(CG60*2.20462262185),0) | CI60: 0 | CJ60: 0 | CK60: =IFERROR(CI60/(CJ60*2.20462262185),0) | CL60: 0 | CM60: 0 | CN60: =IFERROR(CL60/(CM60*2.20462262185),0) | CO60: 0 | CP60: 0 | CQ60: =IFERROR(CO60/(CP60*2.20462262185),0) | CR60: 0 | CS60: 0 | CT60: =IFERROR(CR60/(CS60*2.20462262185),0) | CU60: 0 | CV60: 0 | CW60: =IFERROR(CU60/(CV60*2.20462262185),0) | CX60: 20544 | CY60: 25680 | CZ60: =IFERROR(CX60/(CY60*2.20462262185),0)
A61: Lithuania | B61: =SUM(I61,L61,O61,R61,U61,X61,AA61,AD61) | C61: =SUM(J61,M61,P61,S61,V61,Y61,AB61,AE61) | D61: =C61/1000000 | E61: =C61*2.20462262185/1000000 | F61: =IFERROR(B61/(C61/1000),0) | G61: =IFERROR(B61/(C61*2.20462262185),0) | AG61: 0 | AH61: 0 | AI61: =IFERROR(AG61/(AH61*2.20462262185),0) | AJ61: 0 | AK61: 0 | AL61: =IFERROR(AJ61/(AK61*2.20462262185),0) | AM61: 0 | AN61: 0 | AO61: =IFERROR(AM61/(AN61*2.20462262185),0) | AP61: 0 | AQ61: 0 | AR61: =IFERROR(AP61/(AQ61*2.20462262185),0) | AS61: 19530 | AT61: 19731 | AU61: =IFERROR(AS61/(AT61*2.20462262185),0) | AV61: 0 | AW61: 0 | AX61: =IFERROR(AV61/(AW61*2.20462262185),0) | AY61: 0 | AZ61: 0 | BA61: =IFERROR(AY61/(AZ61*2.20462262185),0) | BB61: 0 | BC61: 0 | BD61: =IFERROR(BB61/(BC61*2.20462262185),0) | BE61: 823 | BF61: 600 | BG61: =IFERROR(BE61/(BF61*2.20462262185),0)
A62: Luxembourg | B62: =SUM(I62,L62,O62,R62,U62,X62,AA62,AD62) | C62: =SUM(J62,M62,P62,S62,V62,Y62,AB62,AE62) | D62: =C62/1000000 | E62: =C62*2.20462262185/1000000 | F62: =IFERROR(B62/(C62/1000),0) | G62: =IFERROR(B62/(C62*2.20462262185),0) | EK62: 19771 | EL62: 800 | EM62: =IFERROR(EK62/(EL62*2.20462262185),0)
A63: Nicaragua | B63: =SUM(I63,L63,O63,R63,U63,X63,AA63,AD63) | C63: =SUM(J63,M63,P63,S63,V63,Y63,AB63,AE63) | D63: =C63/1000000 | E63: =C63*2.20462262185/1000000 | F63: =IFERROR(B63/(C63/1000),0) | G63: =IFERROR(B63/(C63*2.20462262185),0) | AG63: 0 | AH63: 0 | AI63: =IFERROR(AG63/(AH63*2.20462262185),0) | AJ63: 0 | AK63: 0 | AL63: =IFERROR(AJ63/(AK63*2.20462262185),0) | AM63: 0 | AN63: 0 | AO63: =IFERROR(AM63/(AN63*2.20462262185),0) | AP63: 0 | AQ63: 0 | AR63: =IFERROR(AP63/(AQ63*2.20462262185),0) | AS63: 16211 | AT63: 19769 | AU63: =IFERROR(AS63/(AT63*2.20462262185),0) | AV63: 24156 | AW63: 38961 | AX63: =IFERROR(AV63/(AW63*2.20462262185),0) | AY63: 39604 | AZ63: 39604 | BA63: =IFERROR(AY63/(AZ63*2.20462262185),0) | BB63: 0 | BC63: 0 | BD63: =IFERROR(BB63/(BC63*2.20462262185),0) | BE63: 0 | BF63: 0 | BG63: =IFERROR(BE63/(BF63*2.20462262185),0) | BH63: 16537 | BI63: 19687 | BJ63: =IFERROR(BH63/(BI63*2.20462262185),0) | BQ63: 0 | BR63: 0 | BS63: =IFERROR(BQ63/(BR63*2.20462262185),0) | BT63: 0 | BU63: 0 | BV63: =IFERROR(BT63/(BU63*2.20462262185),0) | BW63: 0 | BX63: 0 | BY63: =IFERROR(BW63/(BX63*2.20462262185),0) | BZ63: 0 | CA63: 0 | CB63: =IFERROR(BZ63/(CA63*2.20462262185),0) | CC63: 0 | CD63: 0 | CE63: =IFERROR(CC63/(CD63*2.20462262185),0) | CF63: 30027 | CG63: 42277 | CH63: =IFERROR(CF63/(CG63*2.20462262185),0) | CI63: 0 | CJ63: 0 | CK63: =IFERROR(CI63/(CJ63*2.20462262185),0) | CL63: 33686 | CM63: 42727 | CN63: =IFERROR(CL63/(CM63*2.20462262185),0) | CO63: 0 | CP63: 0 | CQ63: =IFERROR(CO63/(CP63*2.20462262185),0) | CR63: 36105 | CS63: 44975 | CT63: =IFERROR(CR63/(CS63*2.20462262185),0) | CU63: 0 | CV63: 0 | CW63: =IFERROR(CU63/(CV63*2.20462262185),0) | CX63: 13469 | CY63: 19241 | CZ63: =IFERROR(CX63/(CY63*2.20462262185),0) | DA63: 0 | DB63: 0 | DC63: =IFERROR(DA63/(DB63*2.20462262185),0) | DD63: 13167 | DE63: 22507 | DF63: =IFERROR(DD63/(DE63*2.20462262185),0) | DG63: 17051 | DH63: 23160 | DI63: =IFERROR(DG63/(DH63*2.20462262185),0) | DJ63: 0 | DK63: 0 | DL63: =IFERROR(DJ63/(DK63*2.20462262185),0) | DM63: 0 | DN63: 0 | DO63: =IFERROR(DM63/(DN63*2.20462262185),0) | DP63: 0 | DQ63: 0 | DR63: =IFERROR(DP63/(DQ63*2.20462262185),0) | DS63: 0 | DT63: 0 | DU63: =IFERROR(DS63/(DT63*2.20462262185),0) | DV63: 17684 | DW63: 22105 | DX63: =IFERROR(DV63/(DW63*2.20462262185),0) | DY63: 0 | DZ63: 0 | EA63: =IFERROR(DY63/(DZ63*2.20462262185),0) | EB63: 0 | EC63: 0 | ED63: =IFERROR(EB63/(EC63*2.20462262185),0) | EE63: 36687 | EF63: 44470 | EG63: =IFERROR(EE63/(EF63*2.20462262185),0) | EK63: 0 | EL63: 0 | EM63: =IFERROR(EK63/(EL63*2.20462262185),0) | EN63: 0 | EO63: 0 | EP63: =IFERROR(EN63/(EO63*2.20462262185),0) | EQ63: 0 | ER63: 0 | ES63: =IFERROR(EQ63/(ER63*2.20462262185),0) | ET63: 61567 | EU63: 67366 | EV63: =IFERROR(ET63/(EU63*2.20462262185),0) | EW63: 92665 | EX63: 83325 | EY63: =IFERROR(EW63/(EX63*2.20462262185),0) | EZ63: 127724 | FA63: 87214 | FB63: =IFERROR(EZ63/(FA63*2.20462262185),0) | FC63: 22320 | FD63: 22824 | FE63: =IFERROR(FC63/(FD63*2.20462262185),0) | FF63: 0 | FG63: 0 | FH63: =IFERROR(FF63/(FG63*2.20462262185),0) | FI63: 0 | FJ63: 0 | FK63: =IFERROR(FI63/(FJ63*2.20462262185),0) | FL63: 0 | FM63: 0 | FN63: =IFERROR(FL63/(FM63*2.20462262185),0) | FO63: 0 | FP63: 0 | FQ63: =IFERROR(FO63/(FP63*2.20462262185),0) | FR63: 13391 | FS63: 22717 | FT63: =IFERROR(FR63/(FS63*2.20462262185),0)
A64: Panama | B64: =SUM(I64,L64,O64,R64,U64,X64,AA64,AD64) | C64: =SUM(J64,M64,P64,S64,V64,Y64,AB64,AE64) | D64: =C64/1000000 | E64: =C64*2.20462262185/1000000 | F64: =IFERROR(B64/(C64/1000),0) | G64: =IFERROR(B64/(C64*2.20462262185),0) | AG64: 0 | AH64: 0 | AI64: =IFERROR(AG64/(AH64*2.20462262185),0) | AJ64: 13574 | AK64: 20009 | AL64: =IFERROR(AJ64/(AK64*2.20462262185),0) | AM64: 0 | AN64: 0 | AO64: =IFERROR(AM64/(AN64*2.20462262185),0) | AP64: 13462 | AQ64: 19534 | AR64: =IFERROR(AP64/(AQ64*2.20462262185),0) | AS64: 113777 | AT64: 129442 | AU64: =IFERROR(AS64/(AT64*2.20462262185),0) | AV64: 28858 | AW64: 68893 | AX64: =IFERROR(AV64/(AW64*2.20462262185),0) | AY64: 14372 | AZ64: 32595 | BA64: =IFERROR(AY64/(AZ64*2.20462262185),0) | BB64: 0 | BC64: 0 | BD64: =IFERROR(BB64/(BC64*2.20462262185),0) | BE64: 0 | BF64: 0 | BG64: =IFERROR(BE64/(BF64*2.20462262185),0) | BH64: 13832 | BI64: 31370 | BJ64: =IFERROR(BH64/(BI64*2.20462262185),0) | BK64: 13781 | BL64: 31255 | BM64: =IFERROR(BK64/(BL64*2.20462262185),0)
A65: Singapore | B65: =SUM(I65,L65,O65,R65,U65,X65,AA65,AD65) | C65: =SUM(J65,M65,P65,S65,V65,Y65,AB65,AE65) | D65: =C65/1000000 | E65: =C65*2.20462262185/1000000 | F65: =IFERROR(B65/(C65/1000),0) | G65: =IFERROR(B65/(C65*2.20462262185),0) | DA65: 0 | DB65: 0 | DC65: =IFERROR(DA65/(DB65*2.20462262185),0) | DD65: 0 | DE65: 0 | DF65: =IFERROR(DD65/(DE65*2.20462262185),0) | DG65: 0 | DH65: 0 | DI65: =IFERROR(DG65/(DH65*2.20462262185),0) | DJ65: 0 | DK65: 0 | DL65: =IFERROR(DJ65/(DK65*2.20462262185),0) | DM65: 0 | DN65: 0 | DO65: =IFERROR(DM65/(DN65*2.20462262185),0) | DP65: 0 | DQ65: 0 | DR65: =IFERROR(DP65/(DQ65*2.20462262185),0) | DS65: 0 | DT65: 0 | DU65: =IFERROR(DS65/(DT65*2.20462262185),0) | DV65: 0 | DW65: 0 | DX65: =IFERROR(DV65/(DW65*2.20462262185),0) | DY65: 0 | DZ65: 0 | EA65: =IFERROR(DY65/(DZ65*2.20462262185),0) | EB65: 36740 | EC65: 25000 | ED65: =IFERROR(EB65/(EC65*2.20462262185),0)
A66: South Africa | B66: =SUM(I66,L66,O66,R66,U66,X66,AA66,AD66) | C66: =SUM(J66,M66,P66,S66,V66,Y66,AB66,AE66) | D66: =C66/1000000 | E66: =C66*2.20462262185/1000000 | F66: =IFERROR(B66/(C66/1000),0) | G66: =IFERROR(B66/(C66*2.20462262185),0) | AG66: 0 | AH66: 0 | AI66: =IFERROR(AG66/(AH66*2.20462262185),0) | AJ66: 0 | AK66: 0 | AL66: =IFERROR(AJ66/(AK66*2.20462262185),0) | AM66: 0 | AN66: 0 | AO66: =IFERROR(AM66/(AN66*2.20462262185),0) | AP66: 0 | AQ66: 0 | AR66: =IFERROR(AP66/(AQ66*2.20462262185),0) | AS66: 0 | AT66: 0 | AU66: =IFERROR(AS66/(AT66*2.20462262185),0) | AV66: 0 | AW66: 0 | AX66: =IFERROR(AV66/(AW66*2.20462262185),0) | AY66: 0 | AZ66: 0 | BA66: =IFERROR(AY66/(AZ66*2.20462262185),0) | BB66: 23195 | BC66: 21000 | BD66: =IFERROR(BB66/(BC66*2.20462262185),0) | BE66: 50400 | BF66: 21000 | BG66: =IFERROR(BE66/(BF66*2.20462262185),0) | BQ66: 0 | BR66: 0 | BS66: =IFERROR(BQ66/(BR66*2.20462262185),0) | BT66: 0 | BU66: 0 | BV66: =IFERROR(BT66/(BU66*2.20462262185),0) | BW66: 0 | BX66: 0 | BY66: =IFERROR(BW66/(BX66*2.20462262185),0) | BZ66: 0 | CA66: 0 | CB66: =IFERROR(BZ66/(CA66*2.20462262185),0) | CC66: 0 | CD66: 0 | CE66: =IFERROR(CC66/(CD66*2.20462262185),0) | CF66: 0 | CG66: 0 | CH66: =IFERROR(CF66/(CG66*2.20462262185),0) | CI66: 0 | CJ66: 0 | CK66: =IFERROR(CI66/(CJ66*2.20462262185),0) | CL66: 0 | CM66: 0 | CN66: =IFERROR(CL66/(CM66*2.20462262185),0) | CO66: 0 | CP66: 0 | CQ66: =IFERROR(CO66/(CP66*2.20462262185),0) | CR66: 74187 | CS66: 89010 | CT66: =IFERROR(CR66/(CS66*2.20462262185),0) | DA66: 0 | DB66: 0 | DC66: =IFERROR(DA66/(DB66*2.20462262185),0) | DD66: 0 | DE66: 0 | DF66: =IFERROR(DD66/(DE66*2.20462262185),0) | DG66: 0 | DH66: 0 | DI66: =IFERROR(DG66/(DH66*2.20462262185),0) | DJ66: 0 | DK66: 0 | DL66: =IFERROR(DJ66/(DK66*2.20462262185),0) | DM66: 0 | DN66: 0 | DO66: =IFERROR(DM66/(DN66*2.20462262185),0) | DP66: 0 | DQ66: 0 | DR66: =IFERROR(DP66/(DQ66*2.20462262185),0) | DS66: 522720 | DT66: 484000 | DU66: =IFERROR(DS66/(DT66*2.20462262185),0) | DV66: 1401180 | DW66: 1320000 | DX66: =IFERROR(DV66/(DW66*2.20462262185),0) | EK66: 0 | EL66: 0 | EM66: =IFERROR(EK66/(EL66*2.20462262185),0) | EN66: 0 | EO66: 0 | EP66: =IFERROR(EN66/(EO66*2.20462262185),0) | EQ66: 0 | ER66: 0 | ES66: =IFERROR(EQ66/(ER66*2.20462262185),0) | ET66: 0 | EU66: 0 | EV66: =IFERROR(ET66/(EU66*2.20462262185),0) | EW66: 237600 | EX66: 176000 | EY66: =IFERROR(EW66/(EX66*2.20462262185),0) | EZ66: 0 | FA66: 0 | FB66: =IFERROR(EZ66/(FA66*2.20462262185),0) | FC66: 0 | FD66: 0 | FE66: =IFERROR(FC66/(FD66*2.20462262185),0) | FF66: 0 | FG66: 0 | FH66: =IFERROR(FF66/(FG66*2.20462262185),0) | FI66: 118572 | FJ66: 95700 | FK66: =IFERROR(FI66/(FJ66*2.20462262185),0)

Sheet Imp 3907610050
A1: IMPORTS 3907.61.0050 — IV > 0.88 high IV
A2: Country | B2: YTD 2026 | I2: August 2026 | L2: July 2026 | O2: June 2026 | R2: May 2026 | U2: April 2026 | X2: March 2026 | AA2: February 2026 | AD2: January 2026 | AG2: December 2025 | AJ2: November 2025 | AM2: October 2025 | AP2: September 2025 | AS2: August 2025 | AV2: July 2025 | AY2: June 2025 | BB2: May 2025 | BE2: April 2025 | BH2: March 2025 | BK2: February 2025 | BN2: January 2025 | BQ2: December 2024 | BT2: November 2024 | BW2: October 2024 | BZ2: September 2024 | CC2: August 2024 | CF2: July 2024 | CI2: June 2024 | CL2: May 2024 | CO2: April 2024 | CR2: March 2024 | CU2: February 2024 | CX2: January 2024 | DA2: December 2023 | DD2: November 2023 | DG2: October 2023 | DJ2: September 2023 | DM2: August 2023 | DP2: July 2023 | DS2: June 2023 | DV2: May 2023 | DY2: April 2023 | EB2: March 2023 | EE2: February 2023 | EH2: January 2023 | EK2: December 2022 | EN2: November 2022 | EQ2: October 2022 | ET2: September 2022 | EW2: August 2022 | EZ2: July 2022 | FC2: June 2022 | FF2: May 2022 | FI2: April 2022 | FL2: March 2022 | FO2: February 2022 | FR2: January 2022
B3: Value | C3: Quantity | D3: Quantity | E3: Quantity | F3: Price | G3: Price | I3: Value | J3: Quantity | K3: Price | L3: Value | M3: Quantity | N3: Price | O3: Value | P3: Quantity | Q3: Price | R3: Value | S3: Quantity | T3: Price | U3: Value | V3: Quantity | W3: Price | X3: Value | Y3: Quantity | Z3: Price | AA3: Value | AB3: Quantity | AC3: Price | AD3: Value | AE3: Quantity | AF3: Price | AG3: Value | AH3: Quantity | AI3: Price | AJ3: Value | AK3: Quantity | AL3: Price | AM3: Value | AN3: Quantity | AO3: Price | AP3: Value | AQ3: Quantity | AR3: Price | AS3: Value | AT3: Quantity | AU3: Price | AV3: Value | AW3: Quantity | AX3: Price | AY3: Value | AZ3: Quantity | BA3: Price | BB3: Value | BC3: Quantity | BD3: Price | BE3: Value | BF3: Quantity | BG3: Price | BH3: Value | BI3: Quantity | BJ3: Price | BK3: Value | BL3: Quantity | BM3: Price | BN3: Value | BO3: Quantity | BP3: Price | BQ3: Value | BR3: Quantity | BS3: Price | BT3: Value | BU3: Quantity | BV3: Price | BW3: Value | BX3: Quantity | BY3: Price | BZ3: Value | CA3: Quantity | CB3: Price | CC3: Value | CD3: Quantity | CE3: Price | CF3: Value | CG3: Quantity | CH3: Price | CI3: Value | CJ3: Quantity | CK3: Price | CL3: Value | CM3: Quantity | CN3: Price | CO3: Value | CP3: Quantity | CQ3: Price | CR3: Value | CS3: Quantity | CT3: Price | CU3: Value | CV3: Quantity | CW3: Price | CX3: Value | CY3: Quantity | CZ3: Price | DA3: Value | DB3: Quantity | DC3: Price | DD3: Value | DE3: Quantity | DF3: Price | DG3: Value | DH3: Quantity | DI3: Price | DJ3: Value | DK3: Quantity | DL3: Price | DM3: Value | DN3: Quantity | DO3: Price | DP3: Value | DQ3: Quantity | DR3: Price | DS3: Value | DT3: Quantity | DU3: Price | DV3: Value | DW3: Quantity | DX3: Price | DY3: Value | DZ3: Quantity | EA3: Price | EB3: Value | EC3: Quantity | ED3: Price | EE3: Value | EF3: Quantity | EG3: Price | EH3: Value | EI3: Quantity | EJ3: Price | EK3: Value | EL3: Quantity | EM3: Price | EN3: Value | EO3: Quantity | EP3: Price | EQ3: Value | ER3: Quantity | ES3: Price | ET3: Value | EU3: Quantity | EV3: Price | EW3: Value | EX3: Quantity | EY3: Price | EZ3: Value | FA3: Quantity | FB3: Price | FC3: Value | FD3: Quantity | FE3: Price | FF3: Value | FG3: Quantity | FH3: Price | FI3: Value | FJ3: Quantity | FK3: Price | FL3: Value | FM3: Quantity | FN3: Price | FO3: Value | FP3: Quantity | FQ3: Price | FR3: Value | FS3: Quantity | FT3: Price
B4: US$ | C4: KG | D4: KMT | E4: MM lbs | F4: $/ton | G4: $/lb | I4: US$ | J4: KG | K4: $/lb | L4: US$ | M4: KG | N4: $/lb | O4: US$ | P4: KG | Q4: $/lb | R4: US$ | S4: KG | T4: $/lb | U4: US$ | V4: KG | W4: $/lb | X4: US$ | Y4: KG | Z4: $/lb | AA4: US$ | AB4: KG | AC4: $/lb | AD4: US$ | AE4: KG | AF4: $/lb | AG4: US$ | AH4: KG | AI4: $/lb | AJ4: US$ | AK4: KG | AL4: $/lb | AM4: US$ | AN4: KG | AO4: $/lb | AP4: US$ | AQ4: KG | AR4: $/lb | AS4: US$ | AT4: KG | AU4: $/lb | AV4: US$ | AW4: KG | AX4: $/lb | AY4: US$ | AZ4: KG | BA4: $/lb | BB4: US$ | BC4: KG | BD4: $/lb | BE4: US$ | BF4: KG | BG4: $/lb | BH4: US$ | BI4: KG | BJ4: $/lb | BK4: US$ | BL4: KG | BM4: $/lb | BN4: US$ | BO4: KG | BP4: $/lb | BQ4: US$ | BR4: KG | BS4: $/lb | BT4: US$ | BU4: KG | BV4: $/lb | BW4: US$ | BX4: KG | BY4: $/lb | BZ4: US$ | CA4: KG | CB4: $/lb | CC4: US$ | CD4: KG | CE4: $/lb | CF4: US$ | CG4: KG | CH4: $/lb | CI4: US$ | CJ4: KG | CK4: $/lb | CL4: US$ | CM4: KG | CN4: $/lb | CO4: US$ | CP4: KG | CQ4: $/lb | CR4: US$ | CS4: KG | CT4: $/lb | CU4: US$ | CV4: KG | CW4: $/lb | CX4: US$ | CY4: KG | CZ4: $/lb | DA4: US$ | DB4: KG | DC4: $/lb | DD4: US$ | DE4: KG | DF4: $/lb | DG4: US$ | DH4: KG | DI4: $/lb | DJ4: US$ | DK4: KG | DL4: $/lb | DM4: US$ | DN4: KG | DO4: $/lb | DP4: US$ | DQ4: KG | DR4: $/lb | DS4: US$ | DT4: KG | DU4: $/lb | DV4: US$ | DW4: KG | DX4: $/lb | DY4: US$ | DZ4: KG | EA4: $/lb | EB4: US$ | EC4: KG | ED4: $/lb | EE4: US$ | EF4: KG | EG4: $/lb | EH4: US$ | EI4: KG | EJ4: $/lb | EK4: US$ | EL4: KG | EM4: $/lb | EN4: US$ | EO4: KG | EP4: $/lb | EQ4: US$ | ER4: KG | ES4: $/lb | ET4: US$ | EU4: KG | EV4: $/lb | EW4: US$ | EX4: KG | EY4: $/lb | EZ4: US$ | FA4: KG | FB4: $/lb | FC4: US$ | FD4: KG | FE4: $/lb | FF4: US$ | FG4: KG | FH4: $/lb | FI4: US$ | FJ4: KG | FK4: $/lb | FL4: US$ | FM4: KG | FN4: $/lb | FO4: US$ | FP4: KG | FQ4: $/lb | FR4: US$ | FS4: KG | FT4: $/lb
A5: World Total | B5: =SUM(I5,L5,O5,R5,U5,X5,AA5,AD5) | C5: =SUM(J5,M5,P5,S5,V5,Y5,AB5,AE5) | D5: =C5/1000000 | E5: =C5*2.20462262185/1000000 | F5: =IFERROR(B5/(C5/1000),0) | G5: =IFERROR(B5/(C5*2.20462262185),0) | I5: 32534996 | J5: 26343248 | K5: =IFERROR(I5/(J5*2.20462262185),0) | L5: 59600232 | M5: 46460437 | N5: =IFERROR(L5/(M5*2.20462262185),0) | O5: 48569670 | P5: 40650105 | Q5: =IFERROR(O5/(P5*2.20462262185),0) | R5: 38446690 | S5: 33282536 | T5: =IFERROR(R5/(S5*2.20462262185),0) | U5: 35452725 | V5: 37412067 | W5: =IFERROR(U5/(V5*2.20462262185),0) | X5: 28699701 | Y5: 29360299 | Z5: =IFERROR(X5/(Y5*2.20462262185),0) | AA5: 20729978 | AB5: 21935444 | AC5: =IFERROR(AA5/(AB5*2.20462262185),0) | AD5: 24414065 | AE5: 26217124 | AF5: =IFERROR(AD5/(AE5*2.20462262185),0) | AG5: 33383616 | AH5: 34753088 | AI5: =IFERROR(AG5/(AH5*2.20462262185),0) | AJ5: 21637718 | AK5: 22532765 | AL5: =IFERROR(AJ5/(AK5*2.20462262185),0) | AM5: 24248691 | AN5: 24781110 | AO5: =IFERROR(AM5/(AN5*2.20462262185),0) | AP5: 33232049 | AQ5: 31284724 | AR5: =IFERROR(AP5/(AQ5*2.20462262185),0) | AS5: 31051209 | AT5: 28906817 | AU5: =IFERROR(AS5/(AT5*2.20462262185),0) | AV5: 34578522 | AW5: 32422252 | AX5: =IFERROR(AV5/(AW5*2.20462262185),0) | AY5: 30659875 | AZ5: 27374005 | BA5: =IFERROR(AY5/(AZ5*2.20462262185),0) | BB5: 28937104 | BC5: 25065487 | BD5: =IFERROR(BB5/(BC5*2.20462262185),0) | BE5: 36933225 | BF5: 32759966 | BG5: =IFERROR(BE5/(BF5*2.20462262185),0) | BH5: 40950045 | BI5: 34326699 | BJ5: =IFERROR(BH5/(BI5*2.20462262185),0) | BK5: 32444852 | BL5: 28084553 | BM5: =IFERROR(BK5/(BL5*2.20462262185),0) | BN5: 42179239 | BO5: 35306661 | BP5: =IFERROR(BN5/(BO5*2.20462262185),0) | BQ5: 26366946 | BR5: 21314408 | BS5: =IFERROR(BQ5/(BR5*2.20462262185),0) | BT5: 32249660 | BU5: 26339098 | BV5: =IFERROR(BT5/(BU5*2.20462262185),0) | BW5: 30723147 | BX5: 24198057 | BY5: =IFERROR(BW5/(BX5*2.20462262185),0) | BZ5: 28835386 | CA5: 21458710 | CB5: =IFERROR(BZ5/(CA5*2.20462262185),0) | CC5: 34961876 | CD5: 27211464 | CE5: =IFERROR(CC5/(CD5*2.20462262185),0) | CF5: 37237169 | CG5: 32149228 | CH5: =IFERROR(CF5/(CG5*2.20462262185),0) | CI5: 24055048 | CJ5: 21130625 | CK5: =IFERROR(CI5/(CJ5*2.20462262185),0) | CL5: 23774711 | CM5: 19626122 | CN5: =IFERROR(CL5/(CM5*2.20462262185),0) | CO5: 44087195 | CP5: 39708426 | CQ5: =IFERROR(CO5/(CP5*2.20462262185),0) | CR5: 37651156 | CS5: 33259324 | CT5: =IFERROR(CR5/(CS5*2.20462262185),0) | CU5: 31325310 | CV5: 28398279 | CW5: =IFERROR(CU5/(CV5*2.20462262185),0) | CX5: 39225520 | CY5: 37817663 | CZ5: =IFERROR(CX5/(CY5*2.20462262185),0) | DA5: 36612879 | DB5: 33646301 | DC5: =IFERROR(DA5/(DB5*2.20462262185),0) | DD5: 38234017 | DE5: 33545903 | DF5: =IFERROR(DD5/(DE5*2.20462262185),0) | DG5: 35242082 | DH5: 32957654 | DI5: =IFERROR(DG5/(DH5*2.20462262185),0) | DJ5: 33526964 | DK5: 26936663 | DL5: =IFERROR(DJ5/(DK5*2.20462262185),0) | DM5: 29417329 | DN5: 23371530 | DO5: =IFERROR(DM5/(DN5*2.20462262185),0) | DP5: 38839321 | DQ5: 32145478 | DR5: =IFERROR(DP5/(DQ5*2.20462262185),0) | DS5: 34668553 | DT5: 29576034 | DU5: =IFERROR(DS5/(DT5*2.20462262185),0) | DV5: 51936542 | DW5: 42531611 | DX5: =IFERROR(DV5/(DW5*2.20462262185),0) | DY5: 37551640 | DZ5: 31421948 | EA5: =IFERROR(DY5/(DZ5*2.20462262185),0) | EB5: 39015475 | EC5: 30807171 | ED5: =IFERROR(EB5/(EC5*2.20462262185),0) | EE5: 35536212 | EF5: 30356034 | EG5: =IFERROR(EE5/(EF5*2.20462262185),0) | EH5: 43841871 | EI5: 38448435 | EJ5: =IFERROR(EH5/(EI5*2.20462262185),0) | EK5: 40295103 | EL5: 32355617 | EM5: =IFERROR(EK5/(EL5*2.20462262185),0) | EN5: 26802333 | EO5: 19293469 | EP5: =IFERROR(EN5/(EO5*2.20462262185),0) | EQ5: 28704307 | ER5: 20272755 | ES5: =IFERROR(EQ5/(ER5*2.20462262185),0) | ET5: 51769782 | EU5: 36299424 | EV5: =IFERROR(ET5/(EU5*2.20462262185),0) | EW5: 48732399 | EX5: 31381834 | EY5: =IFERROR(EW5/(EX5*2.20462262185),0) | EZ5: 39322754 | FA5: 24988602 | FB5: =IFERROR(EZ5/(FA5*2.20462262185),0) | FC5: 51548881 | FD5: 35310781 | FE5: =IFERROR(FC5/(FD5*2.20462262185),0) | FF5: 61178653 | FG5: 41156218 | FH5: =IFERROR(FF5/(FG5*2.20462262185),0) | FI5: 63681536 | FJ5: 45100147 | FK5: =IFERROR(FI5/(FJ5*2.20462262185),0) | FL5: 70668993 | FM5: 50933540 | FN5: =IFERROR(FL5/(FM5*2.20462262185),0) | FO5: 65055983 | FP5: 46079837 | FQ5: =IFERROR(FO5/(FP5*2.20462262185),0) | FR5: 48408096 | FS5: 36974478 | FT5: =IFERROR(FR5/(FS5*2.20462262185),0)
A6: Thailand | B6: =SUM(I6,L6,O6,R6,U6,X6,AA6,AD6) | C6: =SUM(J6,M6,P6,S6,V6,Y6,AB6,AE6) | D6: =C6/1000000 | E6: =C6*2.20462262185/1000000 | F6: =IFERROR(B6/(C6/1000),0) | G6: =IFERROR(B6/(C6*2.20462262185),0) | I6: 5349208 | J6: 4873904 | K6: =IFERROR(I6/(J6*2.20462262185),0) | L6: 7079872 | M6: 6532805 | N6: =IFERROR(L6/(M6*2.20462262185),0) | O6: 5863656 | P6: 6219838 | Q6: =IFERROR(O6/(P6*2.20462262185),0) | R6: 5081933 | S6: 5817073 | T6: =IFERROR(R6/(S6*2.20462262185),0) | U6: 7244013 | V6: 8081422 | W6: =IFERROR(U6/(V6*2.20462262185),0) | X6: 2709342 | Y6: 2916413 | Z6: =IFERROR(X6/(Y6*2.20462262185),0) | AA6: 2476496 | AB6: 2938960 | AC6: =IFERROR(AA6/(AB6*2.20462262185),0) | AD6: 4827676 | AE6: 5805366 | AF6: =IFERROR(AD6/(AE6*2.20462262185),0) | AG6: 6506436 | AH6: 7536668 | AI6: =IFERROR(AG6/(AH6*2.20462262185),0) | AJ6: 8658393 | AK6: 9973197 | AL6: =IFERROR(AJ6/(AK6*2.20462262185),0) | AM6: 5877662 | AN6: 6832235 | AO6: =IFERROR(AM6/(AN6*2.20462262185),0) | AP6: 5033829 | AQ6: 5619449 | AR6: =IFERROR(AP6/(AQ6*2.20462262185),0) | AS6: 5624437 | AT6: 6379487 | AU6: =IFERROR(AS6/(AT6*2.20462262185),0) | AV6: 5368993 | AW6: 5989321 | AX6: =IFERROR(AV6/(AW6*2.20462262185),0) | AY6: 1382695 | AZ6: 1267082 | BA6: =IFERROR(AY6/(AZ6*2.20462262185),0) | BB6: 803625 | BC6: 798092 | BD6: =IFERROR(BB6/(BC6*2.20462262185),0) | BE6: 4988375 | BF6: 5217522 | BG6: =IFERROR(BE6/(BF6*2.20462262185),0) | BH6: 4421404 | BI6: 4509344 | BJ6: =IFERROR(BH6/(BI6*2.20462262185),0) | BK6: 7591738 | BL6: 7827517 | BM6: =IFERROR(BK6/(BL6*2.20462262185),0) | BN6: 7029035 | BO6: 7987566 | BP6: =IFERROR(BN6/(BO6*2.20462262185),0) | BQ6: 3005597 | BR6: 3233558 | BS6: =IFERROR(BQ6/(BR6*2.20462262185),0) | BT6: 4868194 | BU6: 4680652 | BV6: =IFERROR(BT6/(BU6*2.20462262185),0) | BW6: 3594433 | BX6: 3264338 | BY6: =IFERROR(BW6/(BX6*2.20462262185),0) | BZ6: 1693460 | CA6: 1412376 | CB6: =IFERROR(BZ6/(CA6*2.20462262185),0) | CC6: 2724334 | CD6: 2754654 | CE6: =IFERROR(CC6/(CD6*2.20462262185),0) | CF6: 7041000 | CG6: 7266691 | CH6: =IFERROR(CF6/(CG6*2.20462262185),0) | CI6: 2791046 | CJ6: 2994321 | CK6: =IFERROR(CI6/(CJ6*2.20462262185),0) | CL6: 875441 | CM6: 980969 | CN6: =IFERROR(CL6/(CM6*2.20462262185),0) | CO6: 7128216 | CP6: 7595576 | CQ6: =IFERROR(CO6/(CP6*2.20462262185),0) | CR6: 4734537 | CS6: 5083716 | CT6: =IFERROR(CR6/(CS6*2.20462262185),0) | CU6: 3992321 | CV6: 4368773 | CW6: =IFERROR(CU6/(CV6*2.20462262185),0) | CX6: 8022066 | CY6: 8790940 | CZ6: =IFERROR(CX6/(CY6*2.20462262185),0) | DA6: 6202031 | DB6: 6526059 | DC6: =IFERROR(DA6/(DB6*2.20462262185),0) | DD6: 2638094 | DE6: 2902125 | DF6: =IFERROR(DD6/(DE6*2.20462262185),0) | DG6: 6226773 | DH6: 6877379 | DI6: =IFERROR(DG6/(DH6*2.20462262185),0) | DJ6: 1594900 | DK6: 1748123 | DL6: =IFERROR(DJ6/(DK6*2.20462262185),0) | DM6: 2154714 | DN6: 2208323 | DO6: =IFERROR(DM6/(DN6*2.20462262185),0) | DP6: 2955807 | DQ6: 2911338 | DR6: =IFERROR(DP6/(DQ6*2.20462262185),0) | DS6: 5062000 | DT6: 4932778 | DU6: =IFERROR(DS6/(DT6*2.20462262185),0) | DV6: 4200554 | DW6: 3992691 | DX6: =IFERROR(DV6/(DW6*2.20462262185),0) | DY6: 3312899 | DZ6: 3130717 | EA6: =IFERROR(DY6/(DZ6*2.20462262185),0) | EB6: 1201776 | EC6: 1278400 | ED6: =IFERROR(EB6/(EC6*2.20462262185),0) | EE6: 1119614 | EF6: 1050000 | EG6: =IFERROR(EE6/(EF6*2.20462262185),0) | EH6: 2111452 | EI6: 2077542 | EJ6: =IFERROR(EH6/(EI6*2.20462262185),0) | EK6: 2169168 | EL6: 1867326 | EM6: =IFERROR(EK6/(EL6*2.20462262185),0) | EN6: 346500 | EO6: 330000 | EP6: =IFERROR(EN6/(EO6*2.20462262185),0) | EQ6: 782155 | ER6: 616000 | ES6: =IFERROR(EQ6/(ER6*2.20462262185),0) | ET6: 972263 | EU6: 676092 | EV6: =IFERROR(ET6/(EU6*2.20462262185),0) | EW6: 2111937 | EX6: 1618216 | EY6: =IFERROR(EW6/(EX6*2.20462262185),0) | EZ6: 2129289 | FA6: 1553922 | FB6: =IFERROR(EZ6/(FA6*2.20462262185),0) | FC6: 1975101 | FD6: 1569595 | FE6: =IFERROR(FC6/(FD6*2.20462262185),0) | FF6: 2212208 | FG6: 1545266 | FH6: =IFERROR(FF6/(FG6*2.20462262185),0) | FI6: 1296463 | FJ6: 967960 | FK6: =IFERROR(FI6/(FJ6*2.20462262185),0) | FL6: 775884 | FM6: 647911 | FN6: =IFERROR(FL6/(FM6*2.20462262185),0) | FO6: 640862 | FP6: 474231 | FQ6: =IFERROR(FO6/(FP6*2.20462262185),0) | FR6: 51728 | FS6: 22497 | FT6: =IFERROR(FR6/(FS6*2.20462262185),0)
A7: Canada | B7: =SUM(I7,L7,O7,R7,U7,X7,AA7,AD7) | C7: =SUM(J7,M7,P7,S7,V7,Y7,AB7,AE7) | D7: =C7/1000000 | E7: =C7*2.20462262185/1000000 | F7: =IFERROR(B7/(C7/1000),0) | G7: =IFERROR(B7/(C7*2.20462262185),0) | I7: 8059982 | J7: 5684454 | K7: =IFERROR(I7/(J7*2.20462262185),0) | L7: 10864413 | M7: 7545163 | N7: =IFERROR(L7/(M7*2.20462262185),0) | O7: 5254210 | P7: 3881320 | Q7: =IFERROR(O7/(P7*2.20462262185),0) | R7: 9739550 | S7: 6548242 | T7: =IFERROR(R7/(S7*2.20462262185),0) | U7: 3470176 | V7: 2904265 | W7: =IFERROR(U7/(V7*2.20462262185),0) | X7: 7085482 | Y7: 5964586 | Z7: =IFERROR(X7/(Y7*2.20462262185),0) | AA7: 1538843 | AB7: 1385217 | AC7: =IFERROR(AA7/(AB7*2.20462262185),0) | AD7: 2890284 | AE7: 2647896 | AF7: =IFERROR(AD7/(AE7*2.20462262185),0) | AG7: 7700116 | AH7: 6916123 | AI7: =IFERROR(AG7/(AH7*2.20462262185),0) | AJ7: 3392129 | AK7: 2978368 | AL7: =IFERROR(AJ7/(AK7*2.20462262185),0) | AM7: 3382418 | AN7: 2967446 | AO7: =IFERROR(AM7/(AN7*2.20462262185),0) | AP7: 8645524 | AQ7: 7305795 | AR7: =IFERROR(AP7/(AQ7*2.20462262185),0) | AS7: 3145093 | AT7: 2479924 | AU7: =IFERROR(AS7/(AT7*2.20462262185),0) | AV7: 2484270 | AW7: 1944380 | AX7: =IFERROR(AV7/(AW7*2.20462262185),0) | AY7: 3706794 | AZ7: 2744630 | BA7: =IFERROR(AY7/(AZ7*2.20462262185),0) | BB7: 4396602 | BC7: 2768828 | BD7: =IFERROR(BB7/(BC7*2.20462262185),0) | BE7: 2044447 | BF7: 1536167 | BG7: =IFERROR(BE7/(BF7*2.20462262185),0) | BH7: 5363832 | BI7: 3947259 | BJ7: =IFERROR(BH7/(BI7*2.20462262185),0) | BK7: 2753998 | BL7: 2370483 | BM7: =IFERROR(BK7/(BL7*2.20462262185),0) | BN7: 2835099 | BO7: 2501426 | BP7: =IFERROR(BN7/(BO7*2.20462262185),0) | BQ7: 2233969 | BR7: 1813671 | BS7: =IFERROR(BQ7/(BR7*2.20462262185),0) | BT7: 3761710 | BU7: 3213566 | BV7: =IFERROR(BT7/(BU7*2.20462262185),0) | BW7: 8898406 | BX7: 7414015 | BY7: =IFERROR(BW7/(BX7*2.20462262185),0) | BZ7: 4332108 | CA7: 3252234 | CB7: =IFERROR(BZ7/(CA7*2.20462262185),0) | CC7: 8083077 | CD7: 6588902 | CE7: =IFERROR(CC7/(CD7*2.20462262185),0) | CF7: 2371918 | CG7: 2125793 | CH7: =IFERROR(CF7/(CG7*2.20462262185),0) | CI7: 3331477 | CJ7: 2801561 | CK7: =IFERROR(CI7/(CJ7*2.20462262185),0) | CL7: 6936500 | CM7: 5221543 | CN7: =IFERROR(CL7/(CM7*2.20462262185),0) | CO7: 4698826 | CP7: 3846568 | CQ7: =IFERROR(CO7/(CP7*2.20462262185),0) | CR7: 3791825 | CS7: 3252756 | CT7: =IFERROR(CR7/(CS7*2.20462262185),0) | CU7: 7016546 | CV7: 5768539 | CW7: =IFERROR(CU7/(CV7*2.20462262185),0) | CX7: 4614987 | CY7: 4050123 | CZ7: =IFERROR(CX7/(CY7*2.20462262185),0) | DA7: 6657706 | DB7: 5046942 | DC7: =IFERROR(DA7/(DB7*2.20462262185),0) | DD7: 9332328 | DE7: 6904495 | DF7: =IFERROR(DD7/(DE7*2.20462262185),0) | DG7: 5202728 | DH7: 4174774 | DI7: =IFERROR(DG7/(DH7*2.20462262185),0) | DJ7: 13867486 | DK7: 9166963 | DL7: =IFERROR(DJ7/(DK7*2.20462262185),0) | DM7: 8385877 | DN7: 4950447 | DO7: =IFERROR(DM7/(DN7*2.20462262185),0) | DP7: 11384759 | DQ7: 8147080 | DR7: =IFERROR(DP7/(DQ7*2.20462262185),0) | DS7: 4228243 | DT7: 3414586 | DU7: =IFERROR(DS7/(DT7*2.20462262185),0) | DV7: 13930239 | DW7: 9391203 | DX7: =IFERROR(DV7/(DW7*2.20462262185),0) | DY7: 5261117 | DZ7: 3851933 | EA7: =IFERROR(DY7/(DZ7*2.20462262185),0) | EB7: 13844211 | EC7: 8967733 | ED7: =IFERROR(EB7/(EC7*2.20462262185),0) | EE7: 8198861 | EF7: 5099031 | EG7: =IFERROR(EE7/(EF7*2.20462262185),0) | EH7: 7007872 | EI7: 4976314 | EJ7: =IFERROR(EH7/(EI7*2.20462262185),0) | EK7: 11475983 | EL7: 7500907 | EM7: =IFERROR(EK7/(EL7*2.20462262185),0) | EN7: 7640516 | EO7: 4376383 | EP7: =IFERROR(EN7/(EO7*2.20462262185),0) | EQ7: 12255084 | ER7: 7985524 | ES7: =IFERROR(EQ7/(ER7*2.20462262185),0) | ET7: 12406277 | EU7: 7753551 | EV7: =IFERROR(ET7/(EU7*2.20462262185),0) | EW7: 12126276 | EX7: 6334718 | EY7: =IFERROR(EW7/(EX7*2.20462262185),0) | EZ7: 9007585 | FA7: 4279989 | FB7: =IFERROR(EZ7/(FA7*2.20462262185),0) | FC7: 12938127 | FD7: 6663952 | FE7: =IFERROR(FC7/(FD7*2.20462262185),0) | FF7: 12400542 | FG7: 6504522 | FH7: =IFERROR(FF7/(FG7*2.20462262185),0) | FI7: 11050264 | FJ7: 5910203 | FK7: =IFERROR(FI7/(FJ7*2.20462262185),0) | FL7: 12295146 | FM7: 7290737 | FN7: =IFERROR(FL7/(FM7*2.20462262185),0) | FO7: 8547348 | FP7: 4583708 | FQ7: =IFERROR(FO7/(FP7*2.20462262185),0) | FR7: 9966179 | FS7: 6836551 | FT7: =IFERROR(FR7/(FS7*2.20462262185),0)
A8: Korea, South | B8: =SUM(I8,L8,O8,R8,U8,X8,AA8,AD8) | C8: =SUM(J8,M8,P8,S8,V8,Y8,AB8,AE8) | D8: =C8/1000000 | E8: =C8*2.20462262185/1000000 | F8: =IFERROR(B8/(C8/1000),0) | G8: =IFERROR(B8/(C8*2.20462262185),0) | I8: 2701526 | J8: 1859494 | K8: =IFERROR(I8/(J8*2.20462262185),0) | L8: 5492858 | M8: 3911019 | N8: =IFERROR(L8/(M8*2.20462262185),0) | O8: 8190790 | P8: 5935945 | Q8: =IFERROR(O8/(P8*2.20462262185),0) | R8: 6796721 | S8: 5011100 | T8: =IFERROR(R8/(S8*2.20462262185),0) | U8: 5117068 | V8: 5175139 | W8: =IFERROR(U8/(V8*2.20462262185),0) | X8: 4043321 | Y8: 4452656 | Z8: =IFERROR(X8/(Y8*2.20462262185),0) | AA8: 4112864 | AB8: 4692740 | AC8: =IFERROR(AA8/(AB8*2.20462262185),0) | AD8: 4277886 | AE8: 4755837 | AF8: =IFERROR(AD8/(AE8*2.20462262185),0) | AG8: 3151493 | AH8: 3388737 | AI8: =IFERROR(AG8/(AH8*2.20462262185),0) | AJ8: 912659 | AK8: 866700 | AL8: =IFERROR(AJ8/(AK8*2.20462262185),0) | AM8: 1718452 | AN8: 1809587 | AO8: =IFERROR(AM8/(AN8*2.20462262185),0) | AP8: 2891411 | AQ8: 3051800 | AR8: =IFERROR(AP8/(AQ8*2.20462262185),0) | AS8: 3089338 | AT8: 3229570 | AU8: =IFERROR(AS8/(AT8*2.20462262185),0) | AV8: 6120144 | AW8: 6372000 | AX8: =IFERROR(AV8/(AW8*2.20462262185),0) | AY8: 7161062 | AZ8: 7145820 | BA8: =IFERROR(AY8/(AZ8*2.20462262185),0) | BB8: 2477286 | BC8: 2563828 | BD8: =IFERROR(BB8/(BC8*2.20462262185),0) | BE8: 7447725 | BF8: 7333022 | BG8: =IFERROR(BE8/(BF8*2.20462262185),0) | BH8: 6672570 | BI8: 6167736 | BJ8: =IFERROR(BH8/(BI8*2.20462262185),0) | BK8: 4604077 | BL8: 4440720 | BM8: =IFERROR(BK8/(BL8*2.20462262185),0) | BN8: 5987565 | BO8: 6063360 | BP8: =IFERROR(BN8/(BO8*2.20462262185),0) | BQ8: 5450600 | BR8: 5146820 | BS8: =IFERROR(BQ8/(BR8*2.20462262185),0) | BT8: 3855834 | BU8: 3698002 | BV8: =IFERROR(BT8/(BU8*2.20462262185),0) | BW8: 3871892 | BX8: 3621472 | BY8: =IFERROR(BW8/(BX8*2.20462262185),0) | BZ8: 4870787 | CA8: 4321000 | CB8: =IFERROR(BZ8/(CA8*2.20462262185),0) | CC8: 4693304 | CD8: 3617147 | CE8: =IFERROR(CC8/(CD8*2.20462262185),0) | CF8: 7643138 | CG8: 6157752 | CH8: =IFERROR(CF8/(CG8*2.20462262185),0) | CI8: 6129556 | CJ8: 5480380 | CK8: =IFERROR(CI8/(CJ8*2.20462262185),0) | CL8: 5039890 | CM8: 4041460 | CN8: =IFERROR(CL8/(CM8*2.20462262185),0) | CO8: 6969570 | CP8: 6037252 | CQ8: =IFERROR(CO8/(CP8*2.20462262185),0) | CR8: 9692542 | CS8: 8346760 | CT8: =IFERROR(CR8/(CS8*2.20462262185),0) | CU8: 2954962 | CV8: 2756727 | CW8: =IFERROR(CU8/(CV8*2.20462262185),0) | CX8: 6870819 | CY8: 6432710 | CZ8: =IFERROR(CX8/(CY8*2.20462262185),0) | DA8: 6486013 | DB8: 5885732 | DC8: =IFERROR(DA8/(DB8*2.20462262185),0) | DD8: 8895241 | DE8: 8028190 | DF8: =IFERROR(DD8/(DE8*2.20462262185),0) | DG8: 7267282 | DH8: 6624468 | DI8: =IFERROR(DG8/(DH8*2.20462262185),0) | DJ8: 3937383 | DK8: 3531662 | DL8: =IFERROR(DJ8/(DK8*2.20462262185),0) | DM8: 6771488 | DN8: 6233530 | DO8: =IFERROR(DM8/(DN8*2.20462262185),0) | DP8: 9184574 | DQ8: 8618750 | DR8: =IFERROR(DP8/(DQ8*2.20462262185),0) | DS8: 10298264 | DT8: 9079233 | DU8: =IFERROR(DS8/(DT8*2.20462262185),0) | DV8: 12117693 | DW8: 10565019 | DX8: =IFERROR(DV8/(DW8*2.20462262185),0) | DY8: 9837984 | DZ8: 8522165 | EA8: =IFERROR(DY8/(DZ8*2.20462262185),0) | EB8: 5332062 | EC8: 4866563 | ED8: =IFERROR(EB8/(EC8*2.20462262185),0) | EE8: 6902948 | EF8: 6598373 | EG8: =IFERROR(EE8/(EF8*2.20462262185),0) | EH8: 7191089 | EI8: 6656844 | EJ8: =IFERROR(EH8/(EI8*2.20462262185),0) | EK8: 6912975 | EL8: 6256920 | EM8: =IFERROR(EK8/(EL8*2.20462262185),0) | EN8: 5376330 | EO8: 4693586 | EP8: =IFERROR(EN8/(EO8*2.20462262185),0) | EQ8: 1262588 | ER8: 1045928 | ES8: =IFERROR(EQ8/(ER8*2.20462262185),0) | ET8: 5359652 | EU8: 4192572 | EV8: =IFERROR(ET8/(EU8*2.20462262185),0) | EW8: 7110237 | EX8: 4842040 | EY8: =IFERROR(EW8/(EX8*2.20462262185),0) | EZ8: 3941960 | FA8: 2720220 | FB8: =IFERROR(EZ8/(FA8*2.20462262185),0) | FC8: 9821085 | FD8: 7235033 | FE8: =IFERROR(FC8/(FD8*2.20462262185),0) | FF8: 13301333 | FG8: 8683381 | FH8: =IFERROR(FF8/(FG8*2.20462262185),0) | FI8: 12484189 | FJ8: 8642222 | FK8: =IFERROR(FI8/(FJ8*2.20462262185),0) | FL8: 12665559 | FM8: 9116176 | FN8: =IFERROR(FL8/(FM8*2.20462262185),0) | FO8: 17101707 | FP8: 12039044 | FQ8: =IFERROR(FO8/(FP8*2.20462262185),0) | FR8: 7754563 | FS8: 5682300 | FT8: =IFERROR(FR8/(FS8*2.20462262185),0)
A9: Vietnam | B9: =SUM(I9,L9,O9,R9,U9,X9,AA9,AD9) | C9: =SUM(J9,M9,P9,S9,V9,Y9,AB9,AE9) | D9: =C9/1000000 | E9: =C9*2.20462262185/1000000 | F9: =IFERROR(B9/(C9/1000),0) | G9: =IFERROR(B9/(C9*2.20462262185),0) | I9: 1084660 | J9: 834000 | K9: =IFERROR(I9/(J9*2.20462262185),0) | L9: 9204547 | M9: 7313712 | N9: =IFERROR(L9/(M9*2.20462262185),0) | O9: 8998540 | P9: 7492350 | Q9: =IFERROR(O9/(P9*2.20462262185),0) | R9: 5689321 | S9: 5022338 | T9: =IFERROR(R9/(S9*2.20462262185),0) | U9: 3271307 | V9: 3577230 | W9: =IFERROR(U9/(V9*2.20462262185),0) | X9: 2130159 | Y9: 2564550 | Z9: =IFERROR(X9/(Y9*2.20462262185),0) | AA9: 2744140 | AB9: 3203600 | AC9: =IFERROR(AA9/(AB9*2.20462262185),0) | AD9: 515943 | AE9: 594449 | AF9: =IFERROR(AD9/(AE9*2.20462262185),0) | AG9: 3876034 | AH9: 4792550 | AI9: =IFERROR(AG9/(AH9*2.20462262185),0) | AJ9: 2684754 | AK9: 3221900 | AL9: =IFERROR(AJ9/(AK9*2.20462262185),0) | AM9: 3230277 | AN9: 3344000 | AO9: =IFERROR(AM9/(AN9*2.20462262185),0) | AP9: 2844776 | AQ9: 2882000 | AR9: =IFERROR(AP9/(AQ9*2.20462262185),0) | AS9: 887656 | AT9: 770000 | AU9: =IFERROR(AS9/(AT9*2.20462262185),0) | AV9: 1558700 | AW9: 1321000 | AX9: =IFERROR(AV9/(AW9*2.20462262185),0) | AY9: 619586 | AZ9: 660260 | BA9: =IFERROR(AY9/(AZ9*2.20462262185),0) | BB9: 297397 | BC9: 242000 | BD9: =IFERROR(BB9/(BC9*2.20462262185),0) | BE9: 926436 | BF9: 726000 | BG9: =IFERROR(BE9/(BF9*2.20462262185),0) | BH9: 1177498 | BI9: 1031750 | BJ9: =IFERROR(BH9/(BI9*2.20462262185),0) | BK9: 901208 | BL9: 968000 | BM9: =IFERROR(BK9/(BL9*2.20462262185),0) | BN9: 1007000 | BO9: 776600 | BP9: =IFERROR(BN9/(BO9*2.20462262185),0) | BQ9: 643452 | BR9: 440000 | BS9: =IFERROR(BQ9/(BR9*2.20462262185),0) | BT9: 2161364 | BU9: 1712352 | BV9: =IFERROR(BT9/(BU9*2.20462262185),0) | BW9: 3132280 | BX9: 2465500 | BY9: =IFERROR(BW9/(BX9*2.20462262185),0) | BZ9: 1164187 | CA9: 1167500 | CB9: =IFERROR(BZ9/(CA9*2.20462262185),0) | CC9: 1993662 | CD9: 2072063 | CE9: =IFERROR(CC9/(CD9*2.20462262185),0) | CF9: 1934658 | CG9: 1980000 | CH9: =IFERROR(CF9/(CG9*2.20462262185),0) | CI9: 2734784 | CJ9: 2411286 | CK9: =IFERROR(CI9/(CJ9*2.20462262185),0) | CL9: 301224 | CM9: 308000 | CN9: =IFERROR(CL9/(CM9*2.20462262185),0) | CO9: 2091628 | CP9: 2046000 | CQ9: =IFERROR(CO9/(CP9*2.20462262185),0) | CR9: 2581070 | CS9: 2553512 | CT9: =IFERROR(CR9/(CS9*2.20462262185),0) | CU9: 2768502 | CV9: 2640640 | CW9: =IFERROR(CU9/(CV9*2.20462262185),0) | CX9: 2190948 | CY9: 2174552 | CZ9: =IFERROR(CX9/(CY9*2.20462262185),0) | DA9: 1077340 | DB9: 987248 | DC9: =IFERROR(DA9/(DB9*2.20462262185),0) | DD9: 1374223 | DE9: 1248512 | DF9: =IFERROR(DD9/(DE9*2.20462262185),0) | DG9: 493452 | DH9: 454650 | DI9: =IFERROR(DG9/(DH9*2.20462262185),0) | DJ9: 2059587 | DK9: 1905150 | DL9: =IFERROR(DJ9/(DK9*2.20462262185),0) | DM9: 1013263 | DN9: 997600 | DO9: =IFERROR(DM9/(DN9*2.20462262185),0) | DP9: 3156157 | DQ9: 3019647 | DR9: =IFERROR(DP9/(DQ9*2.20462262185),0) | DS9: 2158794 | DT9: 1892000 | DU9: =IFERROR(DS9/(DT9*2.20462262185),0) | DV9: 2874189 | DW9: 2688972 | DX9: =IFERROR(DV9/(DW9*2.20462262185),0) | DY9: 1693092 | DZ9: 1621896 | EA9: =IFERROR(DY9/(DZ9*2.20462262185),0) | EB9: 3517012 | EC9: 3607072 | ED9: =IFERROR(EB9/(EC9*2.20462262185),0) | EE9: 3164302 | EF9: 2752273 | EG9: =IFERROR(EE9/(EF9*2.20462262185),0) | EH9: 4350131 | EI9: 4057800 | EJ9: =IFERROR(EH9/(EI9*2.20462262185),0) | EK9: 5520624 | EL9: 4982000 | EM9: =IFERROR(EK9/(EL9*2.20462262185),0) | EN9: 3554072 | EO9: 2948000 | EP9: =IFERROR(EN9/(EO9*2.20462262185),0) | EQ9: 5545741 | ER9: 4404280 | ES9: =IFERROR(EQ9/(ER9*2.20462262185),0) | ET9: 4859493 | EU9: 3407000 | EV9: =IFERROR(ET9/(EU9*2.20462262185),0) | EW9: 5675323 | EX9: 4202000 | EY9: =IFERROR(EW9/(EX9*2.20462262185),0) | EZ9: 5158316 | FA9: 3960000 | FB9: =IFERROR(EZ9/(FA9*2.20462262185),0) | FC9: 7868359 | FD9: 5909949 | FE9: =IFERROR(FC9/(FD9*2.20462262185),0) | FF9: 11224323 | FG9: 8272000 | FH9: =IFERROR(FF9/(FG9*2.20462262185),0) | FI9: 8759284 | FJ9: 6941000 | FK9: =IFERROR(FI9/(FJ9*2.20462262185),0) | FL9: 9741933 | FM9: 8077610 | FN9: =IFERROR(FL9/(FM9*2.20462262185),0) | FO9: 9063592 | FP9: 7514000 | FQ9: =IFERROR(FO9/(FP9*2.20462262185),0) | FR9: 8760705 | FS9: 7282000 | FT9: =IFERROR(FR9/(FS9*2.20462262185),0)
